Workbook

Sheet Ingredients
A1: Ingredients | B1: Natasha List Serving (g) | C1: Natasha Calorie Per Serving (g) | D1: Recipe Serving | E1: Recipe Serving Unit | F1: Density (g/serving unit) | G1: Calories Per Serving | H1: Shopping List | I1: Total Weight (g) | J1: Total Weight (kg) | K1: Final Units | L1: Final Units for Purchase | M1: Current Inventory (2018-04-15) | N1: Outstanding Quantity | O1: Store to Purchase | P1: Total Cost | Q1: 1 | R1: 2 | S1: 3 | T1: 4 | U1: 5 | V1: 6 | W1: 7
A2: Instant Rice | B2: 30 | C2: 310 | D2: 1 | E2: cup | F2: =45*2 -> 90 | G2: =160*2 -> 320 | H2: =SUMIF(Recipes!B:B,A2,Recipes!G:G) -> 17.5 | I2: =H2*F2 -> 1575 | J2: =I2/1000 -> 1.575 | K2: kg | L2: =IF(K2="g",CONCATENATE(I2," g"),IF(K2="kg",CONCATENATE(J2," kg"),CONCATENATE(H2," ",E2))) -> 1.575 kg | M2: 2.6 | N2: =IF(K2="g",CONCATENATE(ROUND(I2-M2,2)," g"),IF(K2="kg",CONCATENATE(ROUND(J2-M2,2)," kg"),CONCATENATE(ROUND(H2-M2,1)," x ",E2))) -> -1.03 kg | O2: =IFERROR(VLOOKUP(CONCATENATE(A2,"-","Y"),'Price Comparison'!$C$2:$E$101,3,FALSE),"TBC") -> TBC
A3: Foil Pack Tuna | B3: 85 | C3: 90 | D3: 1 | E3: package | F3: 85 | G3: 90 | H3: =SUMIF(Recipes!B:B,A3,Recipes!G:G) -> 17.5 | I3: =H3*F3 -> 1487.5 | J3: =I3/1000 -> 1.4875 | L3: =IF(K3="g",CONCATENATE(I3," g"),IF(K3="kg",CONCATENATE(J3," kg"),CONCATENATE(H3," ",E3))) -> 17.5 package | M3: =30-2-4 -> 24 | N3: =IF(K3="g",CONCATENATE(ROUND(I3-M3,2)," g"),IF(K3="kg",CONCATENATE(ROUND(J3-M3,2)," kg"),CONCATENATE(ROUND(H3-M3,1)," x ",E3))) -> -6.5 x package | O3: =IFERROR(VLOOKUP(CONCATENATE(A3,"-","Y"),'Price Comparison'!$C$2:$E$101,3,FALSE),"TBC") -> TBC | Q3: y | R3: y | S3: y | T3: y | U3: y | V3: y | W3: y | X3: We have an extra 4 tuna packages in place of 4 salmons
A4: Parmasan Cheese Flakes | B4: 15 | C4: 60 | D4: 1 | E4: tablespoon | F4: 15 | G4: 60 | H4: =SUMIF(Recipes!B:B,A4,Recipes!G:G) -> 65 | I4: =H4*F4 -> 975 | J4: =I4/1000 -> 0.975 | K4: g | L4: =IF(K4="g",CONCATENATE(I4," g"),IF(K4="kg",CONCATENATE(J4," kg"),CONCATENATE(H4," ",E4))) -> 975 g | M4: =250+680 -> 930 | N4: =IF(K4="g",CONCATENATE(ROUND(I4-M4,2)," g"),IF(K4="kg",CONCATENATE(ROUND(J4-M4,2)," kg"),CONCATENATE(ROUND(H4-M4,1)," x ",E4))) -> 45 g | O4: =IFERROR(VLOOKUP(CONCATENATE(A4,"-","Y"),'Price Comparison'!$C$2:$E$101,3,FALSE),"TBC") -> TBC | X4: Updated - 2018-04-21 after Costco trip
A5: Olive Oil | B5: 14 | C5: 121 | D5: 1 | E5: tablespoon | F5: 14 | G5: 120 | H5: =SUMIF(Recipes!B:B,A5,Recipes!G:G) -> 97 | I5: =H5*F5 -> 1358 | J5: =I5/1000 -> 1.358 | L5: =IF(K5="g",CONCATENATE(I5," g"),IF(K5="kg",CONCATENATE(J5," kg"),CONCATENATE(H5," ",E5))) -> 97 tablespoon | M5: =(3*750)*0.067628 -> 152.163 | N5: =IF(K5="g",CONCATENATE(ROUND(I5-M5,2)," g"),IF(K5="kg",CONCATENATE(ROUND(J5-M5,2)," kg"),CONCATENATE(ROUND(H5-M5,1)," x ",E5))) -> -55.2 x tablespoon | O5: =IFERROR(VLOOKUP(CONCATENATE(A5,"-","Y"),'Price Comparison'!$C$2:$E$101,3,FALSE),"TBC") -> TBC | X5: ~ 7 sections. 112 tablespoons ~ 1.6 L of olive oil total. So, that means ~ 7x 225 ml container
A6: Dehydrated Vegetables | D6: 1 | E6: package | G6: 140 | H6: =SUMIF(Recipes!B:B,A6,Recipes!G:G) -> 0 | I6: =H6*F6 -> 0 | J6: =I6/1000 -> 0 | L6: =IF(K6="g",CONCATENATE(I6," g"),IF(K6="kg",CONCATENATE(J6," kg"),CONCATENATE(H6," ",E6))) -> 0 package | M6: 0 | N6: =IF(K6="g",CONCATENATE(ROUND(I6-M6,2)," g"),IF(K6="kg",CONCATENATE(ROUND(J6-M6,2)," kg"),CONCATENATE(ROUND(H6-M6,1)," x ",E6))) -> 0 x package | O6: =IFERROR(VLOOKUP(CONCATENATE(A6,"-","Y"),'Price Comparison'!$C$2:$E$101,3,FALSE),"TBC") -> TBC | X6: No package. Check the cabinet above sink to confirm
A7: Peanuts | B7: 100 | C7: 567 | D7: 1 | E7: cup | F7: 150 | G7: 828 | H7: =SUMIF(Recipes!B:B,A7,Recipes!G:G) -> 2.1 | I7: =H7*F7 -> 315 | J7: =I7/1000 -> 0.315 | K7: g | L7: =IF(K7="g",CONCATENATE(I7," g"),IF(K7="kg",CONCATENATE(J7," kg"),CONCATENATE(H7," ",E7))) -> 315 g | M7: =190+150 -> 340 | N7: =IF(K7="g",CONCATENATE(ROUND(I7-M7,2)," g"),IF(K7="kg",CONCATENATE(ROUND(J7-M7,2)," kg"),CONCATENATE(ROUND(H7-M7,1)," x ",E7))) -> -25 g | O7: =IFERROR(VLOOKUP(CONCATENATE(A7,"-","Y"),'Price Comparison'!$C$2:$E$101,3,FALSE),"TBC") -> TBC
A8: Instant Potato | D8: 1 | E8: cup | F8: =27*2 -> 54 | G8: =100*2 -> 200 | H8: =SUMIF(Recipes!B:B,A8,Recipes!G:G) -> 0 | I8: =H8*F8 -> 0 | J8: =I8/1000 -> 0 | K8: g | L8: =IF(K8="g",CONCATENATE(I8," g"),IF(K8="kg",CONCATENATE(J8," kg"),CONCATENATE(H8," ",E8))) -> 0 g | M8: 0 | N8: =IF(K8="g",CONCATENATE(ROUND(I8-M8,2)," g"),IF(K8="kg",CONCATENATE(ROUND(J8-M8,2)," kg"),CONCATENATE(ROUND(H8-M8,1)," x ",E8))) -> 0 g | O8: =IFERROR(VLOOKUP(CONCATENATE(A8,"-","Y"),'Price Comparison'!$C$2:$E$101,3,FALSE),"TBC") -> TBC
A9: Rice Vermicelli Noodles | B9: 75 | C9: 280 | D9: 1 | E9: Brick of noodles (1/5 of package) | F9: 45 | G9: 168 | H9: =SUMIF(Recipes!B:B,A9,Recipes!G:G) -> 109 | I9: =H9*F9 -> 4905 | J9: =I9/1000 -> 4.905 | L9: =IF(K9="g",CONCATENATE(I9," g"),IF(K9="kg",CONCATENATE(J9," kg"),CONCATENATE(H9," ",E9))) -> 109 Brick of noodles (1/5 of package) | M9: =6+(11*5)+10*5 -> 111 | N9: =IF(K9="g",CONCATENATE(ROUND(I9-M9,2)," g"),IF(K9="kg",CONCATENATE(ROUND(J9-M9,2)," kg"),CONCATENATE(ROUND(H9-M9,1)," x ",E9))) -> -2 x Brick of noodles (1/5 of package) | O9: =IFERROR(VLOOKUP(CONCATENATE(A9,"-","Y"),'Price Comparison'!$C$2:$E$101,3,FALSE),"TBC") -> TBC
A10: Whole Milk Powder | B10: 30 | C10: 160 | D10: 1 | E10: tablespoon | F10: =ROUND(30/3,1) -> 10 | G10: =ROUND(160/3,1) -> 53.3 | H10: =SUMIF(Recipes!B:B,A10,Recipes!G:G) -> 57 | I10: =H10*F10 -> 570 | J10: =I10/1000 -> 0.57 | K10: g | L10: =IF(K10="g",CONCATENATE(I10," g"),IF(K10="kg",CONCATENATE(J10," kg"),CONCATENATE(H10," ",E10))) -> 570 g | M10: =500+500 -> 1000 | N10: =IF(K10="g",CONCATENATE(ROUND(I10-M10,2)," g"),IF(K10="kg",CONCATENATE(ROUND(J10-M10,2)," kg"),CONCATENATE(ROUND(H10-M10,1)," x ",E10))) -> -430 g | O10: =IFERROR(VLOOKUP(CONCATENATE(A10,"-","Y"),'Price Comparison'!$C$2:$E$101,3,FALSE),"TBC") -> TBC | Q10: y | R10: y | S10: y | T10: y | U10: y | V10: y | W10: y
A11: Cheese Powder | D11: 1 | E11: tablespoon | H11: =SUMIF(Recipes!B:B,A11,Recipes!G:G) -> 0 | I11: =H11*F11 -> 0 | J11: =I11/1000 -> 0 | L11: =IF(K11="g",CONCATENATE(I11," g"),IF(K11="kg",CONCATENATE(J11," kg"),CONCATENATE(H11," ",E11))) -> 0 tablespoon | M11: 0 | N11: =IF(K11="g",CONCATENATE(ROUND(I11-M11,2)," g"),IF(K11="kg",CONCATENATE(ROUND(J11-M11,2)," kg"),CONCATENATE(ROUND(H11-M11,1)," x ",E11))) -> 0 x tablespoon | O11: =IFERROR(VLOOKUP(CONCATENATE(A11,"-","Y"),'Price Comparison'!$C$2:$E$101,3,FALSE),"TBC") -> TBC
A12: Foil Pack Chicken | D12: 1 | E12: package | G12: =70*4 -> 280 | H12: =SUMIF(Recipes!B:B,A12,Recipes!G:G) -> 0 | I12: =H12*F12 -> 0 | J12: =I12/1000 -> 0 | L12: =IF(K12="g",CONCATENATE(I12," g"),IF(K12="kg",CONCATENATE(J12," kg"),CONCATENATE(H12," ",E12))) -> 0 package | M12: 0 | N12: =IF(K12="g",CONCATENATE(ROUND(I12-M12,2)," g"),IF(K12="kg",CONCATENATE(ROUND(J12-M12,2)," kg"),CONCATENATE(ROUND(H12-M12,1)," x ",E12))) -> 0 x package | O12: =IFERROR(VLOOKUP(CONCATENATE(A12,"-","Y"),'Price Comparison'!$C$2:$E$101,3,FALSE),"TBC") -> TBC
A13: Curry Spice | D13: 1 | E13: tablespoon | G13: 20 | H13: =SUMIF(Recipes!B:B,A13,Recipes!G:G) -> 0 | I13: =H13*F13 -> 0 | J13: =I13/1000 -> 0 | L13: =IF(K13="g",CONCATENATE(I13," g"),IF(K13="kg",CONCATENATE(J13," kg"),CONCATENATE(H13," ",E13))) -> 0 tablespoon | M13: 0 | N13: =IF(K13="g",CONCATENATE(ROUND(I13-M13,2)," g"),IF(K13="kg",CONCATENATE(ROUND(J13-M13,2)," kg"),CONCATENATE(ROUND(H13-M13,1)," x ",E13))) -> 0 x tablespoon | O13: =IFERROR(VLOOKUP(CONCATENATE(A13,"-","Y"),'Price Comparison'!$C$2:$E$101,3,FALSE),"TBC") -> TBC
A14: Chocolate Almonds | D14: 1 | E14: cup | G14: 230 | H14: =SUMIF(Recipes!B:B,A14,Recipes!G:G) -> 0 | I14: =H14*F14 -> 0 | J14: =I14/1000 -> 0 | L14: =IF(K14="g",CONCATENATE(I14," g"),IF(K14="kg",CONCATENATE(J14," kg"),CONCATENATE(H14," ",E14))) -> 0 cup | M14: 0 | N14: =IF(K14="g",CONCATENATE(ROUND(I14-M14,2)," g"),IF(K14="kg",CONCATENATE(ROUND(J14-M14,2)," kg"),CONCATENATE(ROUND(H14-M14,1)," x ",E14))) -> 0 x cup | O14: =IFERROR(VLOOKUP(CONCATENATE(A14,"-","Y"),'Price Comparison'!$C$2:$E$101,3,FALSE),"TBC") -> TBC
A15: Chicken Broth | D15: 1 | E15: cube | G15: 30 | H15: =SUMIF(Recipes!B:B,A15,Recipes!G:G) -> 0 | I15: =H15*F15 -> 0 | J15: =I15/1000 -> 0 | L15: =IF(K15="g",CONCATENATE(I15," g"),IF(K15="kg",CONCATENATE(J15," kg"),CONCATENATE(H15," ",E15))) -> 0 cube | M15: 0 | N15: =IF(K15="g",CONCATENATE(ROUND(I15-M15,2)," g"),IF(K15="kg",CONCATENATE(ROUND(J15-M15,2)," kg"),CONCATENATE(ROUND(H15-M15,1)," x ",E15))) -> 0 x cube | O15: =IFERROR(VLOOKUP(CONCATENATE(A15,"-","Y"),'Price Comparison'!$C$2:$E$101,3,FALSE),"TBC") -> TBC
A16: Dehydrated Onion | D16: 1 | E16: tablespoon | G16: 17 | H16: =SUMIF(Recipes!B:B,A16,Recipes!G:G) -> 0 | I16: =H16*F16 -> 0 | J16: =I16/1000 -> 0 | L16: =IF(K16="g",CONCATENATE(I16," g"),IF(K16="kg",CONCATENATE(J16," kg"),CONCATENATE(H16," ",E16))) -> 0 tablespoon | M16: 0 | N16: =IF(K16="g",CONCATENATE(ROUND(I16-M16,2)," g"),IF(K16="kg",CONCATENATE(ROUND(J16-M16,2)," kg"),CONCATENATE(ROUND(H16-M16,1)," x ",E16))) -> 0 x tablespoon | O16: =IFERROR(VLOOKUP(CONCATENATE(A16,"-","Y"),'Price Comparison'!$C$2:$E$101,3,FALSE),"TBC") -> TBC
A17: Foil Pack Salmon | D17: 1 | E17: package | F17: 100 | G17: 200 | H17: =SUMIF(Recipes!B:B,A17,Recipes!G:G) -> 9 | I17: =H17*F17 -> 900 | J17: =I17/1000 -> 0.9 | L17: =IF(K17="g",CONCATENATE(I17," g"),IF(K17="kg",CONCATENATE(J17," kg"),CONCATENATE(H17," ",E17))) -> 9 package | M17: =1+5+4 -> 10 | N17: =IF(K17="g",CONCATENATE(ROUND(I17-M17,2)," g"),IF(K17="kg",CONCATENATE(ROUND(J17-M17,2)," kg"),CONCATENATE(ROUND(H17-M17,1)," x ",E17))) -> -1 x package | O17: =IFERROR(VLOOKUP(CONCATENATE(A17,"-","Y"),'Price Comparison'!$C$2:$E$101,3,FALSE),"TBC") -> MEC | Q17: y | R17: y | S17: y | T17: y | U17: y | V17: y | W17: y
A18: Tortilla (Wrap) | D18: 1 | E18: piece | G18: 90 | H18: =SUMIF(Recipes!B:B,A18,Recipes!G:G) -> 0 | I18: =H18*F18 -> 0 | J18: =I18/1000 -> 0 | L18: =IF(K18="g",CONCATENATE(I18," g"),IF(K18="kg",CONCATENATE(J18," kg"),CONCATENATE(H18," ",E18))) -> 0 piece | M18: 0 | N18: =IF(K18="g",CONCATENATE(ROUND(I18-M18,2)," g"),IF(K18="kg",CONCATENATE(ROUND(J18-M18,2)," kg"),CONCATENATE(ROUND(H18-M18,1)," x ",E18))) -> 0 x piece | O18: =IFERROR(VLOOKUP(CONCATENATE(A18,"-","Y"),'Price Comparison'!$C$2:$E$101,3,FALSE),"TBC") -> TBC
A19: Peanut Butter | B19: 100 | C19: 587 | D19: 1 | E19: tablespoon | F19: 15 | G19: 90 | H19: =SUMIF(Recipes!B:B,A19,Recipes!G:G) -> 316 | I19: =H19*F19 -> 4740 | J19: =I19/1000 -> 4.74 | K19: kg | L19: =IF(K19="g",CONCATENATE(I19," g"),IF(K19="kg",CONCATENATE(J19," kg"),CONCATENATE(H19," ",E19))) -> 4.74 kg | M19: =7*0.75 -> 5.25 | N19: =IF(K19="g",CONCATENATE(ROUND(I19-M19,2)," g"),IF(K19="kg",CONCATENATE(ROUND(J19-M19,2)," kg"),CONCATENATE(ROUND(H19-M19,1)," x ",E19))) -> -0.51 kg | O19: =IFERROR(VLOOKUP(CONCATENATE(A19,"-","Y"),'Price Comparison'!$C$2:$E$101,3,FALSE),"TBC") -> TBC | Q19: y | R19: y | S19: y | T19: y | U19: y | V19: y | W19: y | X19: Equates to roughly 7x750 g containers.
A20: Dried cranberries | D20: 1 | E20: tablespoon | G20: 7 | H20: =SUMIF(Recipes!B:B,A20,Recipes!G:G) -> 0 | I20: =H20*F20 -> 0 | J20: =I20/1000 -> 0 | L20: =IF(K20="g",CONCATENATE(I20," g"),IF(K20="kg",CONCATENATE(J20," kg"),CONCATENATE(H20," ",E20))) -> 0 tablespoon | M20: 0 | N20: =IF(K20="g",CONCATENATE(ROUND(I20-M20,2)," g"),IF(K20="kg",CONCATENATE(ROUND(J20-M20,2)," kg"),CONCATENATE(ROUND(H20-M20,1)," x ",E20))) -> 0 x tablespoon | O20: =IFERROR(VLOOKUP(CONCATENATE(A20,"-","Y"),'Price Comparison'!$C$2:$E$101,3,FALSE),"TBC") -> TBC
A21: Chocolate Chips | D21: 1 | E21: tablespoon | G21: 80 | H21: =SUMIF(Recipes!B:B,A21,Recipes!G:G) -> 0 | I21: =H21*F21 -> 0 | J21: =I21/1000 -> 0 | L21: =IF(K21="g",CONCATENATE(I21," g"),IF(K21="kg",CONCATENATE(J21," kg"),CONCATENATE(H21," ",E21))) -> 0 tablespoon | M21: 0 | N21: =IF(K21="g",CONCATENATE(ROUND(I21-M21,2)," g"),IF(K21="kg",CONCATENATE(ROUND(J21-M21,2)," kg"),CONCATENATE(ROUND(H21-M21,1)," x ",E21))) -> 0 x tablespoon | O21: =IFERROR(VLOOKUP(CONCATENATE(A21,"-","Y"),'Price Comparison'!$C$2:$E$101,3,FALSE),"TBC") -> TBC
A22: Sausage | B22: 100 | C22: 426 | D22: 1 | E22: piece | F22: 100 | G22: 426 | H22: =SUMIF(Recipes!B:B,A22,Recipes!G:G) -> 49 | I22: =H22*F22 -> 4900 | J22: =I22/1000 -> 4.9 | K22: kg | L22: =IF(K22="g",CONCATENATE(I22," g"),IF(K22="kg",CONCATENATE(J22," kg"),CONCATENATE(H22," ",E22))) -> 4.9 kg | M22: 0 | N22: =IF(K22="g",CONCATENATE(ROUND(I22-M22,2)," g"),IF(K22="kg",CONCATENATE(ROUND(J22-M22,2)," kg"),CONCATENATE(ROUND(H22-M22,1)," x ",E22))) -> 4.9 kg | O22: =IFERROR(VLOOKUP(CONCATENATE(A22,"-","Y"),'Price Comparison'!$C$2:$E$101,3,FALSE),"TBC") -> TBC | X22: 5 packages of 600 grams each; Frebeys. Intended to replace beef jerkey
A23: Aged Cheddar Cheese | B23: 30 | C23: 120 | D23: 1 | E23: piece | F23: 30 | G23: 120 | H23: =SUMIF(Recipes!B:B,A23,Recipes!G:G) -> 35 | I23: =H23*F23 -> 1050 | J23: =I23/1000 -> 1.05 | K23: kg | L23: =IF(K23="g",CONCATENATE(I23," g"),IF(K23="kg",CONCATENATE(J23," kg"),CONCATENATE(H23," ",E23))) -> 1.05 kg | M23: 0 | N23: =IF(K23="g",CONCATENATE(ROUND(I23-M23,2)," g"),IF(K23="kg",CONCATENATE(ROUND(J23-M23,2)," kg"),CONCATENATE(ROUND(H23-M23,1)," x ",E23))) -> 1.05 kg | O23: =IFERROR(VLOOKUP(CONCATENATE(A23,"-","Y"),'Price Comparison'!$C$2:$E$101,3,FALSE),"TBC") -> TBC
A24: Oatmeal | D24: 1 | E24: cup | G24: 339 | H24: =SUMIF(Recipes!B:B,A24,Recipes!G:G) -> 0 | I24: =H24*F24 -> 0 | J24: =I24/1000 -> 0 | L24: =IF(K24="g",CONCATENATE(I24," g"),IF(K24="kg",CONCATENATE(J24," kg"),CONCATENATE(H24," ",E24))) -> 0 cup | M24: 0 | N24: =IF(K24="g",CONCATENATE(ROUND(I24-M24,2)," g"),IF(K24="kg",CONCATENATE(ROUND(J24-M24,2)," kg"),CONCATENATE(ROUND(H24-M24,1)," x ",E24))) -> 0 x cup | O24: =IFERROR(VLOOKUP(CONCATENATE(A24,"-","Y"),'Price Comparison'!$C$2:$E$101,3,FALSE),"TBC") -> TBC
A25: Banana Chips | D25: 1 | E25: tablespoon | G25: =218/2 -> 109 | H25: =SUMIF(Recipes!B:B,A25,Recipes!G:G) -> 0 | I25: =H25*F25 -> 0 | J25: =I25/1000 -> 0 | L25: =IF(K25="g",CONCATENATE(I25," g"),IF(K25="kg",CONCATENATE(J25," kg"),CONCATENATE(H25," ",E25))) -> 0 tablespoon | M25: 0 | N25: =IF(K25="g",CONCATENATE(ROUND(I25-M25,2)," g"),IF(K25="kg",CONCATENATE(ROUND(J25-M25,2)," kg"),CONCATENATE(ROUND(H25-M25,1)," x ",E25))) -> 0 x tablespoon | O25: =IFERROR(VLOOKUP(CONCATENATE(A25,"-","Y"),'Price Comparison'!$C$2:$E$101,3,FALSE),"TBC") -> TBC
A26: Brown sugar | D26: 1 | E26: tablespoon | G26: 52 | H26: =SUMIF(Recipes!B:B,A26,Recipes!G:G) -> 0 | I26: =H26*F26 -> 0 | J26: =I26/1000 -> 0 | L26: =IF(K26="g",CONCATENATE(I26," g"),IF(K26="kg",CONCATENATE(J26," kg"),CONCATENATE(H26," ",E26))) -> 0 tablespoon | M26: 0 | N26: =IF(K26="g",CONCATENATE(ROUND(I26-M26,2)," g"),IF(K26="kg",CONCATENATE(ROUND(J26-M26,2)," kg"),CONCATENATE(ROUND(H26-M26,1)," x ",E26))) -> 0 x tablespoon | O26: =IFERROR(VLOOKUP(CONCATENATE(A26,"-","Y"),'Price Comparison'!$C$2:$E$101,3,FALSE),"TBC") -> TBC
A27: Tortilla (Chips) | D27: 1 | E27: cup | G27: 293 | H27: =SUMIF(Recipes!B:B,A27,Recipes!G:G) -> 0 | I27: =H27*F27 -> 0 | J27: =I27/1000 -> 0 | L27: =IF(K27="g",CONCATENATE(I27," g"),IF(K27="kg",CONCATENATE(J27," kg"),CONCATENATE(H27," ",E27))) -> 0 cup | M27: 0 | N27: =IF(K27="g",CONCATENATE(ROUND(I27-M27,2)," g"),IF(K27="kg",CONCATENATE(ROUND(J27-M27,2)," kg"),CONCATENATE(ROUND(H27-M27,1)," x ",E27))) -> 0 x cup | O27: =IFERROR(VLOOKUP(CONCATENATE(A27,"-","Y"),'Price Comparison'!$C$2:$E$101,3,FALSE),"TBC") -> TBC
A28: Dehydrated Hummus | D28: 1 | E28: tablespoon | G28: =45/2 -> 22.5 | H28: =SUMIF(Recipes!B:B,A28,Recipes!G:G) -> 0 | I28: =H28*F28 -> 0 | J28: =I28/1000 -> 0 | L28: =IF(K28="g",CONCATENATE(I28," g"),IF(K28="kg",CONCATENATE(J28," kg"),CONCATENATE(H28," ",E28))) -> 0 tablespoon | M28: 0 | N28: =IF(K28="g",CONCATENATE(ROUND(I28-M28,2)," g"),IF(K28="kg",CONCATENATE(ROUND(J28-M28,2)," kg"),CONCATENATE(ROUND(H28-M28,1)," x ",E28))) -> 0 x tablespoon | O28: =IFERROR(VLOOKUP(CONCATENATE(A28,"-","Y"),'Price Comparison'!$C$2:$E$101,3,FALSE),"TBC") -> TBC | Y28: Oh Henry | Z28: Cookies and Cream | AA28: Snickers
A29: Snickers Bar | B29: 52 | C29: 250 | D29: 1 | E29: bar | F29: 52 | G29: 250 | H29: =SUMIF(Recipes!B:B,A29,Recipes!G:G) -> 94 | I29: =H29*F29 -> 4888 | J29: =I29/1000 -> 4.888 | L29: =IF(K29="g",CONCATENATE(I29," g"),IF(K29="kg",CONCATENATE(J29," kg"),CONCATENATE(H29," ",E29))) -> 94 bar | M29: =SUM(Y29:AA29) -> 116 | N29: =IF(K29="g",CONCATENATE(ROUND(I29-M29,2)," g"),IF(K29="kg",CONCATENATE(ROUND(J29-M29,2)," kg"),CONCATENATE(ROUND(H29-M29,1)," x ",E29))) -> -22 x bar | O29: =IFERROR(VLOOKUP(CONCATENATE(A29,"-","Y"),'Price Comparison'!$C$2:$E$101,3,FALSE),"TBC") -> Superstore | Q29: y | R29: y | S29: y | T29: y | U29: y | V29: y | W29: y | X29: Not just snickers. Kyle will get all the Snickers he needs, but Natasha will supplement with other bars | Y29: 0 | Z29: 0 | AA29: =7*16+4 -> 116
A30: Cashews | D30: 1 | E30: cup | G30: 754 | H30: =SUMIF(Recipes!B:B,A30,Recipes!G:G) -> 0 | I30: =H30*F30 -> 0 | J30: =I30/1000 -> 0 | L30: =IF(K30="g",CONCATENATE(I30," g"),IF(K30="kg",CONCATENATE(J30," kg"),CONCATENATE(H30," ",E30))) -> 0 cup | M30: 0 | N30: =IF(K30="g",CONCATENATE(ROUND(I30-M30,2)," g"),IF(K30="kg",CONCATENATE(ROUND(J30-M30,2)," kg"),CONCATENATE(ROUND(H30-M30,1)," x ",E30))) -> 0 x cup | O30: =IFERROR(VLOOKUP(CONCATENATE(A30,"-","Y"),'Price Comparison'!$C$2:$E$101,3,FALSE),"TBC") -> TBC
A31: Annies Rice Pasta and Mac and Cheese | D31: 1 | E31: package | G31: 230 | H31: =SUMIF(Recipes!B:B,A31,Recipes!G:G) -> 0 | I31: =H31*F31 -> 0 | J31: =I31/1000 -> 0 | L31: =IF(K31="g",CONCATENATE(I31," g"),IF(K31="kg",CONCATENATE(J31," kg"),CONCATENATE(H31," ",E31))) -> 0 package | M31: 0 | N31: =IF(K31="g",CONCATENATE(ROUND(I31-M31,2)," g"),IF(K31="kg",CONCATENATE(ROUND(J31-M31,2)," kg"),CONCATENATE(ROUND(H31-M31,1)," x ",E31))) -> 0 x package | O31: =IFERROR(VLOOKUP(CONCATENATE(A31,"-","Y"),'Price Comparison'!$C$2:$E$101,3,FALSE),"TBC") -> TBC
A32: Bacon Bits | D32: 1 | E32: tablespoon | F32: 7 | G32: 30 | H32: =SUMIF(Recipes!B:B,A32,Recipes!G:G) -> 0 | I32: =H32*F32 -> 0 | J32: =I32/1000 -> 0 | L32: =IF(K32="g",CONCATENATE(I32," g"),IF(K32="kg",CONCATENATE(J32," kg"),CONCATENATE(H32," ",E32))) -> 0 tablespoon | N32: =IF(K32="g",CONCATENATE(ROUND(I32-M32,2)," g"),IF(K32="kg",CONCATENATE(ROUND(J32-M32,2)," kg"),CONCATENATE(ROUND(H32-M32,1)," x ",E32))) -> 0 x tablespoon | O32: =IFERROR(VLOOKUP(CONCATENATE(A32,"-","Y"),'Price Comparison'!$C$2:$E$101,3,FALSE),"TBC") -> TBC | Y32: Beef Jerkey
A33: Beef Jerky | B33: 100 | C33: 410 | D33: 1 | E33: 3 pieces | F33: 20 | G33: 50 | H33: =SUMIF(Recipes!B:B,A33,Recipes!G:G) -> 209 | I33: =H33*F33 -> 4180 | J33: =I33/1000 -> 4.18 | K33: g | L33: =IF(K33="g",CONCATENATE(I33," g"),IF(K33="kg",CONCATENATE(J33," kg"),CONCATENATE(H33," ",E33))) -> 4180 g | M33: =0.9+3+0.25 -> 4.15 | N33: =IF(K33="g",CONCATENATE(ROUND(I33-M33,2)," g"),IF(K33="kg",CONCATENATE(ROUND(J33-M33,2)," kg"),CONCATENATE(ROUND(H33-M33,1)," x ",E33))) -> 4175.85 g | O33: =IFERROR(VLOOKUP(CONCATENATE(A33,"-","Y"),'Price Comparison'!$C$2:$E$101,3,FALSE),"TBC") -> TBC | Q33: y | R33: y | S33: y | T33: y | U33: y | V33: y | W33: y | X33: Updated - 2018-04-21 after Costco trip | Y33: 0.9
A34: Couscous | D34: 1 | E34: cup | G34: =180*3 -> 540 | H34: =SUMIF(Recipes!B:B,A34,Recipes!G:G) -> 0 | I34: =H34*F34 -> 0 | J34: =I34/1000 -> 0 | L34: =IF(K34="g",CONCATENATE(I34," g"),IF(K34="kg",CONCATENATE(J34," kg"),CONCATENATE(H34," ",E34))) -> 0 cup | M34: 0 | N34: =IF(K34="g",CONCATENATE(ROUND(I34-M34,2)," g"),IF(K34="kg",CONCATENATE(ROUND(J34-M34,2)," kg"),CONCATENATE(ROUND(H34-M34,1)," x ",E34))) -> 0 x cup | O34: =IFERROR(VLOOKUP(CONCATENATE(A34,"-","Y"),'Price Comparison'!$C$2:$E$101,3,FALSE),"TBC") -> TBC
A35: Chicken Gravy | D35: 1 | E35: 1/4 package | G35: 20 | H35: =SUMIF(Recipes!B:B,A35,Recipes!G:G) -> 0 | I35: =H35*F35 -> 0 | J35: =I35/1000 -> 0 | L35: =IF(K35="g",CONCATENATE(I35," g"),IF(K35="kg",CONCATENATE(J35," kg"),CONCATENATE(H35," ",E35))) -> 0 1/4 package | M35: 0 | N35: =IF(K35="g",CONCATENATE(ROUND(I35-M35,2)," g"),IF(K35="kg",CONCATENATE(ROUND(J35-M35,2)," kg"),CONCATENATE(ROUND(H35-M35,1)," x ",E35))) -> 0 x 1/4 package | O35: =IFERROR(VLOOKUP(CONCATENATE(A35,"-","Y"),'Price Comparison'!$C$2:$E$101,3,FALSE),"TBC") -> TBC
A36: Rice Ramen Noodle and Miso | D36: 1 | E36: package (cup) | G36: 280 | H36: =SUMIF(Recipes!B:B,A36,Recipes!G:G) -> 0 | I36: =H36*F36 -> 0 | J36: =I36/1000 -> 0 | L36: =IF(K36="g",CONCATENATE(I36," g"),IF(K36="kg",CONCATENATE(J36," kg"),CONCATENATE(H36," ",E36))) -> 0 package (cup) | M36: 0 | N36: =IF(K36="g",CONCATENATE(ROUND(I36-M36,2)," g"),IF(K36="kg",CONCATENATE(ROUND(J36-M36,2)," kg"),CONCATENATE(ROUND(H36-M36,1)," x ",E36))) -> 0 x package (cup) | O36: =IFERROR(VLOOKUP(CONCATENATE(A36,"-","Y"),'Price Comparison'!$C$2:$E$101,3,FALSE),"TBC") -> TBC
A37: Dried Mango | D37: 1 | E37: piece | G37: 16 | H37: =SUMIF(Recipes!B:B,A37,Recipes!G:G) -> 0 | I37: =H37*F37 -> 0 | J37: =I37/1000 -> 0 | L37: =IF(K37="g",CONCATENATE(I37," g"),IF(K37="kg",CONCATENATE(J37," kg"),CONCATENATE(H37," ",E37))) -> 0 piece | M37: 0 | N37: =IF(K37="g",CONCATENATE(ROUND(I37-M37,2)," g"),IF(K37="kg",CONCATENATE(ROUND(J37-M37,2)," kg"),CONCATENATE(ROUND(H37-M37,1)," x ",E37))) -> 0 x piece | O37: =IFERROR(VLOOKUP(CONCATENATE(A37,"-","Y"),'Price Comparison'!$C$2:$E$101,3,FALSE),"TBC") -> TBC
A38: Nothing/ Zero | D38: 1 | E38: piece | G38: 0 | H38: =SUMIF(Recipes!B:B,A38,Recipes!G:G) -> 0 | I38: =H38*F38 -> 0 | J38: =I38/1000 -> 0 | L38: =IF(K38="g",CONCATENATE(I38," g"),IF(K38="kg",CONCATENATE(J38," kg"),CONCATENATE(H38," ",E38))) -> 0 piece | M38: 0 | N38: =IF(K38="g",CONCATENATE(ROUND(I38-M38,2)," g"),IF(K38="kg",CONCATENATE(ROUND(J38-M38,2)," kg"),CONCATENATE(ROUND(H38-M38,1)," x ",E38))) -> 0 x piece | O38: =IFERROR(VLOOKUP(CONCATENATE(A38,"-","Y"),'Price Comparison'!$C$2:$E$101,3,FALSE),"TBC") -> TBC
A39: Gummy Bears | B39: 39 | C39: 140 | D39: 1 | E39: piece | F39: 2.5 | G39: 9 | H39: =SUMIF(Recipes!B:B,A39,Recipes!G:G) -> 225 | I39: =H39*F39 -> 562.5 | J39: =I39/1000 -> 0.5625 | K39: g | L39: =IF(K39="g",CONCATENATE(I39," g"),IF(K39="kg",CONCATENATE(J39," kg"),CONCATENATE(H39," ",E39))) -> 562.5 g | M39: =300+(185*2) -> 670 | N39: =IF(K39="g",CONCATENATE(ROUND(I39-M39,2)," g"),IF(K39="kg",CONCATENATE(ROUND(J39-M39,2)," kg"),CONCATENATE(ROUND(H39-M39,1)," x ",E39))) -> -107.5 g | O39: =IFERROR(VLOOKUP(CONCATENATE(A39,"-","Y"),'Price Comparison'!$C$2:$E$101,3,FALSE),"TBC") -> TBC | Q39: y | R39: y | S39: y | T39: y | U39: y | V39: y | W39: y
A40: Dehydrated Chicken | D40: 1 | E40: package (35 g) | G40: 90 | H40: =SUMIF(Recipes!B:B,A40,Recipes!G:G) -> 0 | I40: =H40*F40 -> 0 | J40: =I40/1000 -> 0 | L40: =IF(K40="g",CONCATENATE(I40," g"),IF(K40="kg",CONCATENATE(J40," kg"),CONCATENATE(H40," ",E40))) -> 0 package (35 g) | M40: 0 | N40: =IF(K40="g",CONCATENATE(ROUND(I40-M40,2)," g"),IF(K40="kg",CONCATENATE(ROUND(J40-M40,2)," kg"),CONCATENATE(ROUND(H40-M40,1)," x ",E40))) -> 0 x package (35 g) | O40: =IFERROR(VLOOKUP(CONCATENATE(A40,"-","Y"),'Price Comparison'!$C$2:$E$101,3,FALSE),"TBC") -> TBC
...

Sheet Recipes
A1: Description | C1: Qty | D1: Unit | E1: Total Mass | F1: Calories | G1: Occurences | J1: Unique List of Recipes | K1: Unique List of Ingredients
A2: Tuna + Rice Cassarole | C2: 1 | D2: serving | E2: =SUM(E3:E9) -> 241 | F2: =SUM(F3:F9) -> 810 | G2: =SUM(SUMIF(Meals!C:C,A2,Meals!H:H),SUMIF(Meals!K:K,A2,Meals!P:P)) -> 0 | J2: =IFERROR(INDEX($A$2:$A$192, MATCH(0,INDEX(COUNTIF($J$1:J1, $A$2:$A$192)+(COUNTIF($A$2:$A$192, $A$2:$A$192)<>1),0,0), 0)), "") -> Tuna + Rice Cassarole | K2: =IFERROR(INDEX(Ingredients!$A$2:$A$114, MATCH(0,INDEX(COUNTIF($K$1:K1, Ingredients!$A$2:$A$114)+(COUNTIF(Ingredients!$A$2:$A$114, Ingredients!$A$2:$A$114)<>1),0,0), 0)), "") -> Instant Rice
B3: Instant Rice | C3: 1 | D3: =VLOOKUP(B3,Ingredients!$A$2:$G$229,5,FALSE) -> cup | E3: =VLOOKUP(B3,Ingredients!$A$2:$G$229,6,FALSE)*C3 -> 90 | F3: =IFERROR(VLOOKUP(B3,Ingredients!$A$2:$H$229,7,FALSE),0)*C3 -> 320 | G3: =C3*$G$2 -> 0 | J3: =IFERROR(INDEX($A$2:$A$192, MATCH(0,INDEX(COUNTIF($J$1:J2, $A$2:$A$192)+(COUNTIF($A$2:$A$192, $A$2:$A$192)<>1),0,0), 0)), "") -> Salmon + Potato Cassarole | K3: =IFERROR(INDEX(Ingredients!$A$2:$A$114, MATCH(0,INDEX(COUNTIF($K$1:K2, Ingredients!$A$2:$A$114)+(COUNTIF(Ingredients!$A$2:$A$114, Ingredients!$A$2:$A$114)<>1),0,0), 0)), "") -> Foil Pack Tuna
B4: Foil Pack Tuna | C4: 1 | D4: =VLOOKUP(B4,Ingredients!$A$2:$G$229,5,FALSE) -> package | E4: =VLOOKUP(B4,Ingredients!$A$2:$G$229,6,FALSE)*C4 -> 85 | F4: =IFERROR(VLOOKUP(B4,Ingredients!$A$2:$H$229,7,FALSE),0)*C4 -> 90 | G4: =C4*$G$2 -> 0 | J4: =IFERROR(INDEX($A$2:$A$192, MATCH(0,INDEX(COUNTIF($J$1:J3, $A$2:$A$192)+(COUNTIF($A$2:$A$192, $A$2:$A$192)<>1),0,0), 0)), "") -> Tuna + Potato Cassarole | K4: =IFERROR(INDEX(Ingredients!$A$2:$A$114, MATCH(0,INDEX(COUNTIF($K$1:K3, Ingredients!$A$2:$A$114)+(COUNTIF(Ingredients!$A$2:$A$114, Ingredients!$A$2:$A$114)<>1),0,0), 0)), "") -> Parmasan Cheese Flakes
B5: Parmasan Cheese Flakes | C5: 3 | D5: =VLOOKUP(B5,Ingredients!$A$2:$G$229,5,FALSE) -> tablespoon | E5: =VLOOKUP(B5,Ingredients!$A$2:$G$229,6,FALSE)*C5 -> 45 | F5: =IFERROR(VLOOKUP(B5,Ingredients!$A$2:$H$229,7,FALSE),0)*C5 -> 180 | G5: =C5*$G$2 -> 0 | J5: =IFERROR(INDEX($A$2:$A$192, MATCH(0,INDEX(COUNTIF($J$1:J4, $A$2:$A$192)+(COUNTIF($A$2:$A$192, $A$2:$A$192)<>1),0,0), 0)), "") -> Cheese Pasta | K5: =IFERROR(INDEX(Ingredients!$A$2:$A$114, MATCH(0,INDEX(COUNTIF($K$1:K4, Ingredients!$A$2:$A$114)+(COUNTIF(Ingredients!$A$2:$A$114, Ingredients!$A$2:$A$114)<>1),0,0), 0)), "") -> Olive Oil
B6: Olive Oil | C6: 1 | D6: =VLOOKUP(B6,Ingredients!$A$2:$G$229,5,FALSE) -> tablespoon | E6: =VLOOKUP(B6,Ingredients!$A$2:$G$229,6,FALSE)*C6 -> 14 | F6: =IFERROR(VLOOKUP(B6,Ingredients!$A$2:$H$229,7,FALSE),0)*C6 -> 120 | G6: =C6*$G$2 -> 0 | J6: =IFERROR(INDEX($A$2:$A$192, MATCH(0,INDEX(COUNTIF($J$1:J5, $A$2:$A$192)+(COUNTIF($A$2:$A$192, $A$2:$A$192)<>1),0,0), 0)), "") -> Salmon + Rice Cassarole | K6: =IFERROR(INDEX(Ingredients!$A$2:$A$114, MATCH(0,INDEX(COUNTIF($K$1:K5, Ingredients!$A$2:$A$114)+(COUNTIF(Ingredients!$A$2:$A$114, Ingredients!$A$2:$A$114)<>1),0,0), 0)), "") -> Dehydrated Vegetables
B7: Bacon Bits | C7: 1 | D7: =VLOOKUP(B7,Ingredients!$A$2:$G$229,5,FALSE) -> tablespoon | E7: =VLOOKUP(B7,Ingredients!$A$2:$G$229,6,FALSE)*C7 -> 7 | F7: =IFERROR(VLOOKUP(B7,Ingredients!$A$2:$H$229,7,FALSE),0)*C7 -> 30 | G7: =C7*$G$2 -> 0 | J7: =IFERROR(INDEX($A$2:$A$192, MATCH(0,INDEX(COUNTIF($J$1:J6, $A$2:$A$192)+(COUNTIF($A$2:$A$192, $A$2:$A$192)<>1),0,0), 0)), "") -> Tortilla and Peanut Butter Lunch | K7: =IFERROR(INDEX(Ingredients!$A$2:$A$114, MATCH(0,INDEX(COUNTIF($K$1:K6, Ingredients!$A$2:$A$114)+(COUNTIF(Ingredients!$A$2:$A$114, Ingredients!$A$2:$A$114)<>1),0,0), 0)), "") -> Peanuts
B8: Dehydrated Vegetables | C8: 0.5 | D8: =VLOOKUP(B8,Ingredients!$A$2:$G$229,5,FALSE) -> package | E8: =VLOOKUP(B8,Ingredients!$A$2:$G$229,6,FALSE)*C8 -> 0 | F8: =IFERROR(VLOOKUP(B8,Ingredients!$A$2:$H$229,7,FALSE),0)*C8 -> 70 | G8: =C8*$G$2 -> 0 | J8: =IFERROR(INDEX($A$2:$A$192, MATCH(0,INDEX(COUNTIF($J$1:J7, $A$2:$A$192)+(COUNTIF($A$2:$A$192, $A$2:$A$192)<>1),0,0), 0)), "") -> Sausage Lunch | K8: =IFERROR(INDEX(Ingredients!$A$2:$A$114, MATCH(0,INDEX(COUNTIF($K$1:K7, Ingredients!$A$2:$A$114)+(COUNTIF(Ingredients!$A$2:$A$114, Ingredients!$A$2:$A$114)<>1),0,0), 0)), "") -> Instant Potato
J9: =IFERROR(INDEX($A$2:$A$192, MATCH(0,INDEX(COUNTIF($J$1:J8, $A$2:$A$192)+(COUNTIF($A$2:$A$192, $A$2:$A$192)<>1),0,0), 0)), "") -> Tuna Lunch | K9: =IFERROR(INDEX(Ingredients!$A$2:$A$114, MATCH(0,INDEX(COUNTIF($K$1:K8, Ingredients!$A$2:$A$114)+(COUNTIF(Ingredients!$A$2:$A$114, Ingredients!$A$2:$A$114)<>1),0,0), 0)), "") -> Rice Vermicelli Noodles
A10: Salmon + Potato Cassarole | C10: 1 | D10: serving | E10: =SUM(E11:E18) -> 212.18 | F10: =SUM(F11:F18) -> 787.3 | G10: =SUM(SUMIF(Meals!C:C,A10,Meals!H:H),SUMIF(Meals!K:K,A10,Meals!P:P)) -> 0 | J10: =IFERROR(INDEX($A$2:$A$192, MATCH(0,INDEX(COUNTIF($J$1:J9, $A$2:$A$192)+(COUNTIF($A$2:$A$192, $A$2:$A$192)<>1),0,0), 0)), "") -> Chips and Dip | K10: =IFERROR(INDEX(Ingredients!$A$2:$A$114, MATCH(0,INDEX(COUNTIF($K$1:K9, Ingredients!$A$2:$A$114)+(COUNTIF(Ingredients!$A$2:$A$114, Ingredients!$A$2:$A$114)<>1),0,0), 0)), "") -> Whole Milk Powder
B11: Instant Potato | C11: 0.67 | D11: =VLOOKUP(B11,Ingredients!$A$2:$G$229,5,FALSE) -> cup | E11: =VLOOKUP(B11,Ingredients!$A$2:$G$229,6,FALSE)*C11 -> 36.18 | F11: =IFERROR(VLOOKUP(B11,Ingredients!$A$2:$H$229,7,FALSE),0)*C11 -> 134 | G11: =$G$10*C11 -> 0 | J11: =IFERROR(INDEX($A$2:$A$192, MATCH(0,INDEX(COUNTIF($J$1:J10, $A$2:$A$192)+(COUNTIF($A$2:$A$192, $A$2:$A$192)<>1),0,0), 0)), "") -> Kyle's Kind Healthy Grain Bar Breakfast | K11: =IFERROR(INDEX(Ingredients!$A$2:$A$114, MATCH(0,INDEX(COUNTIF($K$1:K10, Ingredients!$A$2:$A$114)+(COUNTIF(Ingredients!$A$2:$A$114, Ingredients!$A$2:$A$114)<>1),0,0), 0)), "") -> Cheese Powder
B12: Foil Pack Salmon | C12: 1 | D12: =VLOOKUP(B12,Ingredients!$A$2:$G$229,5,FALSE) -> package | E12: =VLOOKUP(B12,Ingredients!$A$2:$G$229,6,FALSE)*C12 -> 100 | F12: =IFERROR(VLOOKUP(B12,Ingredients!$A$2:$H$229,7,FALSE),0)*C12 -> 200 | G12: =$G$10*C12 -> 0 | J12: =IFERROR(INDEX($A$2:$A$192, MATCH(0,INDEX(COUNTIF($J$1:J11, $A$2:$A$192)+(COUNTIF($A$2:$A$192, $A$2:$A$192)<>1),0,0), 0)), "") -> Kyle's Kind Bar Breakfast | K12: =IFERROR(INDEX(Ingredients!$A$2:$A$114, MATCH(0,INDEX(COUNTIF($K$1:K11, Ingredients!$A$2:$A$114)+(COUNTIF(Ingredients!$A$2:$A$114, Ingredients!$A$2:$A$114)<>1),0,0), 0)), "") -> Foil Pack Chicken
B13: Parmasan Cheese Flakes | C13: 3 | D13: =VLOOKUP(B13,Ingredients!$A$2:$G$229,5,FALSE) -> tablespoon | E13: =VLOOKUP(B13,Ingredients!$A$2:$G$229,6,FALSE)*C13 -> 45 | F13: =IFERROR(VLOOKUP(B13,Ingredients!$A$2:$H$229,7,FALSE),0)*C13 -> 180 | G13: =$G$10*C13 -> 0 | J13: =IFERROR(INDEX($A$2:$A$192, MATCH(0,INDEX(COUNTIF($J$1:J12, $A$2:$A$192)+(COUNTIF($A$2:$A$192, $A$2:$A$192)<>1),0,0), 0)), "") -> Kyle's Laura Bar Breakfast | K13: =IFERROR(INDEX(Ingredients!$A$2:$A$114, MATCH(0,INDEX(COUNTIF($K$1:K12, Ingredients!$A$2:$A$114)+(COUNTIF(Ingredients!$A$2:$A$114, Ingredients!$A$2:$A$114)<>1),0,0), 0)), "") -> Curry Spice
B14: Bacon Bits | C14: 1 | D14: =VLOOKUP(B14,Ingredients!$A$2:$G$229,5,FALSE) -> tablespoon | E14: =VLOOKUP(B14,Ingredients!$A$2:$G$229,6,FALSE)*C14 -> 7 | F14: =IFERROR(VLOOKUP(B14,Ingredients!$A$2:$H$229,7,FALSE),0)*C14 -> 30 | G14: =$G$10*C14 -> 0 | J14: =IFERROR(INDEX($A$2:$A$192, MATCH(0,INDEX(COUNTIF($J$1:J13, $A$2:$A$192)+(COUNTIF($A$2:$A$192, $A$2:$A$192)<>1),0,0), 0)), "") -> Kyle's Snickers Bar & Almond Bar | K14: =IFERROR(INDEX(Ingredients!$A$2:$A$114, MATCH(0,INDEX(COUNTIF($K$1:K13, Ingredients!$A$2:$A$114)+(COUNTIF(Ingredients!$A$2:$A$114, Ingredients!$A$2:$A$114)<>1),0,0), 0)), "") -> Chocolate Almonds
B15: Olive Oil | C15: 1 | D15: =VLOOKUP(B15,Ingredients!$A$2:$G$229,5,FALSE) -> tablespoon | E15: =VLOOKUP(B15,Ingredients!$A$2:$G$229,6,FALSE)*C15 -> 14 | F15: =IFERROR(VLOOKUP(B15,Ingredients!$A$2:$H$229,7,FALSE),0)*C15 -> 120 | G15: =$G$10*C15 -> 0 | J15: =IFERROR(INDEX($A$2:$A$192, MATCH(0,INDEX(COUNTIF($J$1:J14, $A$2:$A$192)+(COUNTIF($A$2:$A$192, $A$2:$A$192)<>1),0,0), 0)), "") -> Beef Jerky Snack | K15: =IFERROR(INDEX(Ingredients!$A$2:$A$114, MATCH(0,INDEX(COUNTIF($K$1:K14, Ingredients!$A$2:$A$114)+(COUNTIF(Ingredients!$A$2:$A$114, Ingredients!$A$2:$A$114)<>1),0,0), 0)), "") -> Chicken Broth
B16: Dehydrated Vegetables | C16: 0.5 | D16: =VLOOKUP(B16,Ingredients!$A$2:$G$229,5,FALSE) -> package | E16: =VLOOKUP(B16,Ingredients!$A$2:$G$229,6,FALSE)*C16 -> 0 | F16: =IFERROR(VLOOKUP(B16,Ingredients!$A$2:$H$229,7,FALSE),0)*C16 -> 70 | G16: =$G$10*C16 -> 0 | J16: =IFERROR(INDEX($A$2:$A$192, MATCH(0,INDEX(COUNTIF($J$1:J15, $A$2:$A$192)+(COUNTIF($A$2:$A$192, $A$2:$A$192)<>1),0,0), 0)), "") -> Gummy Bears Snack | K16: =IFERROR(INDEX(Ingredients!$A$2:$A$114, MATCH(0,INDEX(COUNTIF($K$1:K15, Ingredients!$A$2:$A$114)+(COUNTIF(Ingredients!$A$2:$A$114, Ingredients!$A$2:$A$114)<>1),0,0), 0)), "") -> Dehydrated Onion
B17: Whole Milk Powder | C17: 1 | D17: =VLOOKUP(B17,Ingredients!$A$2:$G$229,5,FALSE) -> tablespoon | E17: =VLOOKUP(B17,Ingredients!$A$2:$G$229,6,FALSE)*C17 -> 10 | F17: =IFERROR(VLOOKUP(B17,Ingredients!$A$2:$H$229,7,FALSE),0)*C17 -> 53.3 | G17: =$G$10*C17 -> 0 | J17: =IFERROR(INDEX($A$2:$A$192, MATCH(0,INDEX(COUNTIF($J$1:J16, $A$2:$A$192)+(COUNTIF($A$2:$A$192, $A$2:$A$192)<>1),0,0), 0)), "") -> Cheese and Salmon Mac n Cheeze | K17: =IFERROR(INDEX(Ingredients!$A$2:$A$114, MATCH(0,INDEX(COUNTIF($K$1:K16, Ingredients!$A$2:$A$114)+(COUNTIF(Ingredients!$A$2:$A$114, Ingredients!$A$2:$A$114)<>1),0,0), 0)), "") -> Foil Pack Salmon
F18: =IFERROR(VLOOKUP(B18,Ingredients!$A$2:$H$229,7,FALSE),0)*C18 -> 0 | J18: =IFERROR(INDEX($A$2:$A$192, MATCH(0,INDEX(COUNTIF($J$1:J17, $A$2:$A$192)+(COUNTIF($A$2:$A$192, $A$2:$A$192)<>1),0,0), 0)), "") -> Cheese and Ramen Pasta | K18: =IFERROR(INDEX(Ingredients!$A$2:$A$114, MATCH(0,INDEX(COUNTIF($K$1:K17, Ingredients!$A$2:$A$114)+(COUNTIF(Ingredients!$A$2:$A$114, Ingredients!$A$2:$A$114)<>1),0,0), 0)), "") -> Tortilla (Wrap)
A19: Tuna + Potato Cassarole | C19: 1 | D19: serving | E19: =SUM(E20:E27) -> 197.18 | F19: =SUM(F20:F27) -> 677.3 | G19: =SUM(SUMIF(Meals!C:C,A19,Meals!H:H),SUMIF(Meals!K:K,A19,Meals!P:P)) -> 0 | J19: =IFERROR(INDEX($A$2:$A$192, MATCH(0,INDEX(COUNTIF($J$1:J18, $A$2:$A$192)+(COUNTIF($A$2:$A$192, $A$2:$A$192)<>1),0,0), 0)), "") -> Nothing | K19: =IFERROR(INDEX(Ingredients!$A$2:$A$114, MATCH(0,INDEX(COUNTIF($K$1:K18, Ingredients!$A$2:$A$114)+(COUNTIF(Ingredients!$A$2:$A$114, Ingredients!$A$2:$A$114)<>1),0,0), 0)), "") -> Peanut Butter
B20: Instant Potato | C20: 0.67 | D20: =VLOOKUP(B20,Ingredients!$A$2:$G$229,5,FALSE) -> cup | E20: =VLOOKUP(B20,Ingredients!$A$2:$G$229,6,FALSE)*C20 -> 36.18 | F20: =IFERROR(VLOOKUP(B20,Ingredients!$A$2:$H$229,7,FALSE),0)*C20 -> 134 | G20: =$G$19*C20 -> 0 | J20: =IFERROR(INDEX($A$2:$A$192, MATCH(0,INDEX(COUNTIF($J$1:J19, $A$2:$A$192)+(COUNTIF($A$2:$A$192, $A$2:$A$192)<>1),0,0), 0)), "") -> Beans and Rice | K20: =IFERROR(INDEX(Ingredients!$A$2:$A$114, MATCH(0,INDEX(COUNTIF($K$1:K19, Ingredients!$A$2:$A$114)+(COUNTIF(Ingredients!$A$2:$A$114, Ingredients!$A$2:$A$114)<>1),0,0), 0)), "") -> Dried cranberries
B21: Foil Pack Tuna | C21: 1 | D21: =VLOOKUP(B21,Ingredients!$A$2:$G$229,5,FALSE) -> package | E21: =VLOOKUP(B21,Ingredients!$A$2:$G$229,6,FALSE)*C21 -> 85 | F21: =IFERROR(VLOOKUP(B21,Ingredients!$A$2:$H$229,7,FALSE),0)*C21 -> 90 | G21: =$G$19*C21 -> 0 | J21: =IFERROR(INDEX($A$2:$A$192, MATCH(0,INDEX(COUNTIF($J$1:J20, $A$2:$A$192)+(COUNTIF($A$2:$A$192, $A$2:$A$192)<>1),0,0), 0)), "") -> Baby Food Pouch | K21: =IFERROR(INDEX(Ingredients!$A$2:$A$114, MATCH(0,INDEX(COUNTIF($K$1:K20, Ingredients!$A$2:$A$114)+(COUNTIF(Ingredients!$A$2:$A$114, Ingredients!$A$2:$A$114)<>1),0,0), 0)), "") -> Chocolate Chips
B22: Parmasan Cheese Flakes | C22: 3 | D22: =VLOOKUP(B22,Ingredients!$A$2:$G$229,5,FALSE) -> tablespoon | E22: =VLOOKUP(B22,Ingredients!$A$2:$G$229,6,FALSE)*C22 -> 45 | F22: =IFERROR(VLOOKUP(B22,Ingredients!$A$2:$H$229,7,FALSE),0)*C22 -> 180 | G22: =$G$19*C22 -> 0 | J22: =IFERROR(INDEX($A$2:$A$192, MATCH(0,INDEX(COUNTIF($J$1:J21, $A$2:$A$192)+(COUNTIF($A$2:$A$192, $A$2:$A$192)<>1),0,0), 0)), "") -> Natasha Pop Tart Breakfast | K22: =IFERROR(INDEX(Ingredients!$A$2:$A$114, MATCH(0,INDEX(COUNTIF($K$1:K21, Ingredients!$A$2:$A$114)+(COUNTIF(Ingredients!$A$2:$A$114, Ingredients!$A$2:$A$114)<>1),0,0), 0)), "") -> Sausage
B23: Bacon Bits | C23: 1 | D23: =VLOOKUP(B23,Ingredients!$A$2:$G$229,5,FALSE) -> tablespoon | E23: =VLOOKUP(B23,Ingredients!$A$2:$G$229,6,FALSE)*C23 -> 7 | F23: =IFERROR(VLOOKUP(B23,Ingredients!$A$2:$H$229,7,FALSE),0)*C23 -> 30 | G23: =$G$19*C23 -> 0 | J23: =IFERROR(INDEX($A$2:$A$192, MATCH(0,INDEX(COUNTIF($J$1:J22, $A$2:$A$192)+(COUNTIF($A$2:$A$192, $A$2:$A$192)<>1),0,0), 0)), "") -> Pesto Noodle | K23: =IFERROR(INDEX(Ingredients!$A$2:$A$114, MATCH(0,INDEX(COUNTIF($K$1:K22, Ingredients!$A$2:$A$114)+(COUNTIF(Ingredients!$A$2:$A$114, Ingredients!$A$2:$A$114)<>1),0,0), 0)), "") -> Aged Cheddar Cheese
B24: Olive Oil | C24: 1 | D24: =VLOOKUP(B24,Ingredients!$A$2:$G$229,5,FALSE) -> tablespoon | E24: =VLOOKUP(B24,Ingredients!$A$2:$G$229,6,FALSE)*C24 -> 14 | F24: =IFERROR(VLOOKUP(B24,Ingredients!$A$2:$H$229,7,FALSE),0)*C24 -> 120 | G24: =$G$19*C24 -> 0 | J24: =IFERROR(INDEX($A$2:$A$192, MATCH(0,INDEX(COUNTIF($J$1:J23, $A$2:$A$192)+(COUNTIF($A$2:$A$192, $A$2:$A$192)<>1),0,0), 0)), "") -> Gatorade (1.5 L) | K24: =IFERROR(INDEX(Ingredients!$A$2:$A$114, MATCH(0,INDEX(COUNTIF($K$1:K23, Ingredients!$A$2:$A$114)+(COUNTIF(Ingredients!$A$2:$A$114, Ingredients!$A$2:$A$114)<>1),0,0), 0)), "") -> Oatmeal
B25: Dehydrated Vegetables | C25: 0.5 | D25: =VLOOKUP(B25,Ingredients!$A$2:$G$229,5,FALSE) -> package | E25: =VLOOKUP(B25,Ingredients!$A$2:$G$229,6,FALSE)*C25 -> 0 | F25: =IFERROR(VLOOKUP(B25,Ingredients!$A$2:$H$229,7,FALSE),0)*C25 -> 70 | G25: =$G$19*C25 -> 0 | J25: =IFERROR(INDEX($A$2:$A$192, MATCH(0,INDEX(COUNTIF($J$1:J24, $A$2:$A$192)+(COUNTIF($A$2:$A$192, $A$2:$A$192)<>1),0,0), 0)), "") -> Peanut Noodles | K25: =IFERROR(INDEX(Ingredients!$A$2:$A$114, MATCH(0,INDEX(COUNTIF($K$1:K24, Ingredients!$A$2:$A$114)+(COUNTIF(Ingredients!$A$2:$A$114, Ingredients!$A$2:$A$114)<>1),0,0), 0)), "") -> Banana Chips
B26: Whole Milk Powder | C26: 1 | D26: =VLOOKUP(B26,Ingredients!$A$2:$G$229,5,FALSE) -> tablespoon | E26: =VLOOKUP(B26,Ingredients!$A$2:$G$229,6,FALSE)*C26 -> 10 | F26: =IFERROR(VLOOKUP(B26,Ingredients!$A$2:$H$229,7,FALSE),0)*C26 -> 53.3 | G26: =$G$19*C26 -> 0 | J26: =IFERROR(INDEX($A$2:$A$192, MATCH(0,INDEX(COUNTIF($J$1:J25, $A$2:$A$192)+(COUNTIF($A$2:$A$192, $A$2:$A$192)<>1),0,0), 0)), "") -> Instant Carnation Mix | K26: =IFERROR(INDEX(Ingredients!$A$2:$A$114, MATCH(0,INDEX(COUNTIF($K$1:K25, Ingredients!$A$2:$A$114)+(COUNTIF(Ingredients!$A$2:$A$114, Ingredients!$A$2:$A$114)<>1),0,0), 0)), "") -> Brown sugar
F27: =IFERROR(VLOOKUP(B27,Ingredients!$A$2:$H$229,7,FALSE),0)*C27 -> 0 | J27: =IFERROR(INDEX($A$2:$A$192, MATCH(0,INDEX(COUNTIF($J$1:J26, $A$2:$A$192)+(COUNTIF($A$2:$A$192, $A$2:$A$192)<>1),0,0), 0)), "") -> Peanut Butter (Spoonful) | K27: =IFERROR(INDEX(Ingredients!$A$2:$A$114, MATCH(0,INDEX(COUNTIF($K$1:K26, Ingredients!$A$2:$A$114)+(COUNTIF(Ingredients!$A$2:$A$114, Ingredients!$A$2:$A$114)<>1),0,0), 0)), "") -> Tortilla (Chips)
A28: Cheese Pasta | C28: 1 | D28: serving | F28: =SUM(F29:F32) -> 341.3 | G28: =SUM(SUMIF(Meals!C:C,A28,Meals!H:H),SUMIF(Meals!K:K,A28,Meals!P:P)) -> 0 | J28: =IFERROR(INDEX($A$2:$A$192, MATCH(0,INDEX(COUNTIF($J$1:J27, $A$2:$A$192)+(COUNTIF($A$2:$A$192, $A$2:$A$192)<>1),0,0), 0)), "") -> Corn Chips (Handful) | K28: =IFERROR(INDEX(Ingredients!$A$2:$A$114, MATCH(0,INDEX(COUNTIF($K$1:K27, Ingredients!$A$2:$A$114)+(COUNTIF(Ingredients!$A$2:$A$114, Ingredients!$A$2:$A$114)<>1),0,0), 0)), "") -> Dehydrated Hummus
B29: Rice Vermicelli Noodles | C29: 1 | D29: =VLOOKUP(B29,Ingredients!$A$2:$G$229,5,FALSE) -> Brick of noodles (1/5 of package) | E29: =VLOOKUP(B29,Ingredients!$A$2:$G$229,6,FALSE)*C29 -> 45 | F29: =IFERROR(VLOOKUP(B29,Ingredients!$A$2:$H$229,7,FALSE),0)*C29 -> 168 | G29: =$G$28*C29 -> 0 | J29: =IFERROR(INDEX($A$2:$A$192, MATCH(0,INDEX(COUNTIF($J$1:J28, $A$2:$A$192)+(COUNTIF($A$2:$A$192, $A$2:$A$192)<>1),0,0), 0)), "") -> ProBar | K29: =IFERROR(INDEX(Ingredients!$A$2:$A$114, MATCH(0,INDEX(COUNTIF($K$1:K28, Ingredients!$A$2:$A$114)+(COUNTIF(Ingredients!$A$2:$A$114, Ingredients!$A$2:$A$114)<>1),0,0), 0)), "") -> Snickers Bar
B30: Whole Milk Powder | C30: 1 | D30: =VLOOKUP(B30,Ingredients!$A$2:$G$229,5,FALSE) -> tablespoon | E30: =VLOOKUP(B30,Ingredients!$A$2:$G$229,6,FALSE)*C30 -> 10 | F30: =IFERROR(VLOOKUP(B30,Ingredients!$A$2:$H$229,7,FALSE),0)*C30 -> 53.3 | G30: =$G$28*C30 -> 0 | J30: =IFERROR(INDEX($A$2:$A$192, MATCH(0,INDEX(COUNTIF($J$1:J29, $A$2:$A$192)+(COUNTIF($A$2:$A$192, $A$2:$A$192)<>1),0,0), 0)), "") -> Cliff Bar | K30: =IFERROR(INDEX(Ingredients!$A$2:$A$114, MATCH(0,INDEX(COUNTIF($K$1:K29, Ingredients!$A$2:$A$114)+(COUNTIF(Ingredients!$A$2:$A$114, Ingredients!$A$2:$A$114)<>1),0,0), 0)), "") -> Cashews
B31: Parmasan Cheese Flakes | C31: 2 | D31: =VLOOKUP(B31,Ingredients!$A$2:$G$229,5,FALSE) -> tablespoon | E31: =VLOOKUP(B31,Ingredients!$A$2:$G$229,6,FALSE)*C31 -> 30 | F31: =IFERROR(VLOOKUP(B31,Ingredients!$A$2:$H$229,7,FALSE),0)*C31 -> 120 | G31: =$G$28*C31 -> 0 | J31: =IFERROR(INDEX($A$2:$A$192, MATCH(0,INDEX(COUNTIF($J$1:J30, $A$2:$A$192)+(COUNTIF($A$2:$A$192, $A$2:$A$192)<>1),0,0), 0)), "") -> Kind Bar | K31: =IFERROR(INDEX(Ingredients!$A$2:$A$114, MATCH(0,INDEX(COUNTIF($K$1:K30, Ingredients!$A$2:$A$114)+(COUNTIF(Ingredients!$A$2:$A$114, Ingredients!$A$2:$A$114)<>1),0,0), 0)), "") -> Annies Rice Pasta and Mac and Cheese
J32: =IFERROR(INDEX($A$2:$A$192, MATCH(0,INDEX(COUNTIF($J$1:J31, $A$2:$A$192)+(COUNTIF($A$2:$A$192, $A$2:$A$192)<>1),0,0), 0)), "") -> OHenry Bar | K32: =IFERROR(INDEX(Ingredients!$A$2:$A$114, MATCH(0,INDEX(COUNTIF($K$1:K31, Ingredients!$A$2:$A$114)+(COUNTIF(Ingredients!$A$2:$A$114, Ingredients!$A$2:$A$114)<>1),0,0), 0)), "") -> Bacon Bits
A33: Salmon + Rice Cassarole | C33: 1 | D33: serving | E33: =SUM(E34:E40) -> 249 | F33: =SUM(F34:F40) -> 907 | G33: =SUM(SUMIF(Meals!C:C,A33,Meals!H:H),SUMIF(Meals!K:K,A33,Meals!P:P)) -> 0 | J33: =IFERROR(INDEX($A$2:$A$192, MATCH(0,INDEX(COUNTIF($J$1:J32, $A$2:$A$192)+(COUNTIF($A$2:$A$192, $A$2:$A$192)<>1),0,0), 0)), "") -> Cookies'n'Cream Bar | K33: =IFERROR(INDEX(Ingredients!$A$2:$A$114, MATCH(0,INDEX(COUNTIF($K$1:K32, Ingredients!$A$2:$A$114)+(COUNTIF(Ingredients!$A$2:$A$114, Ingredients!$A$2:$A$114)<>1),0,0), 0)), "") -> Beef Jerky
B34: Instant Rice | C34: 1 | D34: =VLOOKUP(B34,Ingredients!$A$2:$G$229,5,FALSE) -> cup | E34: =VLOOKUP(B34,Ingredients!$A$2:$G$229,6,FALSE)*C34 -> 90 | F34: =IFERROR(VLOOKUP(B34,Ingredients!$A$2:$H$229,7,FALSE),0)*C34 -> 320 | G34: =$G$33*C34 -> 0 | J34: =IFERROR(INDEX($A$2:$A$192, MATCH(0,INDEX(COUNTIF($J$1:J33, $A$2:$A$192)+(COUNTIF($A$2:$A$192, $A$2:$A$192)<>1),0,0), 0)), "") -> Snickers Bar | K34: =IFERROR(INDEX(Ingredients!$A$2:$A$114, MATCH(0,INDEX(COUNTIF($K$1:K33, Ingredients!$A$2:$A$114)+(COUNTIF(Ingredients!$A$2:$A$114, Ingredients!$A$2:$A$114)<>1),0,0), 0)), "") -> Couscous
B35: Foil Pack Salmon | C35: 1 | D35: =VLOOKUP(B35,Ingredients!$A$2:$G$229,5,FALSE) -> package | E35: =VLOOKUP(B35,Ingredients!$A$2:$G$229,6,FALSE)*C35 -> 100 | F35: =IFERROR(VLOOKUP(B35,Ingredients!$A$2:$H$229,7,FALSE),0)*C35 -> 200 | G35: =$G$33*C35 -> 0 | J35: =IFERROR(INDEX($A$2:$A$192, MATCH(0,INDEX(COUNTIF($J$1:J34, $A$2:$A$192)+(COUNTIF($A$2:$A$192, $A$2:$A$192)<>1),0,0), 0)), "") | K35: =IFERROR(INDEX(Ingredients!$A$2:$A$114, MATCH(0,INDEX(COUNTIF($K$1:K34, Ingredients!$A$2:$A$114)+(COUNTIF(Ingredients!$A$2:$A$114, Ingredients!$A$2:$A$114)<>1),0,0), 0)), "") -> Chicken Gravy
B36: Parmasan Cheese Flakes | C36: 3 | D36: =VLOOKUP(B36,Ingredients!$A$2:$G$229,5,FALSE) -> tablespoon | E36: =VLOOKUP(B36,Ingredients!$A$2:$G$229,6,FALSE)*C36 -> 45 | F36: =IFERROR(VLOOKUP(B36,Ingredients!$A$2:$H$229,7,FALSE),0)*C36 -> 180 | G36: =$G$33*C36 -> 0 | J36: =IFERROR(INDEX($A$2:$A$192, MATCH(0,INDEX(COUNTIF($J$1:J35, $A$2:$A$192)+(COUNTIF($A$2:$A$192, $A$2:$A$192)<>1),0,0), 0)), "") | K36: =IFERROR(INDEX(Ingredients!$A$2:$A$114, MATCH(0,INDEX(COUNTIF($K$1:K35, Ingredients!$A$2:$A$114)+(COUNTIF(Ingredients!$A$2:$A$114, Ingredients!$A$2:$A$114)<>1),0,0), 0)), "") -> Rice Ramen Noodle and Miso
B37: Dehydrated Onion | C37: 1 | D37: =VLOOKUP(B37,Ingredients!$A$2:$G$229,5,FALSE) -> tablespoon | E37: =VLOOKUP(B37,Ingredients!$A$2:$G$229,6,FALSE)*C37 -> 0 | F37: =IFERROR(VLOOKUP(B37,Ingredients!$A$2:$H$229,7,FALSE),0)*C37 -> 17 | G37: =$G$33*C37 -> 0 | J37: =IFERROR(INDEX($A$2:$A$192, MATCH(0,INDEX(COUNTIF($J$1:J36, $A$2:$A$192)+(COUNTIF($A$2:$A$192, $A$2:$A$192)<>1),0,0), 0)), "") | K37: =IFERROR(INDEX(Ingredients!$A$2:$A$114, MATCH(0,INDEX(COUNTIF($K$1:K36, Ingredients!$A$2:$A$114)+(COUNTIF(Ingredients!$A$2:$A$114, Ingredients!$A$2:$A$114)<>1),0,0), 0)), "") -> Dried Mango
B38: Olive Oil | C38: 1 | D38: =VLOOKUP(B38,Ingredients!$A$2:$G$229,5,FALSE) -> tablespoon | E38: =VLOOKUP(B38,Ingredients!$A$2:$G$229,6,FALSE)*C38 -> 14 | F38: =IFERROR(VLOOKUP(B38,Ingredients!$A$2:$H$229,7,FALSE),0)*C38 -> 120 | G38: =$G$33*C38 -> 0 | J38: =IFERROR(INDEX($A$2:$A$192, MATCH(0,INDEX(COUNTIF($J$1:J37, $A$2:$A$192)+(COUNTIF($A$2:$A$192, $A$2:$A$192)<>1),0,0), 0)), "") | K38: =IFERROR(INDEX(Ingredients!$A$2:$A$114, MATCH(0,INDEX(COUNTIF($K$1:K37, Ingredients!$A$2:$A$114)+(COUNTIF(Ingredients!$A$2:$A$114, Ingredients!$A$2:$A$114)<>1),0,0), 0)), "") -> Nothing/ Zero
B39: Dehydrated Vegetables | C39: 0.5 | D39: =VLOOKUP(B39,Ingredients!$A$2:$G$229,5,FALSE) -> package | E39: =VLOOKUP(B39,Ingredients!$A$2:$G$229,6,FALSE)*C39 -> 0 | F39: =IFERROR(VLOOKUP(B39,Ingredients!$A$2:$H$229,7,FALSE),0)*C39 -> 70 | G39: =$G$33*C39 -> 0 | J39: =IFERROR(INDEX($A$2:$A$192, MATCH(0,INDEX(COUNTIF($J$1:J38, $A$2:$A$192)+(COUNTIF($A$2:$A$192, $A$2:$A$192)<>1),0,0), 0)), "") | K39: =IFERROR(INDEX(Ingredients!$A$2:$A$114, MATCH(0,INDEX(COUNTIF($K$1:K38, Ingredients!$A$2:$A$114)+(COUNTIF(Ingredients!$A$2:$A$114, Ingredients!$A$2:$A$114)<>1),0,0), 0)), "") -> Gummy Bears
J40: =IFERROR(INDEX($A$2:$A$192, MATCH(0,INDEX(COUNTIF($J$1:J39, $A$2:$A$192)+(COUNTIF($A$2:$A$192, $A$2:$A$192)<>1),0,0), 0)), "") | K40: =IFERROR(INDEX(Ingredients!$A$2:$A$114, MATCH(0,INDEX(COUNTIF($K$1:K39, Ingredients!$A$2:$A$114)+(COUNTIF(Ingredients!$A$2:$A$114, Ingredients!$A$2:$A$114)<>1),0,0), 0)), "") -> Dehydrated Chicken
...

Sheet Meals
B1: Natasha Meals | J1: Kyle Meals
A2: Day | B2: Meal | C2: Meal Name | D2: Servings | E2: Weight (g) | F2: Calories | G2: Calories/g | H2: Number of Occurences | J2: Meal | K2: Meal Name | L2: Servings | M2: Weight (g) | N2: Calories | O2: Calories/g | P2: Number of Occurences | R2: =SUM(P3,P31,P59,P87,P115) -> 47
A3: A | E3: =SUM(E4:E30) -> 849.33 | F3: =SUM(F4:F30) -> 3461.73 | G3: =IFERROR(F3/E3,"") -> 4.0758362 | H3: =COUNTIF(Meal_Itinerary!C:C,Meals!A3) -> 16 | M3: =SUM(M4:M30) -> 928.27143 | N3: =SUM(N4:N30) -> 3645.9571 | O3: =IFERROR(N3/M3,"") -> 3.9276843 | P3: =COUNTIF(Meal_Itinerary!E:E,Meals!A3) -> 10
B4: Breakfast | C4: Natasha Pop Tart Breakfast | D4: 1 | E4: =IFERROR(VLOOKUP(C4,Recipes!$A$2:$F$208,5,FALSE)*D4,"") -> 100 | F4: =IFERROR(VLOOKUP(C4,Recipes!$A$2:$F$208,6,FALSE)*D4,"") -> 400 | G4: =IFERROR(F4/E4,"") -> 4 | H4: =$H$3*D4 -> 16 | J4: Breakfast | K4: Kyle's Kind Healthy Grain Bar Breakfast | L4: 1 | M4: =IFERROR(VLOOKUP(K4,Recipes!$A$2:$F$208,5,FALSE)*L4,"") -> 111.6 | N4: =IFERROR(VLOOKUP(K4,Recipes!$A$2:$F$208,6,FALSE)*L4,"") -> 460 | O4: =IFERROR(N4/M4,"") -> 4.1218638 | P4: =$P$3*L4 -> 10
B5: Lunch | C5: Baby Food Pouch | D5: 0.5 | E5: =IFERROR(VLOOKUP(C5,Recipes!$A$2:$F$208,5,FALSE)*D5,"") -> 75 | F5: =IFERROR(VLOOKUP(C5,Recipes!$A$2:$F$208,6,FALSE)*D5,"") -> 50 | G5: =IFERROR(F5/E5,"") -> 0.66666667 | H5: =$H$3*D5 -> 8 | J5: Snack | K5: Kyle's Snickers Bar & Almond Bar | L5: 1 | M5: =IFERROR(VLOOKUP(K5,Recipes!$A$2:$F$208,5,FALSE)*L5,"") -> 184 | N5: =IFERROR(VLOOKUP(K5,Recipes!$A$2:$F$208,6,FALSE)*L5,"") -> 950 | O5: =IFERROR(N5/M5,"") -> 5.1630435 | P5: =$P$3*L5 -> 10
B6: Lunch | C6: Sausage Lunch | D6: 0.5 | E6: =IFERROR(VLOOKUP(C6,Recipes!$A$2:$F$208,5,FALSE)*D6,"") -> 100 | F6: =IFERROR(VLOOKUP(C6,Recipes!$A$2:$F$208,6,FALSE)*D6,"") -> 426 | G6: =IFERROR(F6/E6,"") -> 4.26 | H6: =$H$3*D6 -> 8 | J6: Lunch | K6: Tuna Lunch | L6: 0.5 | M6: =IFERROR(VLOOKUP(K6,Recipes!$A$2:$F$208,5,FALSE)*L6,"") -> 62.5 | N6: =IFERROR(VLOOKUP(K6,Recipes!$A$2:$F$208,6,FALSE)*L6,"") -> 185 | O6: =IFERROR(N6/M6,"") -> 2.96 | P6: =$P$3*L6 -> 5
B7: Snack | C7: ProBar | D7: 0 | E7: =IFERROR(VLOOKUP(C7,Recipes!$A$2:$F$208,5,FALSE)*D7,"") -> 0 | F7: =IFERROR(VLOOKUP(C7,Recipes!$A$2:$F$208,6,FALSE)*D7,"") -> 0 | G7: =IFERROR(F7/E7,"") | H7: =$H$3*D7 -> 0 | J7: Lunch | K7: Baby Food Pouch | L7: 1 | M7: =IFERROR(VLOOKUP(K7,Recipes!$A$2:$F$208,5,FALSE)*L7,"") -> 150 | N7: =IFERROR(VLOOKUP(K7,Recipes!$A$2:$F$208,6,FALSE)*L7,"") -> 100 | O7: =IFERROR(N7/M7,"") -> 0.66666667 | P7: =$P$3*L7 -> 10
B8: Snack | C8: Cliff Bar | D8: 1.5 | E8: =IFERROR(VLOOKUP(C8,Recipes!$A$2:$F$208,5,FALSE)*D8,"") -> 102 | F8: =IFERROR(VLOOKUP(C8,Recipes!$A$2:$F$208,6,FALSE)*D8,"") -> 375 | G8: =IFERROR(F8/E8,"") -> 3.6764706 | H8: =$H$3*D8 -> 24 | J8: Lunch | K8: Corn Chips (Handful) | L8: 3 | M8: =IFERROR(VLOOKUP(K8,Recipes!$A$2:$F$208,5,FALSE)*L8,"") -> 150 | N8: =IFERROR(VLOOKUP(K8,Recipes!$A$2:$F$208,6,FALSE)*L8,"") -> 840 | O8: =IFERROR(N8/M8,"") -> 5.6 | P8: =$P$3*L8 -> 30
B9: Snack | C9: Kind Bar | D9: 1.5 | E9: =IFERROR(VLOOKUP(C9,Recipes!$A$2:$F$208,5,FALSE)*D9,"") -> 60 | F9: =IFERROR(VLOOKUP(C9,Recipes!$A$2:$F$208,6,FALSE)*D9,"") -> 300 | G9: =IFERROR(F9/E9,"") -> 5 | H9: =$H$3*D9 -> 24 | J9: Snack | K9: Gatorade (1.5 L) | L9: 1 | M9: =IFERROR(VLOOKUP(K9,Recipes!$A$2:$F$208,5,FALSE)*L9,"") -> 98.571429 | N9: =IFERROR(VLOOKUP(K9,Recipes!$A$2:$F$208,6,FALSE)*L9,"") -> 342.85714 | O9: =IFERROR(N9/M9,"") -> 3.4782609 | P9: =$P$3*L9 -> 10
B10: Snack | C10: Snickers Bar | D10: 1 | E10: =IFERROR(VLOOKUP(C10,Recipes!$A$2:$F$208,5,FALSE)*D10,"") -> 52 | F10: =IFERROR(VLOOKUP(C10,Recipes!$A$2:$F$208,6,FALSE)*D10,"") -> 250 | G10: =IFERROR(F10/E10,"") -> 4.8076923 | H10: =$H$3*D10 -> 16 | J10: Dinner | K10: Pesto Noodle | L10: 1 | M10: =IFERROR(VLOOKUP(K10,Recipes!$A$2:$F$208,5,FALSE)*L10,"") -> 171.6 | N10: =IFERROR(VLOOKUP(K10,Recipes!$A$2:$F$208,6,FALSE)*L10,"") -> 768.1 | O10: =IFERROR(N10/M10,"") -> 4.4761072 | P10: =$P$3*L10 -> 10
B11: Lunch | C11: Gatorade (1.5 L) | D11: 0.35 | E11: =IFERROR(VLOOKUP(C11,Recipes!$A$2:$F$208,5,FALSE)*D11,"") -> 34.5 | F11: =IFERROR(VLOOKUP(C11,Recipes!$A$2:$F$208,6,FALSE)*D11,"") -> 120 | G11: =IFERROR(F11/E11,"") -> 3.4782609 | H11: =$H$3*D11 -> 5.6 | M11: =IFERROR(VLOOKUP(K11,Recipes!$A$2:$F$208,5,FALSE)*L11,"") | N11: =IFERROR(VLOOKUP(K11,Recipes!$A$2:$F$208,6,FALSE)*L11,"") | O11: =IFERROR(N11/M11,"") | P11: =$P$3*L11 -> 0
B12: Lunch | C12: Peanut Butter (Spoonful) | D12: 4 | E12: =IFERROR(VLOOKUP(C12,Recipes!$A$2:$F$208,5,FALSE)*D12,"") -> 60 | F12: =IFERROR(VLOOKUP(C12,Recipes!$A$2:$F$208,6,FALSE)*D12,"") -> 360 | G12: =IFERROR(F12/E12,"") -> 6 | H12: =$H$3*D12 -> 64 | M12: =IFERROR(VLOOKUP(K12,Recipes!$A$2:$F$208,5,FALSE)*L12,"") | N12: =IFERROR(VLOOKUP(K12,Recipes!$A$2:$F$208,6,FALSE)*L12,"") | O12: =IFERROR(N12/M12,"") | P12: =$P$3*L12 -> 0
B13: Dinner | C13: Beans and Rice | D13: 1 | E13: =IFERROR(VLOOKUP(C13,Recipes!$A$2:$F$208,5,FALSE)*D13,"") -> 183 | F13: =IFERROR(VLOOKUP(C13,Recipes!$A$2:$F$208,6,FALSE)*D13,"") -> 783 | G13: =IFERROR(F13/E13,"") -> 4.2786885 | H13: =$H$3*D13 -> 16 | M13: =IFERROR(VLOOKUP(K13,Recipes!$A$2:$F$208,5,FALSE)*L13,"") | N13: =IFERROR(VLOOKUP(K13,Recipes!$A$2:$F$208,6,FALSE)*L13,"") | O13: =IFERROR(N13/M13,"") | P13: =$P$3*L13 -> 0
B14: Snack | C14: OHenry Bar | D14: 0.91 | E14: =IFERROR(VLOOKUP(C14,Recipes!$A$2:$F$208,5,FALSE)*D14,"") -> 51.87 | F14: =IFERROR(VLOOKUP(C14,Recipes!$A$2:$F$208,6,FALSE)*D14,"") -> 239.33 | G14: =IFERROR(F14/E14,"") -> 4.6140351 | H14: =$H$3*D14 -> 14.56 | M14: =IFERROR(VLOOKUP(K14,Recipes!$A$2:$F$208,5,FALSE)*L14,"") | N14: =IFERROR(VLOOKUP(K14,Recipes!$A$2:$F$208,6,FALSE)*L14,"") | O14: =IFERROR(N14/M14,"") | P14: =$P$3*L14 -> 0
B15: Snack | C15: Cookies'n'Cream Bar | D15: 0.72 | E15: =IFERROR(VLOOKUP(C15,Recipes!$A$2:$F$208,5,FALSE)*D15,"") -> 30.96 | F15: =IFERROR(VLOOKUP(C15,Recipes!$A$2:$F$208,6,FALSE)*D15,"") -> 158.4 | G15: =IFERROR(F15/E15,"") -> 5.1162791 | H15: =$H$3*D15 -> 11.52 | M15: =IFERROR(VLOOKUP(K15,Recipes!$A$2:$F$208,5,FALSE)*L15,"") | N15: =IFERROR(VLOOKUP(K15,Recipes!$A$2:$F$208,6,FALSE)*L15,"") | O15: =IFERROR(N15/M15,"") | P15: =$P$3*L15 -> 0
E16: =IFERROR(VLOOKUP(C16,Recipes!$A$2:$F$208,5,FALSE)*D16,"") | F16: =IFERROR(VLOOKUP(C16,Recipes!$A$2:$F$208,6,FALSE)*D16,"") | G16: =IFERROR(F16/E16,"") | H16: =$H$3*D16 -> 0 | M16: =IFERROR(VLOOKUP(K16,Recipes!$A$2:$F$208,5,FALSE)*L16,"") | N16: =IFERROR(VLOOKUP(K16,Recipes!$A$2:$F$208,6,FALSE)*L16,"") | O16: =IFERROR(N16/M16,"") | P16: =$P$3*L16 -> 0
E17: =IFERROR(VLOOKUP(C17,Recipes!$A$2:$F$208,5,FALSE)*D17,"") | F17: =IFERROR(VLOOKUP(C17,Recipes!$A$2:$F$208,6,FALSE)*D17,"") | G17: =IFERROR(F17/E17,"") | H17: =$H$3*D17 -> 0 | M17: =IFERROR(VLOOKUP(K17,Recipes!$A$2:$F$208,5,FALSE)*L17,"") | N17: =IFERROR(VLOOKUP(K17,Recipes!$A$2:$F$208,6,FALSE)*L17,"") | O17: =IFERROR(N17/M17,"") | P17: =$P$3*L17 -> 0
E18: =IFERROR(VLOOKUP(C18,Recipes!$A$2:$F$208,5,FALSE)*D18,"") | F18: =IFERROR(VLOOKUP(C18,Recipes!$A$2:$F$208,6,FALSE)*D18,"") | G18: =IFERROR(F18/E18,"") | H18: =$H$3*D18 -> 0 | M18: =IFERROR(VLOOKUP(K18,Recipes!$A$2:$F$208,5,FALSE)*L18,"") | N18: =IFERROR(VLOOKUP(K18,Recipes!$A$2:$F$208,6,FALSE)*L18,"") | O18: =IFERROR(N18/M18,"") | P18: =$P$3*L18 -> 0
E19: =IFERROR(VLOOKUP(C19,Recipes!$A$2:$F$208,5,FALSE)*D19,"") | F19: =IFERROR(VLOOKUP(C19,Recipes!$A$2:$F$208,6,FALSE)*D19,"") | G19: =IFERROR(F19/E19,"") | H19: =$H$3*D19 -> 0 | M19: =IFERROR(VLOOKUP(K19,Recipes!$A$2:$F$208,5,FALSE)*L19,"") | N19: =IFERROR(VLOOKUP(K19,Recipes!$A$2:$F$208,6,FALSE)*L19,"") | O19: =IFERROR(N19/M19,"") | P19: =$P$3*L19 -> 0
E20: =IFERROR(VLOOKUP(C20,Recipes!$A$2:$F$208,5,FALSE)*D20,"") | F20: =IFERROR(VLOOKUP(C20,Recipes!$A$2:$F$208,6,FALSE)*D20,"") | G20: =IFERROR(F20/E20,"") | H20: =$H$3*D20 -> 0 | M20: =IFERROR(VLOOKUP(K20,Recipes!$A$2:$F$208,5,FALSE)*L20,"") | N20: =IFERROR(VLOOKUP(K20,Recipes!$A$2:$F$208,6,FALSE)*L20,"") | O20: =IFERROR(N20/M20,"") | P20: =$P$3*L20 -> 0
E21: =IFERROR(VLOOKUP(C21,Recipes!$A$2:$F$208,5,FALSE)*D21,"") | F21: =IFERROR(VLOOKUP(C21,Recipes!$A$2:$F$208,6,FALSE)*D21,"") | G21: =IFERROR(F21/E21,"") | H21: =$H$3*D21 -> 0 | M21: =IFERROR(VLOOKUP(K21,Recipes!$A$2:$F$208,5,FALSE)*L21,"") | N21: =IFERROR(VLOOKUP(K21,Recipes!$A$2:$F$208,6,FALSE)*L21,"") | O21: =IFERROR(N21/M21,"") | P21: =$P$3*L21 -> 0
E22: =IFERROR(VLOOKUP(C22,Recipes!$A$2:$F$208,5,FALSE)*D22,"") | F22: =IFERROR(VLOOKUP(C22,Recipes!$A$2:$F$208,6,FALSE)*D22,"") | G22: =IFERROR(F22/E22,"") | H22: =$H$3*D22 -> 0 | M22: =IFERROR(VLOOKUP(K22,Recipes!$A$2:$F$208,5,FALSE)*L22,"") | N22: =IFERROR(VLOOKUP(K22,Recipes!$A$2:$F$208,6,FALSE)*L22,"") | O22: =IFERROR(N22/M22,"") | P22: =$P$3*L22 -> 0
E23: =IFERROR(VLOOKUP(C23,Recipes!$A$2:$F$208,5,FALSE)*D23,"") | F23: =IFERROR(VLOOKUP(C23,Recipes!$A$2:$F$208,6,FALSE)*D23,"") | G23: =IFERROR(F23/E23,"") | H23: =$H$3*D23 -> 0 | M23: =IFERROR(VLOOKUP(K23,Recipes!$A$2:$F$208,5,FALSE)*L23,"") | N23: =IFERROR(VLOOKUP(K23,Recipes!$A$2:$F$208,6,FALSE)*L23,"") | O23: =IFERROR(N23/M23,"") | P23: =$P$3*L23 -> 0
E24: =IFERROR(VLOOKUP(C24,Recipes!$A$2:$F$208,5,FALSE)*D24,"") | F24: =IFERROR(VLOOKUP(C24,Recipes!$A$2:$F$208,6,FALSE)*D24,"") | G24: =IFERROR(F24/E24,"") | H24: =$H$3*D24 -> 0 | M24: =IFERROR(VLOOKUP(K24,Recipes!$A$2:$F$208,5,FALSE)*L24,"") | N24: =IFERROR(VLOOKUP(K24,Recipes!$A$2:$F$208,6,FALSE)*L24,"") | O24: =IFERROR(N24/M24,"") | P24: =$P$3*L24 -> 0
E25: =IFERROR(VLOOKUP(C25,Recipes!$A$2:$F$208,5,FALSE)*D25,"") | F25: =IFERROR(VLOOKUP(C25,Recipes!$A$2:$F$208,6,FALSE)*D25,"") | G25: =IFERROR(F25/E25,"") | H25: =$H$3*D25 -> 0 | M25: =IFERROR(VLOOKUP(K25,Recipes!$A$2:$F$208,5,FALSE)*L25,"") | N25: =IFERROR(VLOOKUP(K25,Recipes!$A$2:$F$208,6,FALSE)*L25,"") | O25: =IFERROR(N25/M25,"") | P25: =$P$3*L25 -> 0
E26: =IFERROR(VLOOKUP(C26,Recipes!$A$2:$F$208,5,FALSE)*D26,"") | F26: =IFERROR(VLOOKUP(C26,Recipes!$A$2:$F$208,6,FALSE)*D26,"") | G26: =IFERROR(F26/E26,"") | H26: =$H$3*D26 -> 0 | M26: =IFERROR(VLOOKUP(K26,Recipes!$A$2:$F$208,5,FALSE)*L26,"") | N26: =IFERROR(VLOOKUP(K26,Recipes!$A$2:$F$208,6,FALSE)*L26,"") | O26: =IFERROR(N26/M26,"") | P26: =$P$3*L26 -> 0
E27: =IFERROR(VLOOKUP(C27,Recipes!$A$2:$F$208,5,FALSE)*D27,"") | F27: =IFERROR(VLOOKUP(C27,Recipes!$A$2:$F$208,6,FALSE)*D27,"") | G27: =IFERROR(F27/E27,"") | H27: =$H$3*D27 -> 0 | M27: =IFERROR(VLOOKUP(K27,Recipes!$A$2:$F$208,5,FALSE)*L27,"") | N27: =IFERROR(VLOOKUP(K27,Recipes!$A$2:$F$208,6,FALSE)*L27,"") | O27: =IFERROR(N27/M27,"") | P27: =$P$3*L27 -> 0
... E30: =IFERROR(VLOOKUP(C30,Recipes!$A$2:$F$208,5,FALSE)*D30,"") | F30: =IFERROR(VLOOKUP(C30,Recipes!$A$2:$F$208,6,FALSE)*D30,"") | G30: =IFERROR(F30/E30,"") | H30: =$H$3*D30 -> 0 | M30: =IFERROR(VLOOKUP(K30,Recipes!$A$2:$F$208,5,FALSE)*L30,"") | N30: =IFERROR(VLOOKUP(K30,Recipes!$A$2:$F$208,6,FALSE)*L30,"") | O30: =IFERROR(N30/M30,"") | P30: =$P$3*L30 -> 0
A31: B | E31: =SUM(E32:E58) -> 900.43 | F31: =SUM(F32:F58) -> 3595.73 | G31: =IFERROR(F31/E31,"") -> 3.9933476 | H31: =COUNTIF(Meal_Itinerary!C:C,Meals!A31) -> 16 | M31: =SUM(M32:M58) -> 867.17143 | N31: =SUM(N32:N58) -> 3635.8571 | O31: =IFERROR(N31/M31,"") -> 4.1927778 | P31: =COUNTIF(Meal_Itinerary!E:E,Meals!A31) -> 10
B32: Breakfast | C32: Instant Carnation Mix | D32: 1 | E32: =IFERROR(VLOOKUP(C32,Recipes!$A$2:$F$208,5,FALSE)*D32,"") -> 70 | F32: =IFERROR(VLOOKUP(C32,Recipes!$A$2:$F$208,6,FALSE)*D32,"") -> 309.9 | G32: =IFERROR(F32/E32,"") -> 4.4271429 | H32: =$H$31* D32 -> 16 | J32: Breakfast | K32: Kyle's Kind Bar Breakfast | L32: 1 | M32: =IFERROR(VLOOKUP(K32,Recipes!$A$2:$F$208,5,FALSE)*L32,"") -> 126.6 | N32: =IFERROR(VLOOKUP(K32,Recipes!$A$2:$F$208,6,FALSE)*L32,"") -> 610 | O32: =IFERROR(N32/M32,"") -> 4.8183254 | P32: =$P$31*L32 -> 10
B33: Lunch | C33: Baby Food Pouch | D33: 0.5 | E33: =IFERROR(VLOOKUP(C33,Recipes!$A$2:$F$208,5,FALSE)*D33,"") -> 75 | F33: =IFERROR(VLOOKUP(C33,Recipes!$A$2:$F$208,6,FALSE)*D33,"") -> 50 | G33: =IFERROR(F33/E33,"") -> 0.66666667 | H33: =$H$31* D33 -> 8 | J33: Snack | K33: Kyle's Snickers Bar & Almond Bar | L33: 1 | M33: =IFERROR(VLOOKUP(K33,Recipes!$A$2:$F$208,5,FALSE)*L33,"") -> 184 | N33: =IFERROR(VLOOKUP(K33,Recipes!$A$2:$F$208,6,FALSE)*L33,"") -> 950 | O33: =IFERROR(N33/M33,"") -> 5.1630435 | P33: =$P$31*L33 -> 10
B34: Lunch | C34: Tuna Lunch | D34: 0.5 | E34: =IFERROR(VLOOKUP(C34,Recipes!$A$2:$F$208,5,FALSE)*D34,"") -> 62.5 | F34: =IFERROR(VLOOKUP(C34,Recipes!$A$2:$F$208,6,FALSE)*D34,"") -> 185 | G34: =IFERROR(F34/E34,"") -> 2.96 | H34: =$H$31* D34 -> 8 | J34: Lunch | K34: Beef Jerky Snack | L34: 2 | M34: =IFERROR(VLOOKUP(K34,Recipes!$A$2:$F$208,5,FALSE)*L34,"") -> 200 | N34: =IFERROR(VLOOKUP(K34,Recipes!$A$2:$F$208,6,FALSE)*L34,"") -> 500 | O34: =IFERROR(N34/M34,"") -> 2.5 | P34: =$P$31*L34 -> 20
B35: Lunch | C35: Corn Chips (Handful) | D35: 1 | E35: =IFERROR(VLOOKUP(C35,Recipes!$A$2:$F$208,5,FALSE)*D35,"") -> 50 | F35: =IFERROR(VLOOKUP(C35,Recipes!$A$2:$F$208,6,FALSE)*D35,"") -> 280 | G35: =IFERROR(F35/E35,"") -> 5.6 | H35: =$H$31* D35 -> 16 | J35: Lunch | K35: Peanut Butter (Spoonful) | L35: 5 | M35: =IFERROR(VLOOKUP(K35,Recipes!$A$2:$F$208,5,FALSE)*L35,"") -> 75 | N35: =IFERROR(VLOOKUP(K35,Recipes!$A$2:$F$208,6,FALSE)*L35,"") -> 450 | O35: =IFERROR(N35/M35,"") -> 6 | P35: =$P$31*L35 -> 50
B36: Lunch | C36: Beef Jerky Snack | D36: 0.8 | E36: =IFERROR(VLOOKUP(C36,Recipes!$A$2:$F$208,5,FALSE)*D36,"") -> 80 | F36: =IFERROR(VLOOKUP(C36,Recipes!$A$2:$F$208,6,FALSE)*D36,"") -> 200 | G36: =IFERROR(F36/E36,"") -> 2.5 | H36: =$H$31* D36 -> 12.8 | J36: Dinner | K36: Beans and Rice | L36: 1 | M36: =IFERROR(VLOOKUP(K36,Recipes!$A$2:$F$208,5,FALSE)*L36,"") -> 183 | N36: =IFERROR(VLOOKUP(K36,Recipes!$A$2:$F$208,6,FALSE)*L36,"") -> 783 | O36: =IFERROR(N36/M36,"") -> 4.2786885 | P36: =$P$31*L36 -> 10
B37: Snack | C37: ProBar | D37: 0 | E37: =IFERROR(VLOOKUP(C37,Recipes!$A$2:$F$208,5,FALSE)*D37,"") -> 0 | F37: =IFERROR(VLOOKUP(C37,Recipes!$A$2:$F$208,6,FALSE)*D37,"") -> 0 | G37: =IFERROR(F37/E37,"") | H37: =$H$31* D37 -> 0 | J37: Snack | K37: Gatorade (1.5 L) | L37: 1 | M37: =IFERROR(VLOOKUP(K37,Recipes!$A$2:$F$208,5,FALSE)*L37,"") -> 98.571429 | N37: =IFERROR(VLOOKUP(K37,Recipes!$A$2:$F$208,6,FALSE)*L37,"") -> 342.85714 | O37: =IFERROR(N37/M37,"") -> 3.4782609 | P37: =$P$31*L37 -> 10
