Workbook

Sheet Ingredients
A1: Ingredients | B1: Natasha List Serving (g) | C1: Natasha Calorie Per Serving (g) | D1: Recipe Serving | E1: Recipe Serving Unit | F1: Density (g/serving unit) | G1: Calories Per Serving | H1: Shopping List | I1: Total Weight (g) | J1: Total Weight (kg) | K1: Final Units | L1: Final Units for Purchase | M1: Current Inventory (2018-04-15) | N1: Outstanding Quantity | O1: Store to Purchase | P1: Total Cost | Q1: 1 | R1: 2 | S1: 3 | T1: 4 | U1: 5 | V1: 6 | W1: 7
A2: Instant Rice | B2: 30 | C2: 310 | D2: 1 | E2: cup | F2: =45*2 -> 90 | G2: =160*2 -> 320 | H2: =SUMIF(Recipes!B:B,A2,Recipes!G:G) -> 17.5 | I2: =H2*F2 -> 1575 | J2: =I2/1000 -> 1.575 | K2: kg | L2: =IF(K2="g",CONCATENATE(I2," g"),IF(K2="kg",CONCATENATE(J2," kg"),CONCATENATE(H2," ",E2))) -> 1.575 kg | M2: 2.6 | N2: =IF(K2="g",CONCATENATE(ROUND(I2-M2,2)," g"),IF(K2="kg",CONCATENATE(ROUND(J2-M2,2)," kg"),CONCATENATE(ROUND(H2-M2,1)," x ",E2))) -> -1.03 kg | O2: =IFERROR(VLOOKUP(CONCATENATE(A2,"-","Y"),'Price Comparison'!$C$2:$E$101,3,FALSE),"TBC") -> TBC
A3: Foil Pack Tuna | B3: 85 | C3: 90 | D3: 1 | E3: package | F3: 85 | G3: 90 | H3: =SUMIF(Recipes!B:B,A3,Recipes!G:G) -> 17.5 | I3: =H3*F3 -> 1487.5 | J3: =I3/1000 -> 1.4875 | L3: =IF(K3="g",CONCATENATE(I3," g"),IF(K3="kg",CONCATENATE(J3," kg"),CONCATENATE(H3," ",E3))) -> 17.5 package | M3: =30-2-4 -> 24 | N3: =IF(K3="g",CONCATENATE(ROUND(I3-M3,2)," g"),IF(K3="kg",CONCATENATE(ROUND(J3-M3,2)," kg"),CONCATENATE(ROUND(H3-M3,1)," x ",E3))) -> -6.5 x package | O3: =IFERROR(VLOOKUP(CONCATENATE(A3,"-","Y"),'Price Comparison'!$C$2:$E$101,3,FALSE),"TBC") -> TBC | Q3: y | R3: y | S3: y | T3: y | U3: y | V3: y | W3: y | X3: We have an extra 4 tuna packages in place of 4 salmons
A4: Parmasan Cheese Flakes | B4: 15 | C4: 60 | D4: 1 | E4: tablespoon | F4: 15 | G4: 60 | H4: =SUMIF(Recipes!B:B,A4,Recipes!G:G) -> 65 | I4: =H4*F4 -> 975 | J4: =I4/1000 -> 0.975 | K4: g | L4: =IF(K4="g",CONCATENATE(I4," g"),IF(K4="kg",CONCATENATE(J4," kg"),CONCATENATE(H4," ",E4))) -> 975 g | M4: =250+680 -> 930 | N4: =IF(K4="g",CONCATENATE(ROUND(I4-M4,2)," g"),IF(K4="kg",CONCATENATE(ROUND(J4-M4,2)," kg"),CONCATENATE(ROUND(H4-M4,1)," x ",E4))) -> 45 g | O4: =IFERROR(VLOOKUP(CONCATENATE(A4,"-","Y"),'Price Comparison'!$C$2:$E$101,3,FALSE),"TBC") -> TBC | X4: Updated - 2018-04-21 after Costco trip
A5: Olive Oil | B5: 14 | C5: 121 | D5: 1 | E5: tablespoon | F5: 14 | G5: 120 | H5: =SUMIF(Recipes!B:B,A5,Recipes!G:G) -> 97 | I5: =H5*F5 -> 1358 | J5: =I5/1000 -> 1.358 | L5: =IF(K5="g",CONCATENATE(I5," g"),IF(K5="kg",CONCATENATE(J5," kg"),CONCATENATE(H5," ",E5))) -> 97 tablespoon | M5: =(3*750)*0.067628 -> 152.163 | N5: =IF(K5="g",CONCATENATE(ROUND(I5-M5,2)," g"),IF(K5="kg",CONCATENATE(ROUND(J5-M5,2)," kg"),CONCATENATE(ROUND(H5-M5,1)," x ",E5))) -> -55.2 x tablespoon | O5: =IFERROR(VLOOKUP(CONCATENATE(A5,"-","Y"),'Price Comparison'!$C$2:$E$101,3,FALSE),"TBC") -> TBC | X5: ~ 7 sections. 112 tablespoons ~ 1.6 L of olive oil total. So, that means ~ 7x 225 ml container
A6: Dehydrated Vegetables | D6: 1 | E6: package | G6: 140 | H6: =SUMIF(Recipes!B:B,A6,Recipes!G:G) -> 0 | I6: =H6*F6 -> 0 | J6: =I6/1000 -> 0 | L6: =IF(K6="g",CONCATENATE(I6," g"),IF(K6="kg",CONCATENATE(J6," kg"),CONCATENATE(H6," ",E6))) -> 0 package | M6: 0 | N6: =IF(K6="g",CONCATENATE(ROUND(I6-M6,2)," g"),IF(K6="kg",CONCATENATE(ROUND(J6-M6,2)," kg"),CONCATENATE(ROUND(H6-M6,1)," x ",E6))) -> 0 x package | O6: =IFERROR(VLOOKUP(CONCATENATE(A6,"-","Y"),'Price Comparison'!$C$2:$E$101,3,FALSE),"TBC") -> TBC | X6: No package. Check the cabinet above sink to confirm
A7: Peanuts | B7: 100 | C7: 567 | D7: 1 | E7: cup | F7: 150 | G7: 828 | H7: =SUMIF(Recipes!B:B,A7,Recipes!G:G) -> 2.1 | I7: =H7*F7 -> 315 | J7: =I7/1000 -> 0.315 | K7: g | L7: =IF(K7="g",CONCATENATE(I7," g"),IF(K7="kg",CONCATENATE(J7," kg"),CONCATENATE(H7," ",E7))) -> 315 g | M7: =190+150 -> 340 | N7: =IF(K7="g",CONCATENATE(ROUND(I7-M7,2)," g"),IF(K7="kg",CONCATENATE(ROUND(J7-M7,2)," kg"),CONCATENATE(ROUND(H7-M7,1)," x ",E7))) -> -25 g | O7: =IFERROR(VLOOKUP(CONCATENATE(A7,"-","Y"),'Price Comparison'!$C$2:$E$101,3,FALSE),"TBC") -> TBC
A8: Instant Potato | D8: 1 | E8: cup | F8: =27*2 -> 54 | G8: =100*2 -> 200 | H8: =SUMIF(Recipes!B:B,A8,Recipes!G:G) -> 0 | I8: =H8*F8 -> 0 | J8: =I8/1000 -> 0 | K8: g | L8: =IF(K8="g",CONCATENATE(I8," g"),IF(K8="kg",CONCATENATE(J8," kg"),CONCATENATE(H8," ",E8))) -> 0 g | M8: 0 | N8: =IF(K8="g",CONCATENATE(ROUND(I8-M8,2)," g"),IF(K8="kg",CONCATENATE(ROUND(J8-M8,2)," kg"),CONCATENATE(ROUND(H8-M8,1)," x ",E8))) -> 0 g | O8: =IFERROR(VLOOKUP(CONCATENATE(A8,"-","Y"),'Price Comparison'!$C$2:$E$101,3,FALSE),"TBC") -> TBC
A9: Rice Vermicelli Noodles | B9: 75 | C9: 280 | D9: 1 | E9: Brick of noodles (1/5 of package) | F9: 45 | G9: 168 | H9: =SUMIF(Recipes!B:B,A9,Recipes!G:G) -> 109 | I9: =H9*F9 -> 4905 | J9: =I9/1000 -> 4.905 | L9: =IF(K9="g",CONCATENATE(I9," g"),IF(K9="kg",CONCATENATE(J9," kg"),CONCATENATE(H9," ",E9))) -> 109 Brick of noodles (1/5 of package) | M9: =6+(11*5)+10*5 -> 111 | N9: =IF(K9="g",CONCATENATE(ROUND(I9-M9,2)," g"),IF(K9="kg",CONCATENATE(ROUND(J9-M9,2)," kg"),CONCATENATE(ROUND(H9-M9,1)," x ",E9))) -> -2 x Brick of noodles (1/5 of package) | O9: =IFERROR(VLOOKUP(CONCATENATE(A9,"-","Y"),'Price Comparison'!$C$2:$E$101,3,FALSE),"TBC") -> TBC
A10: Whole Milk Powder | B10: 30 | C10: 160 | D10: 1 | E10: tablespoon | F10: =ROUND(30/3,1) -> 10 | G10: =ROUND(160/3,1) -> 53.3 | H10: =SUMIF(Recipes!B:B,A10,Recipes!G:G) -> 57 | I10: =H10*F10 -> 570 | J10: =I10/1000 -> 0.57 | K10: g | L10: =IF(K10="g",CONCATENATE(I10," g"),IF(K10="kg",CONCATENATE(J10," kg"),CONCATENATE(H10," ",E10))) -> 570 g | M10: =500+500 -> 1000 | N10: =IF(K10="g",CONCATENATE(ROUND(I10-M10,2)," g"),IF(K10="kg",CONCATENATE(ROUND(J10-M10,2)," kg"),CONCATENATE(ROUND(H10-M10,1)," x ",E10))) -> -430 g | O10: =IFERROR(VLOOKUP(CONCATENATE(A10,"-","Y"),'Price Comparison'!$C$2:$E$101,3,FALSE),"TBC") -> TBC | Q10: y | R10: y | S10: y | T10: y | U10: y | V10: y | W10: y
A11: Cheese Powder | D11: 1 | E11: tablespoon | H11: =SUMIF(Recipes!B:B,A11,Recipes!G:G) -> 0 | I11: =H11*F11 -> 0 | J11: =I11/1000 -> 0 | L11: =IF(K11="g",CONCATENATE(I11," g"),IF(K11="kg",CONCATENATE(J11," kg"),CONCATENATE(H11," ",E11))) -> 0 tablespoon | M11: 0 | N11: =IF(K11="g",CONCATENATE(ROUND(I11-M11,2)," g"),IF(K11="kg",CONCATENATE(ROUND(J11-M11,2)," kg"),CONCATENATE(ROUND(H11-M11,1)," x ",E11))) -> 0 x tablespoon | O11: =IFERROR(VLOOKUP(CONCATENATE(A11,"-","Y"),'Price Comparison'!$C$2:$E$101,3,FALSE),"TBC") -> TBC
A12: Foil Pack Chicken | D12: 1 | E12: package | G12: =70*4 -> 280 | H12: =SUMIF(Recipes!B:B,A12,Recipes!G:G) -> 0 | I12: =H12*F12 -> 0 | J12: =I12/1000 -> 0 | L12: =IF(K12="g",CONCATENATE(I12," g"),IF(K12="kg",CONCATENATE(J12," kg"),CONCATENATE(H12," ",E12))) -> 0 package | M12: 0 | N12: =IF(K12="g",CONCATENATE(ROUND(I12-M12,2)," g"),IF(K12="kg",CONCATENATE(ROUND(J12-M12,2)," kg"),CONCATENATE(ROUND(H12-M12,1)," x ",E12))) -> 0 x package | O12: =IFERROR(VLOOKUP(CONCATENATE(A12,"-","Y"),'Price Comparison'!$C$2:$E$101,3,FALSE),"TBC") -> TBC
A13: Curry Spice | D13: 1 | E13: tablespoon | G13: 20 | H13: =SUMIF(Recipes!B:B,A13,Recipes!G:G) -> 0 | I13: =H13*F13 -> 0 | J13: =I13/1000 -> 0 | L13: =IF(K13="g",CONCATENATE(I13," g"),IF(K13="kg",CONCATENATE(J13," kg"),CONCATENATE(H13," ",E13))) -> 0 tablespoon | M13: 0 | N13: =IF(K13="g",CONCATENATE(ROUND(I13-M13,2)," g"),IF(K13="kg",CONCATENATE(ROUND(J13-M13,2)," kg"),CONCATENATE(ROUND(H13-M13,1)," x ",E13))) -> 0 x tablespoon | O13: =IFERROR(VLOOKUP(CONCATENATE(A13,"-","Y"),'Price Comparison'!$C$2:$E$101,3,FALSE),"TBC") -> TBC
A14: Chocolate Almonds | D14: 1 | E14: cup | G14: 230 | H14: =SUMIF(Recipes!B:B,A14,Recipes!G:G) -> 0 | I14: =H14*F14 -> 0 | J14: =I14/1000 -> 0 | L14: =IF(K14="g",CONCATENATE(I14," g"),IF(K14="kg",CONCATENATE(J14," kg"),CONCATENATE(H14," ",E14))) -> 0 cup | M14: 0 | N14: =IF(K14="g",CONCATENATE(ROUND(I14-M14,2)," g"),IF(K14="kg",CONCATENATE(ROUND(J14-M14,2)," kg"),CONCATENATE(ROUND(H14-M14,1)," x ",E14))) -> 0 x cup | O14: =IFERROR(VLOOKUP(CONCATENATE(A14,"-","Y"),'Price Comparison'!$C$2:$E$101,3,FALSE),"TBC") -> TBC
A15: Chicken Broth | D15: 1 | E15: cube | G15: 30 | H15: =SUMIF(Recipes!B:B,A15,Recipes!G:G) -> 0 | I15: =H15*F15 -> 0 | J15: =I15/1000 -> 0 | L15: =IF(K15="g",CONCATENATE(I15," g"),IF(K15="kg",CONCATENATE(J15," kg"),CONCATENATE(H15," ",E15))) -> 0 cube | M15: 0 | N15: =IF(K15="g",CONCATENATE(ROUND(I15-M15,2)," g"),IF(K15="kg",CONCATENATE(ROUND(J15-M15,2)," kg"),CONCATENATE(ROUND(H15-M15,1)," x ",E15))) -> 0 x cube | O15: =IFERROR(VLOOKUP(CONCATENATE(A15,"-","Y"),'Price Comparison'!$C$2:$E$101,3,FALSE),"TBC") -> TBC
A16: Dehydrated Onion | D16: 1 | E16: tablespoon | G16: 17 | H16: =SUMIF(Recipes!B:B,A16,Recipes!G:G) -> 0 | I16: =H16*F16 -> 0 | J16: =I16/1000 -> 0 | L16: =IF(K16="g",CONCATENATE(I16," g"),IF(K16="kg",CONCATENATE(J16," kg"),CONCATENATE(H16," ",E16))) -> 0 tablespoon | M16: 0 | N16: =IF(K16="g",CONCATENATE(ROUND(I16-M16,2)," g"),IF(K16="kg",CONCATENATE(ROUND(J16-M16,2)," kg"),CONCATENATE(ROUND(H16-M16,1)," x ",E16))) -> 0 x tablespoon | O16: =IFERROR(VLOOKUP(CONCATENATE(A16,"-","Y"),'Price Comparison'!$C$2:$E$101,3,FALSE),"TBC") -> TBC
A17: Foil Pack Salmon | D17: 1 | E17: package | F17: 100 | G17: 200 | H17: =SUMIF(Recipes!B:B,A17,Recipes!G:G) -> 9 | I17: =H17*F17 -> 900 | J17: =I17/1000 -> 0.9 | L17: =IF(K17="g",CONCATENATE(I17," g"),IF(K17="kg",CONCATENATE(J17," kg"),CONCATENATE(H17," ",E17))) -> 9 package | M17: =1+5+4 -> 10 | N17: =IF(K17="g",CONCATENATE(ROUND(I17-M17,2)," g"),IF(K17="kg",CONCATENATE(ROUND(J17-M17,2)," kg"),CONCATENATE(ROUND(H17-M17,1)," x ",E17))) -> -1 x package | O17: =IFERROR(VLOOKUP(CONCATENATE(A17,"-","Y"),'Price Comparison'!$C$2:$E$101,3,FALSE),"TBC") -> MEC | Q17: y | R17: y | S17: y | T17: y | U17: y | V17: y | W17: y
A18: Tortilla (Wrap) | D18: 1 | E18: piece | G18: 90 | H18: =SUMIF(Recipes!B:B,A18,Recipes!G:G) -> 0 | I18: =H18*F18 -> 0 | J18: =I18/1000 -> 0 | L18: =IF(K18="g",CONCATENATE(I18," g"),IF(K18="kg",CONCATENATE(J18," kg"),CONCATENATE(H18," ",E18))) -> 0 piece | M18: 0 | N18: =IF(K18="g",CONCATENATE(ROUND(I18-M18,2)," g"),IF(K18="kg",CONCATENATE(ROUND(J18-M18,2)," kg"),CONCATENATE(ROUND(H18-M18,1)," x ",E18))) -> 0 x piece | O18: =IFERROR(VLOOKUP(CONCATENATE(A18,"-","Y"),'Price Comparison'!$C$2:$E$101,3,FALSE),"TBC") -> TBC
A19: Peanut Butter | B19: 100 | C19: 587 | D19: 1 | E19: tablespoon | F19: 15 | G19: 90 | H19: =SUMIF(Recipes!B:B,A19,Recipes!G:G) -> 316 | I19: =H19*F19 -> 4740 | J19: =I19/1000 -> 4.74 | K19: kg | L19: =IF(K19="g",CONCATENATE(I19," g"),IF(K19="kg",CONCATENATE(J19," kg"),CONCATENATE(H19," ",E19))) -> 4.74 kg | M19: =7*0.75 -> 5.25 | N19: =IF(K19="g",CONCATENATE(ROUND(I19-M19,2)," g"),IF(K19="kg",CONCATENATE(ROUND(J19-M19,2)," kg"),CONCATENATE(ROUND(H19-M19,1)," x ",E19))) -> -0.51 kg | O19: =IFERROR(VLOOKUP(CONCATENATE(A19,"-","Y"),'Price Comparison'!$C$2:$E$101,3,FALSE),"TBC") -> TBC | Q19: y | R19: y | S19: y | T19: y | U19: y | V19: y | W19: y | X19: Equates to roughly 7x750 g containers.
A20: Dried cranberries | D20: 1 | E20: tablespoon | G20: 7 | H20: =SUMIF(Recipes!B:B,A20,Recipes!G:G) -> 0 | I20: =H20*F20 -> 0 | J20: =I20/1000 -> 0 | L20: =IF(K20="g",CONCATENATE(I20," g"),IF(K20="kg",CONCATENATE(J20," kg"),CONCATENATE(H20," ",E20))) -> 0 tablespoon | M20: 0 | N20: =IF(K20="g",CONCATENATE(ROUND(I20-M20,2)," g"),IF(K20="kg",CONCATENATE(ROUND(J20-M20,2)," kg"),CONCATENATE(ROUND(H20-M20,1)," x ",E20))) -> 0 x tablespoon | O20: =IFERROR(VLOOKUP(CONCATENATE(A20,"-","Y"),'Price Comparison'!$C$2:$E$101,3,FALSE),"TBC") -> TBC
A21: Chocolate Chips | D21: 1 | E21: tablespoon | G21: 80 | H21: =SUMIF(Recipes!B:B,A21,Recipes!G:G) -> 0 | I21: =H21*F21 -> 0 | J21: =I21/1000 -> 0 | L21: =IF(K21="g",CONCATENATE(I21," g"),IF(K21="kg",CONCATENATE(J21," kg"),CONCATENATE(H21," ",E21))) -> 0 tablespoon | M21: 0 | N21: =IF(K21="g",CONCATENATE(ROUND(I21-M21,2)," g"),IF(K21="kg",CONCATENATE(ROUND(J21-M21,2)," kg"),CONCATENATE(ROUND(H21-M21,1)," x ",E21))) -> 0 x tablespoon | O21: =IFERROR(VLOOKUP(CONCATENATE(A21,"-","Y"),'Price Comparison'!$C$2:$E$101,3,FALSE),"TBC") -> TBC
A22: Sausage | B22: 100 | C22: 426 | D22: 1 | E22: piece | F22: 100 | G22: 426 | H22: =SUMIF(Recipes!B:B,A22,Recipes!G:G) -> 49 | I22: =H22*F22 -> 4900 | J22: =I22/1000 -> 4.9 | K22: kg | L22: =IF(K22="g",CONCATENATE(I22," g"),IF(K22="kg",CONCATENATE(J22," kg"),CONCATENATE(H22," ",E22))) -> 4.9 kg | M22: 0 | N22: =IF(K22="g",CONCATENATE(ROUND(I22-M22,2)," g"),IF(K22="kg",CONCATENATE(ROUND(J22-M22,2)," kg"),CONCATENATE(ROUND(H22-M22,1)," x ",E22))) -> 4.9 kg | O22: =IFERROR(VLOOKUP(CONCATENATE(A22,"-","Y"),'Price Comparison'!$C$2:$E$101,3,FALSE),"TBC") -> TBC | X22: 5 packages of 600 grams each; Frebeys. Intended to replace beef jerkey
A23: Aged Cheddar Cheese | B23: 30 | C23: 120 | D23: 1 | E23: piece | F23: 30 | G23: 120 | H23: =SUMIF(Recipes!B:B,A23,Recipes!G:G) -> 35 | I23: =H23*F23 -> 1050 | J23: =I23/1000 -> 1.05 | K23: kg | L23: =IF(K23="g",CONCATENATE(I23," g"),IF(K23="kg",CONCATENATE(J23," kg"),CONCATENATE(H23," ",E23))) -> 1.05 kg | M23: 0 | N23: =IF(K23="g",CONCATENATE(ROUND(I23-M23,2)," g"),IF(K23="kg",CONCATENATE(ROUND(J23-M23,2)," kg"),CONCATENATE(ROUND(H23-M23,1)," x ",E23))) -> 1.05 kg | O23: =IFERROR(VLOOKUP(CONCATENATE(A23,"-","Y"),'Price Comparison'!$C$2:$E$101,3,FALSE),"TBC") -> TBC
A24: Oatmeal | D24: 1 | E24: cup | G24: 339 | H24: =SUMIF(Recipes!B:B,A24,Recipes!G:G) -> 0 | I24: =H24*F24 -> 0 | J24: =I24/1000 -> 0 | L24: =IF(K24="g",CONCATENATE(I24," g"),IF(K24="kg",CONCATENATE(J24," kg"),CONCATENATE(H24," ",E24))) -> 0 cup | M24: 0 | N24: =IF(K24="g",CONCATENATE(ROUND(I24-M24,2)," g"),IF(K24="kg",CONCATENATE(ROUND(J24-M24,2)," kg"),CONCATENATE(ROUND(H24-M24,1)," x ",E24))) -> 0 x cup | O24: =IFERROR(VLOOKUP(CONCATENATE(A24,"-","Y"),'Price Comparison'!$C$2:$E$101,3,FALSE),"TBC") -> TBC
A25: Banana Chips | D25: 1 | E25: tablespoon | G25: =218/2 -> 109 | H25: =SUMIF(Recipes!B:B,A25,Recipes!G:G) -> 0 | I25: =H25*F25 -> 0 | J25: =I25/1000 -> 0 | L25: =IF(K25="g",CONCATENATE(I25," g"),IF(K25="kg",CONCATENATE(J25," kg"),CONCATENATE(H25," ",E25))) -> 0 tablespoon | M25: 0 | N25: =IF(K25="g",CONCATENATE(ROUND(I25-M25,2)," g"),IF(K25="kg",CONCATENATE(ROUND(J25-M25,2)," kg"),CONCATENATE(ROUND(H25-M25,1)," x ",E25))) -> 0 x tablespoon | O25: =IFERROR(VLOOKUP(CONCATENATE(A25,"-","Y"),'Price Comparison'!$C$2:$E$101,3,FALSE),"TBC") -> TBC
A26: Brown sugar | D26: 1 | E26: tablespoon | G26: 52 | H26: =SUMIF(Recipes!B:B,A26,Recipes!G:G) -> 0 | I26: =H26*F26 -> 0 | J26: =I26/1000 -> 0 | L26: =IF(K26="g",CONCATENATE(I26," g"),IF(K26="kg",CONCATENATE(J26," kg"),CONCATENATE(H26," ",E26))) -> 0 tablespoon | M26: 0 | N26: =IF(K26="g",CONCATENATE(ROUND(I26-M26,2)," g"),IF(K26="kg",CONCATENATE(ROUND(J26-M26,2)," kg"),CONCATENATE(ROUND(H26-M26,1)," x ",E26))) -> 0 x tablespoon | O26: =IFERROR(VLOOKUP(CONCATENATE(A26,"-","Y"),'Price Comparison'!$C$2:$E$101,3,FALSE),"TBC") -> TBC
A27: Tortilla (Chips) | D27: 1 | E27: cup | G27: 293 | H27: =SUMIF(Recipes!B:B,A27,Recipes!G:G) -> 0 | I27: =H27*F27 -> 0 | J27: =I27/1000 -> 0 | L27: =IF(K27="g",CONCATENATE(I27," g"),IF(K27="kg",CONCATENATE(J27," kg"),CONCATENATE(H27," ",E27))) -> 0 cup | M27: 0 | N27: =IF(K27="g",CONCATENATE(ROUND(I27-M27,2)," g"),IF(K27="kg",CONCATENATE(ROUND(J27-M27,2)," kg"),CONCATENATE(ROUND(H27-M27,1)," x ",E27))) -> 0 x cup | O27: =IFERROR(VLOOKUP(CONCATENATE(A27,"-","Y"),'Price Comparison'!$C$2:$E$101,3,FALSE),"TBC") -> TBC
A28: Dehydrated Hummus | D28: 1 | E28: tablespoon | G28: =45/2 -> 22.5 | H28: =SUMIF(Recipes!B:B,A28,Recipes!G:G) -> 0 | I28: =H28*F28 -> 0 | J28: =I28/1000 -> 0 | L28: =IF(K28="g",CONCATENATE(I28," g"),IF(K28="kg",CONCATENATE(J28," kg"),CONCATENATE(H28," ",E28))) -> 0 tablespoon | M28: 0 | N28: =IF(K28="g",CONCATENATE(ROUND(I28-M28,2)," g"),IF(K28="kg",CONCATENATE(ROUND(J28-M28,2)," kg"),CONCATENATE(ROUND(H28-M28,1)," x ",E28))) -> 0 x tablespoon | O28: =IFERROR(VLOOKUP(CONCATENATE(A28,"-","Y"),'Price Comparison'!$C$2:$E$101,3,FALSE),"TBC") -> TBC | Y28: Oh Henry | Z28: Cookies and Cream | AA28: Snickers
A29: Snickers Bar | B29: 52 | C29: 250 | D29: 1 | E29: bar | F29: 52 | G29: 250 | H29: =SUMIF(Recipes!B:B,A29,Recipes!G:G) -> 94 | I29: =H29*F29 -> 4888 | J29: =I29/1000 -> 4.888 | L29: =IF(K29="g",CONCATENATE(I29," g"),IF(K29="kg",CONCATENATE(J29," kg"),CONCATENATE(H29," ",E29))) -> 94 bar | M29: =SUM(Y29:AA29) -> 116 | N29: =IF(K29="g",CONCATENATE(ROUND(I29-M29,2)," g"),IF(K29="kg",CONCATENATE(ROUND(J29-M29,2)," kg"),CONCATENATE(ROUND(H29-M29,1)," x ",E29))) -> -22 x bar | O29: =IFERROR(VLOOKUP(CONCATENATE(A29,"-","Y"),'Price Comparison'!$C$2:$E$101,3,FALSE),"TBC") -> Superstore | Q29: y | R29: y | S29: y | T29: y | U29: y | V29: y | W29: y | X29: Not just snickers. Kyle will get all the Snickers he needs, but Natasha will supplement with other bars | Y29: 0 | Z29: 0 | AA29: =7*16+4 -> 116
A30: Cashews | D30: 1 | E30: cup | G30: 754 | H30: =SUMIF(Recipes!B:B,A30,Recipes!G:G) -> 0 | I30: =H30*F30 -> 0 | J30: =I30/1000 -> 0 | L30: =IF(K30="g",CONCATENATE(I30," g"),IF(K30="kg",CONCATENATE(J30," kg"),CONCATENATE(H30," ",E30))) -> 0 cup | M30: 0 | N30: =IF(K30="g",CONCATENATE(ROUND(I30-M30,2)," g"),IF(K30="kg",CONCATENATE(ROUND(J30-M30,2)," kg"),CONCATENATE(ROUND(H30-M30,1)," x ",E30))) -> 0 x cup | O30: =IFERROR(VLOOKUP(CONCATENATE(A30,"-","Y"),'Price Comparison'!$C$2:$E$101,3,FALSE),"TBC") -> TBC
A31: Annies Rice Pasta and Mac and Cheese | D31: 1 | E31: package | G31: 230 | H31: =SUMIF(Recipes!B:B,A31,Recipes!G:G) -> 0 | I31: =H31*F31 -> 0 | J31: =I31/1000 -> 0 | L31: =IF(K31="g",CONCATENATE(I31," g"),IF(K31="kg",CONCATENATE(J31," kg"),CONCATENATE(H31," ",E31))) -> 0 package | M31: 0 | N31: =IF(K31="g",CONCATENATE(ROUND(I31-M31,2)," g"),IF(K31="kg",CONCATENATE(ROUND(J31-M31,2)," kg"),CONCATENATE(ROUND(H31-M31,1)," x ",E31))) -> 0 x package | O31: =IFERROR(VLOOKUP(CONCATENATE(A31,"-","Y"),'Price Comparison'!$C$2:$E$101,3,FALSE),"TBC") -> TBC
A32: Bacon Bits | D32: 1 | E32: tablespoon | F32: 7 | G32: 30 | H32: =SUMIF(Recipes!B:B,A32,Recipes!G:G) -> 0 | I32: =H32*F32 -> 0 | J32: =I32/1000 -> 0 | L32: =IF(K32="g",CONCATENATE(I32," g"),IF(K32="kg",CONCATENATE(J32," kg"),CONCATENATE(H32," ",E32))) -> 0 tablespoon | N32: =IF(K32="g",CONCATENATE(ROUND(I32-M32,2)," g"),IF(K32="kg",CONCATENATE(ROUND(J32-M32,2)," kg"),CONCATENATE(ROUND(H32-M32,1)," x ",E32))) -> 0 x tablespoon | O32: =IFERROR(VLOOKUP(CONCATENATE(A32,"-","Y"),'Price Comparison'!$C$2:$E$101,3,FALSE),"TBC") -> TBC | Y32: Beef Jerkey
A33: Beef Jerky | B33: 100 | C33: 410 | D33: 1 | E33: 3 pieces | F33: 20 | G33: 50 | H33: =SUMIF(Recipes!B:B,A33,Recipes!G:G) -> 209 | I33: =H33*F33 -> 4180 | J33: =I33/1000 -> 4.18 | K33: g | L33: =IF(K33="g",CONCATENATE(I33," g"),IF(K33="kg",CONCATENATE(J33," kg"),CONCATENATE(H33," ",E33))) -> 4180 g | M33: =0.9+3+0.25 -> 4.15 | N33: =IF(K33="g",CONCATENATE(ROUND(I33-M33,2)," g"),IF(K33="kg",CONCATENATE(ROUND(J33-M33,2)," kg"),CONCATENATE(ROUND(H33-M33,1)," x ",E33))) -> 4175.85 g | O33: =IFERROR(VLOOKUP(CONCATENATE(A33,"-","Y"),'Price Comparison'!$C$2:$E$101,3,FALSE),"TBC") -> TBC | Q33: y | R33: y | S33: y | T33: y | U33: y | V33: y | W33: y | X33: Updated - 2018-04-21 after Costco trip | Y33: 0.9
A34: Couscous | D34: 1 | E34: cup | G34: =180*3 -> 540 | H34: =SUMIF(Recipes!B:B,A34,Recipes!G:G) -> 0 | I34: =H34*F34 -> 0 | J34: =I34/1000 -> 0 | L34: =IF(K34="g",CONCATENATE(I34," g"),IF(K34="kg",CONCATENATE(J34," kg"),CONCATENATE(H34," ",E34))) -> 0 cup | M34: 0 | N34: =IF(K34="g",CONCATENATE(ROUND(I34-M34,2)," g"),IF(K34="kg",CONCATENATE(ROUND(J34-M34,2)," kg"),CONCATENATE(ROUND(H34-M34,1)," x ",E34))) -> 0 x cup | O34: =IFERROR(VLOOKUP(CONCATENATE(A34,"-","Y"),'Price Comparison'!$C$2:$E$101,3,FALSE),"TBC") -> TBC
A35: Chicken Gravy | D35: 1 | E35: 1/4 package | G35: 20 | H35: =SUMIF(Recipes!B:B,A35,Recipes!G:G) -> 0 | I35: =H35*F35 -> 0 | J35: =I35/1000 -> 0 | L35: =IF(K35="g",CONCATENATE(I35," g"),IF(K35="kg",CONCATENATE(J35," kg"),CONCATENATE(H35," ",E35))) -> 0 1/4 package | M35: 0 | N35: =IF(K35="g",CONCATENATE(ROUND(I35-M35,2)," g"),IF(K35="kg",CONCATENATE(ROUND(J35-M35,2)," kg"),CONCATENATE(ROUND(H35-M35,1)," x ",E35))) -> 0 x 1/4 package | O35: =IFERROR(VLOOKUP(CONCATENATE(A35,"-","Y"),'Price Comparison'!$C$2:$E$101,3,FALSE),"TBC") -> TBC
A36: Rice Ramen Noodle and Miso | D36: 1 | E36: package (cup) | G36: 280 | H36: =SUMIF(Recipes!B:B,A36,Recipes!G:G) -> 0 | I36: =H36*F36 -> 0 | J36: =I36/1000 -> 0 | L36: =IF(K36="g",CONCATENATE(I36," g"),IF(K36="kg",CONCATENATE(J36," kg"),CONCATENATE(H36," ",E36))) -> 0 package (cup) | M36: 0 | N36: =IF(K36="g",CONCATENATE(ROUND(I36-M36,2)," g"),IF(K36="kg",CONCATENATE(ROUND(J36-M36,2)," kg"),CONCATENATE(ROUND(H36-M36,1)," x ",E36))) -> 0 x package (cup) | O36: =IFERROR(VLOOKUP(CONCATENATE(A36,"-","Y"),'Price Comparison'!$C$2:$E$101,3,FALSE),"TBC") -> TBC
A37: Dried Mango | D37: 1 | E37: piece | G37: 16 | H37: =SUMIF(Recipes!B:B,A37,Recipes!G:G) -> 0 | I37: =H37*F37 -> 0 | J37: =I37/1000 -> 0 | L37: =IF(K37="g",CONCATENATE(I37," g"),IF(K37="kg",CONCATENATE(J37," kg"),CONCATENATE(H37," ",E37))) -> 0 piece | M37: 0 | N37: =IF(K37="g",CONCATENATE(ROUND(I37-M37,2)," g"),IF(K37="kg",CONCATENATE(ROUND(J37-M37,2)," kg"),CONCATENATE(ROUND(H37-M37,1)," x ",E37))) -> 0 x piece | O37: =IFERROR(VLOOKUP(CONCATENATE(A37,"-","Y"),'Price Comparison'!$C$2:$E$101,3,FALSE),"TBC") -> TBC
A38: Nothing/ Zero | D38: 1 | E38: piece | G38: 0 | H38: =SUMIF(Recipes!B:B,A38,Recipes!G:G) -> 0 | I38: =H38*F38 -> 0 | J38: =I38/1000 -> 0 | L38: =IF(K38="g",CONCATENATE(I38," g"),IF(K38="kg",CONCATENATE(J38," kg"),CONCATENATE(H38," ",E38))) -> 0 piece | M38: 0 | N38: =IF(K38="g",CONCATENATE(ROUND(I38-M38,2)," g"),IF(K38="kg",CONCATENATE(ROUND(J38-M38,2)," kg"),CONCATENATE(ROUND(H38-M38,1)," x ",E38))) -> 0 x piece | O38: =IFERROR(VLOOKUP(CONCATENATE(A38,"-","Y"),'Price Comparison'!$C$2:$E$101,3,FALSE),"TBC") -> TBC
A39: Gummy Bears | B39: 39 | C39: 140 | D39: 1 | E39: piece | F39: 2.5 | G39: 9 | H39: =SUMIF(Recipes!B:B,A39,Recipes!G:G) -> 225 | I39: =H39*F39 -> 562.5 | J39: =I39/1000 -> 0.5625 | K39: g | L39: =IF(K39="g",CONCATENATE(I39," g"),IF(K39="kg",CONCATENATE(J39," kg"),CONCATENATE(H39," ",E39))) -> 562.5 g | M39: =300+(185*2) -> 670 | N39: =IF(K39="g",CONCATENATE(ROUND(I39-M39,2)," g"),IF(K39="kg",CONCATENATE(ROUND(J39-M39,2)," kg"),CONCATENATE(ROUND(H39-M39,1)," x ",E39))) -> -107.5 g | O39: =IFERROR(VLOOKUP(CONCATENATE(A39,"-","Y"),'Price Comparison'!$C$2:$E$101,3,FALSE),"TBC") -> TBC | Q39: y | R39: y | S39: y | T39: y | U39: y | V39: y | W39: y
A40: Dehydrated Chicken | D40: 1 | E40: package (35 g) | G40: 90 | H40: =SUMIF(Recipes!B:B,A40,Recipes!G:G) -> 0 | I40: =H40*F40 -> 0 | J40: =I40/1000 -> 0 | L40: =IF(K40="g",CONCATENATE(I40," g"),IF(K40="kg",CONCATENATE(J40," kg"),CONCATENATE(H40," ",E40))) -> 0 package (35 g) | M40: 0 | N40: =IF(K40="g",CONCATENATE(ROUND(I40-M40,2)," g"),IF(K40="kg",CONCATENATE(ROUND(J40-M40,2)," kg"),CONCATENATE(ROUND(H40-M40,1)," x ",E40))) -> 0 x package (35 g) | O40: =IFERROR(VLOOKUP(CONCATENATE(A40,"-","Y"),'Price Comparison'!$C$2:$E$101,3,FALSE),"TBC") -> TBC
A41: Dehydrated Beef | D41: 1 | E41: 1/2 package (28) | G41: 70 | H41: =SUMIF(Recipes!B:B,A41,Recipes!G:G) -> 0 | I41: =H41*F41 -> 0 | J41: =I41/1000 -> 0 | L41: =IF(K41="g",CONCATENATE(I41," g"),IF(K41="kg",CONCATENATE(J41," kg"),CONCATENATE(H41," ",E41))) -> 0 1/2 package (28) | M41: 0 | N41: =IF(K41="g",CONCATENATE(ROUND(I41-M41,2)," g"),IF(K41="kg",CONCATENATE(ROUND(J41-M41,2)," kg"),CONCATENATE(ROUND(H41-M41,1)," x ",E41))) -> 0 x 1/2 package (28) | O41: =IFERROR(VLOOKUP(CONCATENATE(A41,"-","Y"),'Price Comparison'!$C$2:$E$101,3,FALSE),"TBC") -> TBC
A42: Alpine Aire Guacamole and Chips | D42: 1 | E42: package | G42: 380 | H42: =SUMIF(Recipes!B:B,A42,Recipes!G:G) -> 0 | I42: =H42*F42 -> 0 | J42: =I42/1000 -> 0 | L42: =IF(K42="g",CONCATENATE(I42," g"),IF(K42="kg",CONCATENATE(J42," kg"),CONCATENATE(H42," ",E42))) -> 0 package | M42: 0 | N42: =IF(K42="g",CONCATENATE(ROUND(I42-M42,2)," g"),IF(K42="kg",CONCATENATE(ROUND(J42-M42,2)," kg"),CONCATENATE(ROUND(H42-M42,1)," x ",E42))) -> 0 x package | O42: =IFERROR(VLOOKUP(CONCATENATE(A42,"-","Y"),'Price Comparison'!$C$2:$E$101,3,FALSE),"TBC") -> TBC
A43: Garlic Powder | B43: 10 | C43: 32 | D43: 1 | E43: mass (g) | F43: 10 | G43: 32 | H43: =SUMIF(Recipes!B:B,A43,Recipes!G:G) -> 7.5 | I43: =H43*F43 -> 75 | J43: =I43/1000 -> 0.075 | K43: g | L43: =IF(K43="g",CONCATENATE(I43," g"),IF(K43="kg",CONCATENATE(J43," kg"),CONCATENATE(H43," ",E43))) -> 75 g | M43: 320 | N43: =IF(K43="g",CONCATENATE(ROUND(I43-M43,2)," g"),IF(K43="kg",CONCATENATE(ROUND(J43-M43,2)," kg"),CONCATENATE(ROUND(H43-M43,1)," x ",E43))) -> -245 g | O43: =IFERROR(VLOOKUP(CONCATENATE(A43,"-","Y"),'Price Comparison'!$C$2:$E$101,3,FALSE),"TBC") -> TBC
A44: Protein Granola Bar | D44: 1 | E44: bar | F44: 40 | G44: 200 | H44: =SUMIF(Recipes!B:B,A44,Recipes!G:G) -> 0 | I44: =H44*F44 -> 0 | J44: =I44/1000 -> 0 | L44: =IF(K44="g",CONCATENATE(I44," g"),IF(K44="kg",CONCATENATE(J44," kg"),CONCATENATE(H44," ",E44))) -> 0 bar | N44: =IF(K44="g",CONCATENATE(ROUND(I44-M44,2)," g"),IF(K44="kg",CONCATENATE(ROUND(J44-M44,2)," kg"),CONCATENATE(ROUND(H44-M44,1)," x ",E44))) -> 0 x bar | O44: =IFERROR(VLOOKUP(CONCATENATE(A44,"-","Y"),'Price Comparison'!$C$2:$E$101,3,FALSE),"TBC") -> TBC
A45: Corn Chips (Fritos) | B45: 50 | C45: 280 | D45: 1 | E45: 57 chips (1/7 of bag) | F45: 50 | G45: 280 | H45: =SUMIF(Recipes!B:B,A45,Recipes!G:G) -> 103 | I45: =H45*F45 -> 5150 | J45: =I45/1000 -> 5.15 | K45: kg | L45: =IF(K45="g",CONCATENATE(I45," g"),IF(K45="kg",CONCATENATE(J45," kg"),CONCATENATE(H45," ",E45))) -> 5.15 kg | M45: =11*0.37+4*0.32 -> 5.35 | N45: =IF(K45="g",CONCATENATE(ROUND(I45-M45,2)," g"),IF(K45="kg",CONCATENATE(ROUND(J45-M45,2)," kg"),CONCATENATE(ROUND(H45-M45,1)," x ",E45))) -> -0.2 kg | O45: =IFERROR(VLOOKUP(CONCATENATE(A45,"-","Y"),'Price Comparison'!$C$2:$E$101,3,FALSE),"TBC") -> TBC | Q45: y | R45: y | S45: y | T45: y | U45: y | V45: y | W45: y
A46: Sun Dried Tomatos | B46: 14 | C46: 40 | D46: 1 | E46: tablespoon | F46: 14 | G46: 40 | H46: =SUMIF(Recipes!B:B,A46,Recipes!G:G) -> 61.25 | I46: =H46*F46 -> 857.5 | J46: =I46/1000 -> 0.8575 | K46: g | L46: =IF(K46="g",CONCATENATE(I46," g"),IF(K46="kg",CONCATENATE(J46," kg"),CONCATENATE(H46," ",E46))) -> 857.5 g | M46: =10*85 -> 850 | N46: =IF(K46="g",CONCATENATE(ROUND(I46-M46,2)," g"),IF(K46="kg",CONCATENATE(ROUND(J46-M46,2)," kg"),CONCATENATE(ROUND(H46-M46,1)," x ",E46))) -> 7.5 g | O46: =IFERROR(VLOOKUP(CONCATENATE(A46,"-","Y"),'Price Comparison'!$C$2:$E$101,3,FALSE),"TBC") -> TBC
A47: Bean Dip | B47: 71 | C47: 310 | D47: 1 | E47: 1/2 package (g) | F47: 71 | G47: 310 | H47: =SUMIF(Recipes!B:B,A47,Recipes!G:G) -> 35 | I47: =H47*F47 -> 2485 | J47: =I47/1000 -> 2.485 | L47: =IF(K47="g",CONCATENATE(I47," g"),IF(K47="kg",CONCATENATE(J47," kg"),CONCATENATE(H47," ",E47))) -> 35 1/2 package (g) | M47: =2+34 -> 36 | N47: =IF(K47="g",CONCATENATE(ROUND(I47-M47,2)," g"),IF(K47="kg",CONCATENATE(ROUND(J47-M47,2)," kg"),CONCATENATE(ROUND(H47-M47,1)," x ",E47))) -> -1 x 1/2 package (g) | O47: =IFERROR(VLOOKUP(CONCATENATE(A47,"-","Y"),'Price Comparison'!$C$2:$E$101,3,FALSE),"TBC") -> TBC
A48: Foil Packed Corned Beef | D48: 1 | H48: =SUMIF(Recipes!B:B,A48,Recipes!G:G) -> 0 | I48: =H48*F48 -> 0 | J48: =I48/1000 -> 0 | L48: =IF(K48="g",CONCATENATE(I48," g"),IF(K48="kg",CONCATENATE(J48," kg"),CONCATENATE(H48," ",E48))) -> 0 | M48: 0 | N48: =IF(K48="g",CONCATENATE(ROUND(I48-M48,2)," g"),IF(K48="kg",CONCATENATE(ROUND(J48-M48,2)," kg"),CONCATENATE(ROUND(H48-M48,1)," x ",E48))) -> 0 x | O48: =IFERROR(VLOOKUP(CONCATENATE(A48,"-","Y"),'Price Comparison'!$C$2:$E$101,3,FALSE),"TBC") -> TBC
A49: Hersheys Almond Bar | D49: 1 | E49: piece | F49: 43 | G49: 230 | H49: =SUMIF(Recipes!B:B,A49,Recipes!G:G) -> 94 | I49: =H49*F49 -> 4042 | J49: =I49/1000 -> 4.042 | L49: =IF(K49="g",CONCATENATE(I49," g"),IF(K49="kg",CONCATENATE(J49," kg"),CONCATENATE(H49," ",E49))) -> 94 piece | M49: =(13*5)+40 -> 105 | N49: =IF(K49="g",CONCATENATE(ROUND(I49-M49,2)," g"),IF(K49="kg",CONCATENATE(ROUND(J49-M49,2)," kg"),CONCATENATE(ROUND(H49-M49,1)," x ",E49))) -> -11 x piece | O49: =IFERROR(VLOOKUP(CONCATENATE(A49,"-","Y"),'Price Comparison'!$C$2:$E$101,3,FALSE),"TBC") -> TBC | Q49: y | R49: y | S49: y | T49: y | U49: y | V49: y | W49: y | X49: Updated - 2018-04-21 after Costco trip
A50: Starbucks Via | D50: 1 | E50: package | F50: 3.3 | G50: 5 | H50: =SUMIF(Recipes!B:B,A50,Recipes!G:G) -> 94 | I50: =H50*F50 -> 310.2 | J50: =I50/1000 -> 0.3102 | L50: =IF(K50="g",CONCATENATE(I50," g"),IF(K50="kg",CONCATENATE(J50," kg"),CONCATENATE(H50," ",E50))) -> 94 package | M50: =12*8+4 -> 100 | N50: =IF(K50="g",CONCATENATE(ROUND(I50-M50,2)," g"),IF(K50="kg",CONCATENATE(ROUND(J50-M50,2)," kg"),CONCATENATE(ROUND(H50-M50,1)," x ",E50))) -> -6 x package | O50: =IFERROR(VLOOKUP(CONCATENATE(A50,"-","Y"),'Price Comparison'!$C$2:$E$101,3,FALSE),"TBC") -> TBC | Q50: y | R50: y | S50: y | T50: y | U50: y | V50: y | W50: y
A51: Taco Seasoning | B51: 7 | C51: 25 | D51: 1 | E51: 1/5 package | F51: 7 | G51: 25 | H51: =SUMIF(Recipes!B:B,A51,Recipes!G:G) -> 35 | I51: =H51*F51 -> 245 | J51: =I51/1000 -> 0.245 | K51: g | L51: =IF(K51="g",CONCATENATE(I51," g"),IF(K51="kg",CONCATENATE(J51," kg"),CONCATENATE(H51," ",E51))) -> 245 g | M51: =35+240 -> 275 | N51: =IF(K51="g",CONCATENATE(ROUND(I51-M51,2)," g"),IF(K51="kg",CONCATENATE(ROUND(J51-M51,2)," kg"),CONCATENATE(ROUND(H51-M51,1)," x ",E51))) -> -30 g | O51: =IFERROR(VLOOKUP(CONCATENATE(A51,"-","Y"),'Price Comparison'!$C$2:$E$101,3,FALSE),"TBC") -> TBC
A52: General Spices (salt, pepper, etc) | D52: 1 | E52: teaspoon | H52: =SUMIF(Recipes!B:B,A52,Recipes!G:G) -> 0 | I52: =H52*F52 -> 0 | J52: =I52/1000 -> 0 | L52: =IF(K52="g",CONCATENATE(I52," g"),IF(K52="kg",CONCATENATE(J52," kg"),CONCATENATE(H52," ",E52))) -> 0 teaspoon | M52: 0 | N52: =IF(K52="g",CONCATENATE(ROUND(I52-M52,2)," g"),IF(K52="kg",CONCATENATE(ROUND(J52-M52,2)," kg"),CONCATENATE(ROUND(H52-M52,1)," x ",E52))) -> 0 x teaspoon | O52: =IFERROR(VLOOKUP(CONCATENATE(A52,"-","Y"),'Price Comparison'!$C$2:$E$101,3,FALSE),"TBC") -> TBC
A53: Dried Basil | B53: 5 | C53: 11 | D53: 1 | E53: tablespoon | F53: 5 | G53: 11 | H53: =SUMIF(Recipes!B:B,A53,Recipes!G:G) -> 10.5 | I53: =H53*F53 -> 52.5 | J53: =I53/1000 -> 0.0525 | K53: g | L53: =IF(K53="g",CONCATENATE(I53," g"),IF(K53="kg",CONCATENATE(J53," kg"),CONCATENATE(H53," ",E53))) -> 52.5 g | M53: =37*2 -> 74 | N53: =IF(K53="g",CONCATENATE(ROUND(I53-M53,2)," g"),IF(K53="kg",CONCATENATE(ROUND(J53-M53,2)," kg"),CONCATENATE(ROUND(H53-M53,1)," x ",E53))) -> -21.5 g | O53: =IFERROR(VLOOKUP(CONCATENATE(A53,"-","Y"),'Price Comparison'!$C$2:$E$101,3,FALSE),"TBC") -> TBC
A54: Cliff Bar | B54: 68 | C54: 250 | D54: 1 | E54: bar | F54: 68 | G54: 250 | H54: =SUMIF(Recipes!B:B,A54,Recipes!G:G) -> 70.5 | I54: =H54*F54 -> 4794 | J54: =I54/1000 -> 4.794 | L54: =IF(K54="g",CONCATENATE(I54," g"),IF(K54="kg",CONCATENATE(J54," kg"),CONCATENATE(H54," ",E54))) -> 70.5 bar | M54: =(4*12)+(18*2) -> 84 | N54: =IF(K54="g",CONCATENATE(ROUND(I54-M54,2)," g"),IF(K54="kg",CONCATENATE(ROUND(J54-M54,2)," kg"),CONCATENATE(ROUND(H54-M54,1)," x ",E54))) -> -13.5 x bar | O54: =IFERROR(VLOOKUP(CONCATENATE(A54,"-","Y"),'Price Comparison'!$C$2:$E$101,3,FALSE),"TBC") -> TBC | Q54: y | R54: y | S54: y | T54: y | U54: y | V54: y | W54: y | X54: Updated - 2018-04-21 after Costco trip
A55: Larabar | B55: 45 | C55: 210 | D55: 1 | E55: bar | F55: 45 | G55: 210 | H55: =SUMIF(Recipes!B:B,A55,Recipes!G:G) -> 27 | I55: =H55*F55 -> 1215 | J55: =I55/1000 -> 1.215 | L55: =IF(K55="g",CONCATENATE(I55," g"),IF(K55="kg",CONCATENATE(J55," kg"),CONCATENATE(H55," ",E55))) -> 27 bar | M55: =16*2 -> 32 | N55: =IF(K55="g",CONCATENATE(ROUND(I55-M55,2)," g"),IF(K55="kg",CONCATENATE(ROUND(J55-M55,2)," kg"),CONCATENATE(ROUND(H55-M55,1)," x ",E55))) -> -5 x bar | O55: =IFERROR(VLOOKUP(CONCATENATE(A55,"-","Y"),'Price Comparison'!$C$2:$E$101,3,FALSE),"TBC") -> TBC | Q55: y | R55: y | S55: y | T55: y | U55: y | V55: y | W55: y
A56: Kind Bar | B56: 40 | C56: 170 | D56: 1 | E56: bar | F56: 40 | G56: 200 | H56: =SUMIF(Recipes!B:B,A56,Recipes!G:G) -> 100.5 | I56: =H56*F56 -> 4020 | J56: =I56/1000 -> 4.02 | L56: =IF(K56="g",CONCATENATE(I56," g"),IF(K56="kg",CONCATENATE(J56," kg"),CONCATENATE(H56," ",E56))) -> 100.5 bar | M56: =(12*3)+(18*4) -> 108 | N56: =IF(K56="g",CONCATENATE(ROUND(I56-M56,2)," g"),IF(K56="kg",CONCATENATE(ROUND(J56-M56,2)," kg"),CONCATENATE(ROUND(H56-M56,1)," x ",E56))) -> -7.5 x bar | O56: =IFERROR(VLOOKUP(CONCATENATE(A56,"-","Y"),'Price Comparison'!$C$2:$E$101,3,FALSE),"TBC") -> TBC | Q56: y | R56: y | S56: y | T56: y | U56: y | V56: y | W56: y
A57: Natures Path Sunrise | B57: 35 | C57: 140 | D57: 1 | E57: bar | F57: 35 | G57: 140 | H57: =SUMIF(Recipes!B:B,A57,Recipes!G:G) -> 0 | I57: =H57*F57 -> 0 | J57: =I57/1000 -> 0 | L57: =IF(K57="g",CONCATENATE(I57," g"),IF(K57="kg",CONCATENATE(J57," kg"),CONCATENATE(H57," ",E57))) -> 0 bar | N57: =IF(K57="g",CONCATENATE(ROUND(I57-M57,2)," g"),IF(K57="kg",CONCATENATE(ROUND(J57-M57,2)," kg"),CONCATENATE(ROUND(H57-M57,1)," x ",E57))) -> 0 x bar | O57: =IFERROR(VLOOKUP(CONCATENATE(A57,"-","Y"),'Price Comparison'!$C$2:$E$101,3,FALSE),"TBC") -> TBC
A58: Pop Tarts | B58: 52 | C58: 200 | D58: 1 | E58: Pastry (1/2 foil package) | F58: 50 | G58: =C58 -> 200 | H58: =SUMIF(Recipes!B:B,A58,Recipes!G:G) -> 32 | I58: =H58*F58 -> 1600 | J58: =I58/1000 -> 1.6 | L58: =IF(K58="g",CONCATENATE(I58," g"),IF(K58="kg",CONCATENATE(J58," kg"),CONCATENATE(H58," ",E58))) -> 32 Pastry (1/2 foil package) | M58: =8+(4*8) -> 40 | N58: =IF(K58="g",CONCATENATE(ROUND(I58-M58,2)," g"),IF(K58="kg",CONCATENATE(ROUND(J58-M58,2)," kg"),CONCATENATE(ROUND(H58-M58,1)," x ",E58))) -> -8 x Pastry (1/2 foil package) | O58: =IFERROR(VLOOKUP(CONCATENATE(A58,"-","Y"),'Price Comparison'!$C$2:$E$101,3,FALSE),"TBC") -> TBC | Q58: y | R58: y | S58: y | T58: y | U58: y | V58: y | W58: y
A59: Gatorade | B59: 32 | C59: 120 | D59: 1 | E59: tablespoon (makes 0.35 L) | F59: 23 | G59: 80 | H59: =SUMIF(Recipes!B:B,A59,Recipes!G:G) -> 271.92857 | I59: =H59*F59 -> 6254.3571 | J59: =I59/1000 -> 6.2543571 | K59: kg | L59: =IF(K59="g",CONCATENATE(I59," g"),IF(K59="kg",CONCATENATE(J59," kg"),CONCATENATE(H59," ",E59))) -> 6.25435714285714 kg | M59: =0.46+(0.56*5)+(1.45*3) -> 7.61 | N59: =IF(K59="g",CONCATENATE(ROUND(I59-M59,2)," g"),IF(K59="kg",CONCATENATE(ROUND(J59-M59,2)," kg"),CONCATENATE(ROUND(H59-M59,1)," x ",E59))) -> -1.36 kg | O59: =IFERROR(VLOOKUP(CONCATENATE(A59,"-","Y"),'Price Comparison'!$C$2:$E$101,3,FALSE),"TBC") -> TBC | Q59: y | R59: y | S59: y | T59: y | U59: y | V59: y | W59: y
A60: Carnation Breakfast Drink | B60: 40 | C60: 140 | D60: 1 | E60: package | F60: 40 | G60: 150 | H60: =SUMIF(Recipes!B:B,A60,Recipes!G:G) -> 16 | I60: =H60*F60 -> 640 | J60: =I60/1000 -> 0.64 | L60: =IF(K60="g",CONCATENATE(I60," g"),IF(K60="kg",CONCATENATE(J60," kg"),CONCATENATE(H60," ",E60))) -> 16 package | M60: =9+10 -> 19 | N60: =IF(K60="g",CONCATENATE(ROUND(I60-M60,2)," g"),IF(K60="kg",CONCATENATE(ROUND(J60-M60,2)," kg"),CONCATENATE(ROUND(H60-M60,1)," x ",E60))) -> -3 x package | O60: =IFERROR(VLOOKUP(CONCATENATE(A60,"-","Y"),'Price Comparison'!$C$2:$E$101,3,FALSE),"TBC") -> TBC | Q60: y | R60: y | S60: y | T60: y | U60: y | V60: y | W60: y
A61: Baby Food Pouch | B61: 128 | C61: 100 | D61: 1 | E61: Package | F61: 150 | G61: =C61 -> 100 | H61: =SUMIF(Recipes!B:B,A61,Recipes!G:G) -> 51.5 | I61: =H61*F61 -> 7725 | J61: =I61/1000 -> 7.725 | L61: =IF(K61="g",CONCATENATE(I61," g"),IF(K61="kg",CONCATENATE(J61," kg"),CONCATENATE(H61," ",E61))) -> 51.5 Package | M61: =1+60 -> 61 | N61: =IF(K61="g",CONCATENATE(ROUND(I61-M61,2)," g"),IF(K61="kg",CONCATENATE(ROUND(J61-M61,2)," kg"),CONCATENATE(ROUND(H61-M61,1)," x ",E61))) -> -9.5 x Package | O61: =IFERROR(VLOOKUP(CONCATENATE(A61,"-","Y"),'Price Comparison'!$C$2:$E$101,3,FALSE),"TBC") -> TBC | Q61: y | R61: y | S61: y | T61: y | U61: y | V61: y | W61: y
A62: Kind Breakfast Bar | E62: bar | F62: 35 | G62: 150 | H62: =SUMIF(Recipes!B:B,A62,Recipes!G:G) -> 84 | I62: =H62*F62 -> 2940 | J62: =I62/1000 -> 2.94 | L62: =IF(K62="g",CONCATENATE(I62," g"),IF(K62="kg",CONCATENATE(J62," kg"),CONCATENATE(H62," ",E62))) -> 84 bar | M62: =7+20 -> 27 | N62: =IF(K62="g",CONCATENATE(ROUND(I62-M62,2)," g"),IF(K62="kg",CONCATENATE(ROUND(J62-M62,2)," kg"),CONCATENATE(ROUND(H62-M62,1)," x ",E62))) -> 57 x bar | O62: =IFERROR(VLOOKUP(CONCATENATE(A62,"-","Y"),'Price Comparison'!$C$2:$E$101,3,FALSE),"TBC") -> TBC | Q62: y | R62: y | S62: y | T62: y | U62: y | V62: y | W62: y | X62: Buy 20 bars - rest of bars will be supplemented with snickers, etc
A63: Mayonnaise Packet | E63: packet | F63: 10 | G63: 70 | H63: =SUMIF(Recipes!B:B,A63,Recipes!G:G) -> 70 | I63: =H63*F63 -> 700 | J63: =I63/1000 -> 0.7 | L63: =IF(K63="g",CONCATENATE(I63," g"),IF(K63="kg",CONCATENATE(J63," kg"),CONCATENATE(H63," ",E63))) -> 70 packet | M63: 208 | N63: =IF(K63="g",CONCATENATE(ROUND(I63-M63,2)," g"),IF(K63="kg",CONCATENATE(ROUND(J63-M63,2)," kg"),CONCATENATE(ROUND(H63-M63,1)," x ",E63))) -> -138 x packet | O63: =IFERROR(VLOOKUP(CONCATENATE(A63,"-","Y"),'Price Comparison'!$C$2:$E$101,3,FALSE),"TBC") -> TBC | Q63: y | R63: y | S63: y | T63: y | U63: y | V63: y | W63: y
A64: ProBar Base/Core Bar | E64: bar | F64: 70 | G64: 290 | H64: =SUMIF(Recipes!B:B,A64,Recipes!G:G) -> 15 | I64: =H64*F64 -> 1050 | J64: =I64/1000 -> 1.05 | L64: =IF(K64="g",CONCATENATE(I64," g"),IF(K64="kg",CONCATENATE(J64," kg"),CONCATENATE(H64," ",E64))) -> 15 bar | M64: 0 | N64: =IF(K64="g",CONCATENATE(ROUND(I64-M64,2)," g"),IF(K64="kg",CONCATENATE(ROUND(J64-M64,2)," kg"),CONCATENATE(ROUND(H64-M64,1)," x ",E64))) -> 15 x bar | O64: =IFERROR(VLOOKUP(CONCATENATE(A64,"-","Y"),'Price Comparison'!$C$2:$E$101,3,FALSE),"TBC") -> TBC | Q64: y | R64: y | S64: y | T64: y | U64: y | V64: y | W64: y
A65: Reese Peanut Butter Cups | E65: Package of 3 cups | F65: 46 | G65: 240 | H65: =SUMIF(Recipes!B:B,A65,Recipes!G:G) -> 47 | I65: =H65*F65 -> 2162 | J65: =I65/1000 -> 2.162 | L65: =IF(K65="g",CONCATENATE(I65," g"),IF(K65="kg",CONCATENATE(J65," kg"),CONCATENATE(H65," ",E65))) -> 47 Package of 3 cups | M65: 50 | N65: =IF(K65="g",CONCATENATE(ROUND(I65-M65,2)," g"),IF(K65="kg",CONCATENATE(ROUND(J65-M65,2)," kg"),CONCATENATE(ROUND(H65-M65,1)," x ",E65))) -> -3 x Package of 3 cups | O65: =IFERROR(VLOOKUP(CONCATENATE(A65,"-","Y"),'Price Comparison'!$C$2:$E$101,3,FALSE),"TBC") -> TBC | Q65: y | R65: y | S65: y | T65: y | U65: y | V65: y | W65: y | X65: Updated - 2018-04-21 after Costco trip | Y65: 60 | Z65: 0.2 | AA65: =Y65*Z65 -> 12
A66: O Henry Bar | E66: bar | F66: 57 | G66: 263 | H66: =SUMIF(Recipes!B:B,A66,Recipes!G:G) -> 42.77 | I66: =H66*F66 -> 2437.89 | J66: =I66/1000 -> 2.43789 | L66: =IF(K66="g",CONCATENATE(I66," g"),IF(K66="kg",CONCATENATE(J66," kg"),CONCATENATE(H66," ",E66))) -> 42.77 bar | M66: 50 | N66: =IF(K66="g",CONCATENATE(ROUND(I66-M66,2)," g"),IF(K66="kg",CONCATENATE(ROUND(J66-M66,2)," kg"),CONCATENATE(ROUND(H66-M66,1)," x ",E66))) -> -7.2 x bar | O66: =IFERROR(VLOOKUP(CONCATENATE(A66,"-","Y"),'Price Comparison'!$C$2:$E$101,3,FALSE),"TBC") -> TBC | Q66: y | R66: y | S66: y | T66: y | U66: y | V66: y | W66: y
A67: Hersheys Cookies'n'Cream Bar | E67: bar | F67: 43 | G67: 220 | H67: =SUMIF(Recipes!B:B,A67,Recipes!G:G) -> 33.84 | I67: =H67*F67 -> 1455.12 | J67: =I67/1000 -> 1.45512 | L67: =IF(K67="g",CONCATENATE(I67," g"),IF(K67="kg",CONCATENATE(J67," kg"),CONCATENATE(H67," ",E67))) -> 33.84 bar | M67: 40 | N67: =IF(K67="g",CONCATENATE(ROUND(I67-M67,2)," g"),IF(K67="kg",CONCATENATE(ROUND(J67-M67,2)," kg"),CONCATENATE(ROUND(H67-M67,1)," x ",E67))) -> -6.2 x bar | O67: =IFERROR(VLOOKUP(CONCATENATE(A67,"-","Y"),'Price Comparison'!$C$2:$E$101,3,FALSE),"TBC") -> TBC | Q67: y | R67: y | S67: y | T67: y | U67: y | V67: y | W67: y
H68: =SUMIF(Recipes!B:B,A68,Recipes!G:G) -> 0 | I68: =H68*F68 -> 0 | J68: =I68/1000 -> 0 | L68: =IF(K68="g",CONCATENATE(I68," g"),IF(K68="kg",CONCATENATE(J68," kg"),CONCATENATE(H68," ",E68))) -> 0 | M68: 0 | N68: =IF(K68="g",CONCATENATE(ROUND(I68-M68,2)," g"),IF(K68="kg",CONCATENATE(ROUND(J68-M68,2)," kg"),CONCATENATE(ROUND(H68-M68,1)," x ",E68))) -> 0 x | O68: =IFERROR(VLOOKUP(CONCATENATE(A68,"-","Y"),'Price Comparison'!$C$2:$E$101,3,FALSE),"TBC") -> TBC
A69: OTHER CONSUMABLES
A70: Sunscreen | E70: bottle | H70: 6 | I70: =H70*F70 -> 0 | J70: =I70/1000 -> 0 | L70: =IF(K70="g",CONCATENATE(I70," g"),IF(K70="kg",CONCATENATE(J70," kg"),CONCATENATE(H70," ",E70))) -> 6 bottle | M70: 6 | N70: =IF(K70="g",CONCATENATE(ROUND(I70-M70,2)," g"),IF(K70="kg",CONCATENATE(ROUND(J70-M70,2)," kg"),CONCATENATE(ROUND(H70-M70,1)," x ",E70))) -> 0 x bottle | O70: =IFERROR(VLOOKUP(CONCATENATE(A70,"-","Y"),'Price Comparison'!$C$2:$E$101,3,FALSE),"TBC") -> TBC
A71: Lip balm | E71: stick | H71: 2 | I71: =H71*F71 -> 0 | J71: =I71/1000 -> 0 | L71: =IF(K71="g",CONCATENATE(I71," g"),IF(K71="kg",CONCATENATE(J71," kg"),CONCATENATE(H71," ",E71))) -> 2 stick | M71: 2 | N71: =IF(K71="g",CONCATENATE(ROUND(I71-M71,2)," g"),IF(K71="kg",CONCATENATE(ROUND(J71-M71,2)," kg"),CONCATENATE(ROUND(H71-M71,1)," x ",E71))) -> 0 x stick | O71: =IFERROR(VLOOKUP(CONCATENATE(A71,"-","Y"),'Price Comparison'!$C$2:$E$101,3,FALSE),"TBC") -> TBC
A72: Baby wipes | E72: wipe | H72: 220 | I72: =H72*F72 -> 0 | J72: =I72/1000 -> 0 | L72: =IF(K72="g",CONCATENATE(I72," g"),IF(K72="kg",CONCATENATE(J72," kg"),CONCATENATE(H72," ",E72))) -> 220 wipe | M72: 220 | N72: =IF(K72="g",CONCATENATE(ROUND(I72-M72,2)," g"),IF(K72="kg",CONCATENATE(ROUND(J72-M72,2)," kg"),CONCATENATE(ROUND(H72-M72,1)," x ",E72))) -> 0 x wipe | O72: =IFERROR(VLOOKUP(CONCATENATE(A72,"-","Y"),'Price Comparison'!$C$2:$E$101,3,FALSE),"TBC") -> TBC
A73: Bug spray | E73: bottle | H73: =SUMIF(Recipes!B:B,A73,Recipes!G:G) -> 0 | I73: =H73*F73 -> 0 | J73: =I73/1000 -> 0 | L73: =IF(K73="g",CONCATENATE(I73," g"),IF(K73="kg",CONCATENATE(J73," kg"),CONCATENATE(H73," ",E73))) -> 0 bottle | M73: 0 | N73: =IF(K73="g",CONCATENATE(ROUND(I73-M73,2)," g"),IF(K73="kg",CONCATENATE(ROUND(J73-M73,2)," kg"),CONCATENATE(ROUND(H73-M73,1)," x ",E73))) -> 0 x bottle | O73: =IFERROR(VLOOKUP(CONCATENATE(A73,"-","Y"),'Price Comparison'!$C$2:$E$101,3,FALSE),"TBC") -> TBC
A74: Hand sanitizer | E74: bottle | H74: =7*2 -> 14 | I74: =H74*F74 -> 0 | J74: =I74/1000 -> 0 | L74: =IF(K74="g",CONCATENATE(I74," g"),IF(K74="kg",CONCATENATE(J74," kg"),CONCATENATE(H74," ",E74))) -> 14 bottle | M74: 14 | N74: =IF(K74="g",CONCATENATE(ROUND(I74-M74,2)," g"),IF(K74="kg",CONCATENATE(ROUND(J74-M74,2)," kg"),CONCATENATE(ROUND(H74-M74,1)," x ",E74))) -> 0 x bottle | O74: =IFERROR(VLOOKUP(CONCATENATE(A74,"-","Y"),'Price Comparison'!$C$2:$E$101,3,FALSE),"TBC") -> TBC
H75: =SUMIF(Recipes!B:B,A75,Recipes!G:G) -> 0 | I75: =H75*F75 -> 0 | J75: =I75/1000 -> 0 | L75: =IF(K75="g",CONCATENATE(I75," g"),IF(K75="kg",CONCATENATE(J75," kg"),CONCATENATE(H75," ",E75))) -> 0 | M75: 0 | N75: =IF(K75="g",CONCATENATE(ROUND(I75-M75,2)," g"),IF(K75="kg",CONCATENATE(ROUND(J75-M75,2)," kg"),CONCATENATE(ROUND(H75-M75,1)," x ",E75))) -> 0 x | O75: =IFERROR(VLOOKUP(CONCATENATE(A75,"-","Y"),'Price Comparison'!$C$2:$E$101,3,FALSE),"TBC") -> TBC
H76: =SUMIF(Recipes!B:B,A76,Recipes!G:G) -> 0 | I76: =H76*F76 -> 0 | J76: =I76/1000 -> 0 | L76: =IF(K76="g",CONCATENATE(I76," g"),IF(K76="kg",CONCATENATE(J76," kg"),CONCATENATE(H76," ",E76))) -> 0 | M76: 0 | N76: =IF(K76="g",CONCATENATE(ROUND(I76-M76,2)," g"),IF(K76="kg",CONCATENATE(ROUND(J76-M76,2)," kg"),CONCATENATE(ROUND(H76-M76,1)," x ",E76))) -> 0 x | O76: =IFERROR(VLOOKUP(CONCATENATE(A76,"-","Y"),'Price Comparison'!$C$2:$E$101,3,FALSE),"TBC") -> TBC
H77: =SUMIF(Recipes!B:B,A77,Recipes!G:G) -> 0 | I77: =H77*F77 -> 0 | J77: =I77/1000 -> 0 | L77: =IF(K77="g",CONCATENATE(I77," g"),IF(K77="kg",CONCATENATE(J77," kg"),CONCATENATE(H77," ",E77))) -> 0 | M77: 0 | N77: =IF(K77="g",CONCATENATE(ROUND(I77-M77,2)," g"),IF(K77="kg",CONCATENATE(ROUND(J77-M77,2)," kg"),CONCATENATE(ROUND(H77-M77,1)," x ",E77))) -> 0 x | O77: =IFERROR(VLOOKUP(CONCATENATE(A77,"-","Y"),'Price Comparison'!$C$2:$E$101,3,FALSE),"TBC") -> TBC
H84: =SUM(H67,H66,H65,H64,H62,H56,H55,H54,H49,H29) -> 608.61

Sheet Recipes
A1: Description | C1: Qty | D1: Unit | E1: Total Mass | F1: Calories | G1: Occurences | J1: Unique List of Recipes | K1: Unique List of Ingredients
A2: Tuna + Rice Cassarole | C2: 1 | D2: serving | E2: =SUM(E3:E9) -> 241 | F2: =SUM(F3:F9) -> 810 | G2: =SUM(SUMIF(Meals!C:C,A2,Meals!H:H),SUMIF(Meals!K:K,A2,Meals!P:P)) -> 0 | J2: =IFERROR(INDEX($A$2:$A$192, MATCH(0,INDEX(COUNTIF($J$1:J1, $A$2:$A$192)+(COUNTIF($A$2:$A$192, $A$2:$A$192)<>1),0,0), 0)), "") -> Tuna + Rice Cassarole | K2: =IFERROR(INDEX(Ingredients!$A$2:$A$114, MATCH(0,INDEX(COUNTIF($K$1:K1, Ingredients!$A$2:$A$114)+(COUNTIF(Ingredients!$A$2:$A$114, Ingredients!$A$2:$A$114)<>1),0,0), 0)), "") -> Instant Rice
B3: Instant Rice | C3: 1 | D3: =VLOOKUP(B3,Ingredients!$A$2:$G$229,5,FALSE) -> cup | E3: =VLOOKUP(B3,Ingredients!$A$2:$G$229,6,FALSE)*C3 -> 90 | F3: =IFERROR(VLOOKUP(B3,Ingredients!$A$2:$H$229,7,FALSE),0)*C3 -> 320 | G3: =C3*$G$2 -> 0 | J3: =IFERROR(INDEX($A$2:$A$192, MATCH(0,INDEX(COUNTIF($J$1:J2, $A$2:$A$192)+(COUNTIF($A$2:$A$192, $A$2:$A$192)<>1),0,0), 0)), "") -> Salmon + Potato Cassarole | K3: =IFERROR(INDEX(Ingredients!$A$2:$A$114, MATCH(0,INDEX(COUNTIF($K$1:K2, Ingredients!$A$2:$A$114)+(COUNTIF(Ingredients!$A$2:$A$114, Ingredients!$A$2:$A$114)<>1),0,0), 0)), "") -> Foil Pack Tuna
B4: Foil Pack Tuna | C4: 1 | D4: =VLOOKUP(B4,Ingredients!$A$2:$G$229,5,FALSE) -> package | E4: =VLOOKUP(B4,Ingredients!$A$2:$G$229,6,FALSE)*C4 -> 85 | F4: =IFERROR(VLOOKUP(B4,Ingredients!$A$2:$H$229,7,FALSE),0)*C4 -> 90 | G4: =C4*$G$2 -> 0 | J4: =IFERROR(INDEX($A$2:$A$192, MATCH(0,INDEX(COUNTIF($J$1:J3, $A$2:$A$192)+(COUNTIF($A$2:$A$192, $A$2:$A$192)<>1),0,0), 0)), "") -> Tuna + Potato Cassarole | K4: =IFERROR(INDEX(Ingredients!$A$2:$A$114, MATCH(0,INDEX(COUNTIF($K$1:K3, Ingredients!$A$2:$A$114)+(COUNTIF(Ingredients!$A$2:$A$114, Ingredients!$A$2:$A$114)<>1),0,0), 0)), "") -> Parmasan Cheese Flakes
B5: Parmasan Cheese Flakes | C5: 3 | D5: =VLOOKUP(B5,Ingredients!$A$2:$G$229,5,FALSE) -> tablespoon | E5: =VLOOKUP(B5,Ingredients!$A$2:$G$229,6,FALSE)*C5 -> 45 | F5: =IFERROR(VLOOKUP(B5,Ingredients!$A$2:$H$229,7,FALSE),0)*C5 -> 180 | G5: =C5*$G$2 -> 0 | J5: =IFERROR(INDEX($A$2:$A$192, MATCH(0,INDEX(COUNTIF($J$1:J4, $A$2:$A$192)+(COUNTIF($A$2:$A$192, $A$2:$A$192)<>1),0,0), 0)), "") -> Cheese Pasta | K5: =IFERROR(INDEX(Ingredients!$A$2:$A$114, MATCH(0,INDEX(COUNTIF($K$1:K4, Ingredients!$A$2:$A$114)+(COUNTIF(Ingredients!$A$2:$A$114, Ingredients!$A$2:$A$114)<>1),0,0), 0)), "") -> Olive Oil
B6: Olive Oil | C6: 1 | D6: =VLOOKUP(B6,Ingredients!$A$2:$G$229,5,FALSE) -> tablespoon | E6: =VLOOKUP(B6,Ingredients!$A$2:$G$229,6,FALSE)*C6 -> 14 | F6: =IFERROR(VLOOKUP(B6,Ingredients!$A$2:$H$229,7,FALSE),0)*C6 -> 120 | G6: =C6*$G$2 -> 0 | J6: =IFERROR(INDEX($A$2:$A$192, MATCH(0,INDEX(COUNTIF($J$1:J5, $A$2:$A$192)+(COUNTIF($A$2:$A$192, $A$2:$A$192)<>1),0,0), 0)), "") -> Salmon + Rice Cassarole | K6: =IFERROR(INDEX(Ingredients!$A$2:$A$114, MATCH(0,INDEX(COUNTIF($K$1:K5, Ingredients!$A$2:$A$114)+(COUNTIF(Ingredients!$A$2:$A$114, Ingredients!$A$2:$A$114)<>1),0,0), 0)), "") -> Dehydrated Vegetables
B7: Bacon Bits | C7: 1 | D7: =VLOOKUP(B7,Ingredients!$A$2:$G$229,5,FALSE) -> tablespoon | E7: =VLOOKUP(B7,Ingredients!$A$2:$G$229,6,FALSE)*C7 -> 7 | F7: =IFERROR(VLOOKUP(B7,Ingredients!$A$2:$H$229,7,FALSE),0)*C7 -> 30 | G7: =C7*$G$2 -> 0 | J7: =IFERROR(INDEX($A$2:$A$192, MATCH(0,INDEX(COUNTIF($J$1:J6, $A$2:$A$192)+(COUNTIF($A$2:$A$192, $A$2:$A$192)<>1),0,0), 0)), "") -> Tortilla and Peanut Butter Lunch | K7: =IFERROR(INDEX(Ingredients!$A$2:$A$114, MATCH(0,INDEX(COUNTIF($K$1:K6, Ingredients!$A$2:$A$114)+(COUNTIF(Ingredients!$A$2:$A$114, Ingredients!$A$2:$A$114)<>1),0,0), 0)), "") -> Peanuts
B8: Dehydrated Vegetables | C8: 0.5 | D8: =VLOOKUP(B8,Ingredients!$A$2:$G$229,5,FALSE) -> package | E8: =VLOOKUP(B8,Ingredients!$A$2:$G$229,6,FALSE)*C8 -> 0 | F8: =IFERROR(VLOOKUP(B8,Ingredients!$A$2:$H$229,7,FALSE),0)*C8 -> 70 | G8: =C8*$G$2 -> 0 | J8: =IFERROR(INDEX($A$2:$A$192, MATCH(0,INDEX(COUNTIF($J$1:J7, $A$2:$A$192)+(COUNTIF($A$2:$A$192, $A$2:$A$192)<>1),0,0), 0)), "") -> Sausage Lunch | K8: =IFERROR(INDEX(Ingredients!$A$2:$A$114, MATCH(0,INDEX(COUNTIF($K$1:K7, Ingredients!$A$2:$A$114)+(COUNTIF(Ingredients!$A$2:$A$114, Ingredients!$A$2:$A$114)<>1),0,0), 0)), "") -> Instant Potato
J9: =IFERROR(INDEX($A$2:$A$192, MATCH(0,INDEX(COUNTIF($J$1:J8, $A$2:$A$192)+(COUNTIF($A$2:$A$192, $A$2:$A$192)<>1),0,0), 0)), "") -> Tuna Lunch | K9: =IFERROR(INDEX(Ingredients!$A$2:$A$114, MATCH(0,INDEX(COUNTIF($K$1:K8, Ingredients!$A$2:$A$114)+(COUNTIF(Ingredients!$A$2:$A$114, Ingredients!$A$2:$A$114)<>1),0,0), 0)), "") -> Rice Vermicelli Noodles
A10: Salmon + Potato Cassarole | C10: 1 | D10: serving | E10: =SUM(E11:E18) -> 212.18 | F10: =SUM(F11:F18) -> 787.3 | G10: =SUM(SUMIF(Meals!C:C,A10,Meals!H:H),SUMIF(Meals!K:K,A10,Meals!P:P)) -> 0 | J10: =IFERROR(INDEX($A$2:$A$192, MATCH(0,INDEX(COUNTIF($J$1:J9, $A$2:$A$192)+(COUNTIF($A$2:$A$192, $A$2:$A$192)<>1),0,0), 0)), "") -> Chips and Dip | K10: =IFERROR(INDEX(Ingredients!$A$2:$A$114, MATCH(0,INDEX(COUNTIF($K$1:K9, Ingredients!$A$2:$A$114)+(COUNTIF(Ingredients!$A$2:$A$114, Ingredients!$A$2:$A$114)<>1),0,0), 0)), "") -> Whole Milk Powder
B11: Instant Potato | C11: 0.67 | D11: =VLOOKUP(B11,Ingredients!$A$2:$G$229,5,FALSE) -> cup | E11: =VLOOKUP(B11,Ingredients!$A$2:$G$229,6,FALSE)*C11 -> 36.18 | F11: =IFERROR(VLOOKUP(B11,Ingredients!$A$2:$H$229,7,FALSE),0)*C11 -> 134 | G11: =$G$10*C11 -> 0 | J11: =IFERROR(INDEX($A$2:$A$192, MATCH(0,INDEX(COUNTIF($J$1:J10, $A$2:$A$192)+(COUNTIF($A$2:$A$192, $A$2:$A$192)<>1),0,0), 0)), "") -> Kyle's Kind Healthy Grain Bar Breakfast | K11: =IFERROR(INDEX(Ingredients!$A$2:$A$114, MATCH(0,INDEX(COUNTIF($K$1:K10, Ingredients!$A$2:$A$114)+(COUNTIF(Ingredients!$A$2:$A$114, Ingredients!$A$2:$A$114)<>1),0,0), 0)), "") -> Cheese Powder
B12: Foil Pack Salmon | C12: 1 | D12: =VLOOKUP(B12,Ingredients!$A$2:$G$229,5,FALSE) -> package | E12: =VLOOKUP(B12,Ingredients!$A$2:$G$229,6,FALSE)*C12 -> 100 | F12: =IFERROR(VLOOKUP(B12,Ingredients!$A$2:$H$229,7,FALSE),0)*C12 -> 200 | G12: =$G$10*C12 -> 0 | J12: =IFERROR(INDEX($A$2:$A$192, MATCH(0,INDEX(COUNTIF($J$1:J11, $A$2:$A$192)+(COUNTIF($A$2:$A$192, $A$2:$A$192)<>1),0,0), 0)), "") -> Kyle's Kind Bar Breakfast | K12: =IFERROR(INDEX(Ingredients!$A$2:$A$114, MATCH(0,INDEX(COUNTIF($K$1:K11, Ingredients!$A$2:$A$114)+(COUNTIF(Ingredients!$A$2:$A$114, Ingredients!$A$2:$A$114)<>1),0,0), 0)), "") -> Foil Pack Chicken
B13: Parmasan Cheese Flakes | C13: 3 | D13: =VLOOKUP(B13,Ingredients!$A$2:$G$229,5,FALSE) -> tablespoon | E13: =VLOOKUP(B13,Ingredients!$A$2:$G$229,6,FALSE)*C13 -> 45 | F13: =IFERROR(VLOOKUP(B13,Ingredients!$A$2:$H$229,7,FALSE),0)*C13 -> 180 | G13: =$G$10*C13 -> 0 | J13: =IFERROR(INDEX($A$2:$A$192, MATCH(0,INDEX(COUNTIF($J$1:J12, $A$2:$A$192)+(COUNTIF($A$2:$A$192, $A$2:$A$192)<>1),0,0), 0)), "") -> Kyle's Laura Bar Breakfast | K13: =IFERROR(INDEX(Ingredients!$A$2:$A$114, MATCH(0,INDEX(COUNTIF($K$1:K12, Ingredients!$A$2:$A$114)+(COUNTIF(Ingredients!$A$2:$A$114, Ingredients!$A$2:$A$114)<>1),0,0), 0)), "") -> Curry Spice
B14: Bacon Bits | C14: 1 | D14: =VLOOKUP(B14,Ingredients!$A$2:$G$229,5,FALSE) -> tablespoon | E14: =VLOOKUP(B14,Ingredients!$A$2:$G$229,6,FALSE)*C14 -> 7 | F14: =IFERROR(VLOOKUP(B14,Ingredients!$A$2:$H$229,7,FALSE),0)*C14 -> 30 | G14: =$G$10*C14 -> 0 | J14: =IFERROR(INDEX($A$2:$A$192, MATCH(0,INDEX(COUNTIF($J$1:J13, $A$2:$A$192)+(COUNTIF($A$2:$A$192, $A$2:$A$192)<>1),0,0), 0)), "") -> Kyle's Snickers Bar & Almond Bar | K14: =IFERROR(INDEX(Ingredients!$A$2:$A$114, MATCH(0,INDEX(COUNTIF($K$1:K13, Ingredients!$A$2:$A$114)+(COUNTIF(Ingredients!$A$2:$A$114, Ingredients!$A$2:$A$114)<>1),0,0), 0)), "") -> Chocolate Almonds
B15: Olive Oil | C15: 1 | D15: =VLOOKUP(B15,Ingredients!$A$2:$G$229,5,FALSE) -> tablespoon | E15: =VLOOKUP(B15,Ingredients!$A$2:$G$229,6,FALSE)*C15 -> 14 | F15: =IFERROR(VLOOKUP(B15,Ingredients!$A$2:$H$229,7,FALSE),0)*C15 -> 120 | G15: =$G$10*C15 -> 0 | J15: =IFERROR(INDEX($A$2:$A$192, MATCH(0,INDEX(COUNTIF($J$1:J14, $A$2:$A$192)+(COUNTIF($A$2:$A$192, $A$2:$A$192)<>1),0,0), 0)), "") -> Beef Jerky Snack | K15: =IFERROR(INDEX(Ingredients!$A$2:$A$114, MATCH(0,INDEX(COUNTIF($K$1:K14, Ingredients!$A$2:$A$114)+(COUNTIF(Ingredients!$A$2:$A$114, Ingredients!$A$2:$A$114)<>1),0,0), 0)), "") -> Chicken Broth
B16: Dehydrated Vegetables | C16: 0.5 | D16: =VLOOKUP(B16,Ingredients!$A$2:$G$229,5,FALSE) -> package | E16: =VLOOKUP(B16,Ingredients!$A$2:$G$229,6,FALSE)*C16 -> 0 | F16: =IFERROR(VLOOKUP(B16,Ingredients!$A$2:$H$229,7,FALSE),0)*C16 -> 70 | G16: =$G$10*C16 -> 0 | J16: =IFERROR(INDEX($A$2:$A$192, MATCH(0,INDEX(COUNTIF($J$1:J15, $A$2:$A$192)+(COUNTIF($A$2:$A$192, $A$2:$A$192)<>1),0,0), 0)), "") -> Gummy Bears Snack | K16: =IFERROR(INDEX(Ingredients!$A$2:$A$114, MATCH(0,INDEX(COUNTIF($K$1:K15, Ingredients!$A$2:$A$114)+(COUNTIF(Ingredients!$A$2:$A$114, Ingredients!$A$2:$A$114)<>1),0,0), 0)), "") -> Dehydrated Onion
B17: Whole Milk Powder | C17: 1 | D17: =VLOOKUP(B17,Ingredients!$A$2:$G$229,5,FALSE) -> tablespoon | E17: =VLOOKUP(B17,Ingredients!$A$2:$G$229,6,FALSE)*C17 -> 10 | F17: =IFERROR(VLOOKUP(B17,Ingredients!$A$2:$H$229,7,FALSE),0)*C17 -> 53.3 | G17: =$G$10*C17 -> 0 | J17: =IFERROR(INDEX($A$2:$A$192, MATCH(0,INDEX(COUNTIF($J$1:J16, $A$2:$A$192)+(COUNTIF($A$2:$A$192, $A$2:$A$192)<>1),0,0), 0)), "") -> Cheese and Salmon Mac n Cheeze | K17: =IFERROR(INDEX(Ingredients!$A$2:$A$114, MATCH(0,INDEX(COUNTIF($K$1:K16, Ingredients!$A$2:$A$114)+(COUNTIF(Ingredients!$A$2:$A$114, Ingredients!$A$2:$A$114)<>1),0,0), 0)), "") -> Foil Pack Salmon
F18: =IFERROR(VLOOKUP(B18,Ingredients!$A$2:$H$229,7,FALSE),0)*C18 -> 0 | J18: =IFERROR(INDEX($A$2:$A$192, MATCH(0,INDEX(COUNTIF($J$1:J17, $A$2:$A$192)+(COUNTIF($A$2:$A$192, $A$2:$A$192)<>1),0,0), 0)), "") -> Cheese and Ramen Pasta | K18: =IFERROR(INDEX(Ingredients!$A$2:$A$114, MATCH(0,INDEX(COUNTIF($K$1:K17, Ingredients!$A$2:$A$114)+(COUNTIF(Ingredients!$A$2:$A$114, Ingredients!$A$2:$A$114)<>1),0,0), 0)), "") -> Tortilla (Wrap)
A19: Tuna + Potato Cassarole | C19: 1 | D19: serving | E19: =SUM(E20:E27) -> 197.18 | F19: =SUM(F20:F27) -> 677.3 | G19: =SUM(SUMIF(Meals!C:C,A19,Meals!H:H),SUMIF(Meals!K:K,A19,Meals!P:P)) -> 0 | J19: =IFERROR(INDEX($A$2:$A$192, MATCH(0,INDEX(COUNTIF($J$1:J18, $A$2:$A$192)+(COUNTIF($A$2:$A$192, $A$2:$A$192)<>1),0,0), 0)), "") -> Nothing | K19: =IFERROR(INDEX(Ingredients!$A$2:$A$114, MATCH(0,INDEX(COUNTIF($K$1:K18, Ingredients!$A$2:$A$114)+(COUNTIF(Ingredients!$A$2:$A$114, Ingredients!$A$2:$A$114)<>1),0,0), 0)), "") -> Peanut Butter
B20: Instant Potato | C20: 0.67 | D20: =VLOOKUP(B20,Ingredients!$A$2:$G$229,5,FALSE) -> cup | E20: =VLOOKUP(B20,Ingredients!$A$2:$G$229,6,FALSE)*C20 -> 36.18 | F20: =IFERROR(VLOOKUP(B20,Ingredients!$A$2:$H$229,7,FALSE),0)*C20 -> 134 | G20: =$G$19*C20 -> 0 | J20: =IFERROR(INDEX($A$2:$A$192, MATCH(0,INDEX(COUNTIF($J$1:J19, $A$2:$A$192)+(COUNTIF($A$2:$A$192, $A$2:$A$192)<>1),0,0), 0)), "") -> Beans and Rice | K20: =IFERROR(INDEX(Ingredients!$A$2:$A$114, MATCH(0,INDEX(COUNTIF($K$1:K19, Ingredients!$A$2:$A$114)+(COUNTIF(Ingredients!$A$2:$A$114, Ingredients!$A$2:$A$114)<>1),0,0), 0)), "") -> Dried cranberries
B21: Foil Pack Tuna | C21: 1 | D21: =VLOOKUP(B21,Ingredients!$A$2:$G$229,5,FALSE) -> package | E21: =VLOOKUP(B21,Ingredients!$A$2:$G$229,6,FALSE)*C21 -> 85 | F21: =IFERROR(VLOOKUP(B21,Ingredients!$A$2:$H$229,7,FALSE),0)*C21 -> 90 | G21: =$G$19*C21 -> 0 | J21: =IFERROR(INDEX($A$2:$A$192, MATCH(0,INDEX(COUNTIF($J$1:J20, $A$2:$A$192)+(COUNTIF($A$2:$A$192, $A$2:$A$192)<>1),0,0), 0)), "") -> Baby Food Pouch | K21: =IFERROR(INDEX(Ingredients!$A$2:$A$114, MATCH(0,INDEX(COUNTIF($K$1:K20, Ingredients!$A$2:$A$114)+(COUNTIF(Ingredients!$A$2:$A$114, Ingredients!$A$2:$A$114)<>1),0,0), 0)), "") -> Chocolate Chips
B22: Parmasan Cheese Flakes | C22: 3 | D22: =VLOOKUP(B22,Ingredients!$A$2:$G$229,5,FALSE) -> tablespoon | E22: =VLOOKUP(B22,Ingredients!$A$2:$G$229,6,FALSE)*C22 -> 45 | F22: =IFERROR(VLOOKUP(B22,Ingredients!$A$2:$H$229,7,FALSE),0)*C22 -> 180 | G22: =$G$19*C22 -> 0 | J22: =IFERROR(INDEX($A$2:$A$192, MATCH(0,INDEX(COUNTIF($J$1:J21, $A$2:$A$192)+(COUNTIF($A$2:$A$192, $A$2:$A$192)<>1),0,0), 0)), "") -> Natasha Pop Tart Breakfast | K22: =IFERROR(INDEX(Ingredients!$A$2:$A$114, MATCH(0,INDEX(COUNTIF($K$1:K21, Ingredients!$A$2:$A$114)+(COUNTIF(Ingredients!$A$2:$A$114, Ingredients!$A$2:$A$114)<>1),0,0), 0)), "") -> Sausage
B23: Bacon Bits | C23: 1 | D23: =VLOOKUP(B23,Ingredients!$A$2:$G$229,5,FALSE) -> tablespoon | E23: =VLOOKUP(B23,Ingredients!$A$2:$G$229,6,FALSE)*C23 -> 7 | F23: =IFERROR(VLOOKUP(B23,Ingredients!$A$2:$H$229,7,FALSE),0)*C23 -> 30 | G23: =$G$19*C23 -> 0 | J23: =IFERROR(INDEX($A$2:$A$192, MATCH(0,INDEX(COUNTIF($J$1:J22, $A$2:$A$192)+(COUNTIF($A$2:$A$192, $A$2:$A$192)<>1),0,0), 0)), "") -> Pesto Noodle | K23: =IFERROR(INDEX(Ingredients!$A$2:$A$114, MATCH(0,INDEX(COUNTIF($K$1:K22, Ingredients!$A$2:$A$114)+(COUNTIF(Ingredients!$A$2:$A$114, Ingredients!$A$2:$A$114)<>1),0,0), 0)), "") -> Aged Cheddar Cheese
B24: Olive Oil | C24: 1 | D24: =VLOOKUP(B24,Ingredients!$A$2:$G$229,5,FALSE) -> tablespoon | E24: =VLOOKUP(B24,Ingredients!$A$2:$G$229,6,FALSE)*C24 -> 14 | F24: =IFERROR(VLOOKUP(B24,Ingredients!$A$2:$H$229,7,FALSE),0)*C24 -> 120 | G24: =$G$19*C24 -> 0 | J24: =IFERROR(INDEX($A$2:$A$192, MATCH(0,INDEX(COUNTIF($J$1:J23, $A$2:$A$192)+(COUNTIF($A$2:$A$192, $A$2:$A$192)<>1),0,0), 0)), "") -> Gatorade (1.5 L) | K24: =IFERROR(INDEX(Ingredients!$A$2:$A$114, MATCH(0,INDEX(COUNTIF($K$1:K23, Ingredients!$A$2:$A$114)+(COUNTIF(Ingredients!$A$2:$A$114, Ingredients!$A$2:$A$114)<>1),0,0), 0)), "") -> Oatmeal
B25: Dehydrated Vegetables | C25: 0.5 | D25: =VLOOKUP(B25,Ingredients!$A$2:$G$229,5,FALSE) -> package | E25: =VLOOKUP(B25,Ingredients!$A$2:$G$229,6,FALSE)*C25 -> 0 | F25: =IFERROR(VLOOKUP(B25,Ingredients!$A$2:$H$229,7,FALSE),0)*C25 -> 70 | G25: =$G$19*C25 -> 0 | J25: =IFERROR(INDEX($A$2:$A$192, MATCH(0,INDEX(COUNTIF($J$1:J24, $A$2:$A$192)+(COUNTIF($A$2:$A$192, $A$2:$A$192)<>1),0,0), 0)), "") -> Peanut Noodles | K25: =IFERROR(INDEX(Ingredients!$A$2:$A$114, MATCH(0,INDEX(COUNTIF($K$1:K24, Ingredients!$A$2:$A$114)+(COUNTIF(Ingredients!$A$2:$A$114, Ingredients!$A$2:$A$114)<>1),0,0), 0)), "") -> Banana Chips
B26: Whole Milk Powder | C26: 1 | D26: =VLOOKUP(B26,Ingredients!$A$2:$G$229,5,FALSE) -> tablespoon | E26: =VLOOKUP(B26,Ingredients!$A$2:$G$229,6,FALSE)*C26 -> 10 | F26: =IFERROR(VLOOKUP(B26,Ingredients!$A$2:$H$229,7,FALSE),0)*C26 -> 53.3 | G26: =$G$19*C26 -> 0 | J26: =IFERROR(INDEX($A$2:$A$192, MATCH(0,INDEX(COUNTIF($J$1:J25, $A$2:$A$192)+(COUNTIF($A$2:$A$192, $A$2:$A$192)<>1),0,0), 0)), "") -> Instant Carnation Mix | K26: =IFERROR(INDEX(Ingredients!$A$2:$A$114, MATCH(0,INDEX(COUNTIF($K$1:K25, Ingredients!$A$2:$A$114)+(COUNTIF(Ingredients!$A$2:$A$114, Ingredients!$A$2:$A$114)<>1),0,0), 0)), "") -> Brown sugar
F27: =IFERROR(VLOOKUP(B27,Ingredients!$A$2:$H$229,7,FALSE),0)*C27 -> 0 | J27: =IFERROR(INDEX($A$2:$A$192, MATCH(0,INDEX(COUNTIF($J$1:J26, $A$2:$A$192)+(COUNTIF($A$2:$A$192, $A$2:$A$192)<>1),0,0), 0)), "") -> Peanut Butter (Spoonful) | K27: =IFERROR(INDEX(Ingredients!$A$2:$A$114, MATCH(0,INDEX(COUNTIF($K$1:K26, Ingredients!$A$2:$A$114)+(COUNTIF(Ingredients!$A$2:$A$114, Ingredients!$A$2:$A$114)<>1),0,0), 0)), "") -> Tortilla (Chips)
A28: Cheese Pasta | C28: 1 | D28: serving | F28: =SUM(F29:F32) -> 341.3 | G28: =SUM(SUMIF(Meals!C:C,A28,Meals!H:H),SUMIF(Meals!K:K,A28,Meals!P:P)) -> 0 | J28: =IFERROR(INDEX($A$2:$A$192, MATCH(0,INDEX(COUNTIF($J$1:J27, $A$2:$A$192)+(COUNTIF($A$2:$A$192, $A$2:$A$192)<>1),0,0), 0)), "") -> Corn Chips (Handful) | K28: =IFERROR(INDEX(Ingredients!$A$2:$A$114, MATCH(0,INDEX(COUNTIF($K$1:K27, Ingredients!$A$2:$A$114)+(COUNTIF(Ingredients!$A$2:$A$114, Ingredients!$A$2:$A$114)<>1),0,0), 0)), "") -> Dehydrated Hummus
B29: Rice Vermicelli Noodles | C29: 1 | D29: =VLOOKUP(B29,Ingredients!$A$2:$G$229,5,FALSE) -> Brick of noodles (1/5 of package) | E29: =VLOOKUP(B29,Ingredients!$A$2:$G$229,6,FALSE)*C29 -> 45 | F29: =IFERROR(VLOOKUP(B29,Ingredients!$A$2:$H$229,7,FALSE),0)*C29 -> 168 | G29: =$G$28*C29 -> 0 | J29: =IFERROR(INDEX($A$2:$A$192, MATCH(0,INDEX(COUNTIF($J$1:J28, $A$2:$A$192)+(COUNTIF($A$2:$A$192, $A$2:$A$192)<>1),0,0), 0)), "") -> ProBar | K29: =IFERROR(INDEX(Ingredients!$A$2:$A$114, MATCH(0,INDEX(COUNTIF($K$1:K28, Ingredients!$A$2:$A$114)+(COUNTIF(Ingredients!$A$2:$A$114, Ingredients!$A$2:$A$114)<>1),0,0), 0)), "") -> Snickers Bar
B30: Whole Milk Powder | C30: 1 | D30: =VLOOKUP(B30,Ingredients!$A$2:$G$229,5,FALSE) -> tablespoon | E30: =VLOOKUP(B30,Ingredients!$A$2:$G$229,6,FALSE)*C30 -> 10 | F30: =IFERROR(VLOOKUP(B30,Ingredients!$A$2:$H$229,7,FALSE),0)*C30 -> 53.3 | G30: =$G$28*C30 -> 0 | J30: =IFERROR(INDEX($A$2:$A$192, MATCH(0,INDEX(COUNTIF($J$1:J29, $A$2:$A$192)+(COUNTIF($A$2:$A$192, $A$2:$A$192)<>1),0,0), 0)), "") -> Cliff Bar | K30: =IFERROR(INDEX(Ingredients!$A$2:$A$114, MATCH(0,INDEX(COUNTIF($K$1:K29, Ingredients!$A$2:$A$114)+(COUNTIF(Ingredients!$A$2:$A$114, Ingredients!$A$2:$A$114)<>1),0,0), 0)), "") -> Cashews
B31: Parmasan Cheese Flakes | C31: 2 | D31: =VLOOKUP(B31,Ingredients!$A$2:$G$229,5,FALSE) -> tablespoon | E31: =VLOOKUP(B31,Ingredients!$A$2:$G$229,6,FALSE)*C31 -> 30 | F31: =IFERROR(VLOOKUP(B31,Ingredients!$A$2:$H$229,7,FALSE),0)*C31 -> 120 | G31: =$G$28*C31 -> 0 | J31: =IFERROR(INDEX($A$2:$A$192, MATCH(0,INDEX(COUNTIF($J$1:J30, $A$2:$A$192)+(COUNTIF($A$2:$A$192, $A$2:$A$192)<>1),0,0), 0)), "") -> Kind Bar | K31: =IFERROR(INDEX(Ingredients!$A$2:$A$114, MATCH(0,INDEX(COUNTIF($K$1:K30, Ingredients!$A$2:$A$114)+(COUNTIF(Ingredients!$A$2:$A$114, Ingredients!$A$2:$A$114)<>1),0,0), 0)), "") -> Annies Rice Pasta and Mac and Cheese
J32: =IFERROR(INDEX($A$2:$A$192, MATCH(0,INDEX(COUNTIF($J$1:J31, $A$2:$A$192)+(COUNTIF($A$2:$A$192, $A$2:$A$192)<>1),0,0), 0)), "") -> OHenry Bar | K32: =IFERROR(INDEX(Ingredients!$A$2:$A$114, MATCH(0,INDEX(COUNTIF($K$1:K31, Ingredients!$A$2:$A$114)+(COUNTIF(Ingredients!$A$2:$A$114, Ingredients!$A$2:$A$114)<>1),0,0), 0)), "") -> Bacon Bits
A33: Salmon + Rice Cassarole | C33: 1 | D33: serving | E33: =SUM(E34:E40) -> 249 | F33: =SUM(F34:F40) -> 907 | G33: =SUM(SUMIF(Meals!C:C,A33,Meals!H:H),SUMIF(Meals!K:K,A33,Meals!P:P)) -> 0 | J33: =IFERROR(INDEX($A$2:$A$192, MATCH(0,INDEX(COUNTIF($J$1:J32, $A$2:$A$192)+(COUNTIF($A$2:$A$192, $A$2:$A$192)<>1),0,0), 0)), "") -> Cookies'n'Cream Bar | K33: =IFERROR(INDEX(Ingredients!$A$2:$A$114, MATCH(0,INDEX(COUNTIF($K$1:K32, Ingredients!$A$2:$A$114)+(COUNTIF(Ingredients!$A$2:$A$114, Ingredients!$A$2:$A$114)<>1),0,0), 0)), "") -> Beef Jerky
B34: Instant Rice | C34: 1 | D34: =VLOOKUP(B34,Ingredients!$A$2:$G$229,5,FALSE) -> cup | E34: =VLOOKUP(B34,Ingredients!$A$2:$G$229,6,FALSE)*C34 -> 90 | F34: =IFERROR(VLOOKUP(B34,Ingredients!$A$2:$H$229,7,FALSE),0)*C34 -> 320 | G34: =$G$33*C34 -> 0 | J34: =IFERROR(INDEX($A$2:$A$192, MATCH(0,INDEX(COUNTIF($J$1:J33, $A$2:$A$192)+(COUNTIF($A$2:$A$192, $A$2:$A$192)<>1),0,0), 0)), "") -> Snickers Bar | K34: =IFERROR(INDEX(Ingredients!$A$2:$A$114, MATCH(0,INDEX(COUNTIF($K$1:K33, Ingredients!$A$2:$A$114)+(COUNTIF(Ingredients!$A$2:$A$114, Ingredients!$A$2:$A$114)<>1),0,0), 0)), "") -> Couscous
B35: Foil Pack Salmon | C35: 1 | D35: =VLOOKUP(B35,Ingredients!$A$2:$G$229,5,FALSE) -> package | E35: =VLOOKUP(B35,Ingredients!$A$2:$G$229,6,FALSE)*C35 -> 100 | F35: =IFERROR(VLOOKUP(B35,Ingredients!$A$2:$H$229,7,FALSE),0)*C35 -> 200 | G35: =$G$33*C35 -> 0 | J35: =IFERROR(INDEX($A$2:$A$192, MATCH(0,INDEX(COUNTIF($J$1:J34, $A$2:$A$192)+(COUNTIF($A$2:$A$192, $A$2:$A$192)<>1),0,0), 0)), "") | K35: =IFERROR(INDEX(Ingredients!$A$2:$A$114, MATCH(0,INDEX(COUNTIF($K$1:K34, Ingredients!$A$2:$A$114)+(COUNTIF(Ingredients!$A$2:$A$114, Ingredients!$A$2:$A$114)<>1),0,0), 0)), "") -> Chicken Gravy
B36: Parmasan Cheese Flakes | C36: 3 | D36: =VLOOKUP(B36,Ingredients!$A$2:$G$229,5,FALSE) -> tablespoon | E36: =VLOOKUP(B36,Ingredients!$A$2:$G$229,6,FALSE)*C36 -> 45 | F36: =IFERROR(VLOOKUP(B36,Ingredients!$A$2:$H$229,7,FALSE),0)*C36 -> 180 | G36: =$G$33*C36 -> 0 | J36: =IFERROR(INDEX($A$2:$A$192, MATCH(0,INDEX(COUNTIF($J$1:J35, $A$2:$A$192)+(COUNTIF($A$2:$A$192, $A$2:$A$192)<>1),0,0), 0)), "") | K36: =IFERROR(INDEX(Ingredients!$A$2:$A$114, MATCH(0,INDEX(COUNTIF($K$1:K35, Ingredients!$A$2:$A$114)+(COUNTIF(Ingredients!$A$2:$A$114, Ingredients!$A$2:$A$114)<>1),0,0), 0)), "") -> Rice Ramen Noodle and Miso
B37: Dehydrated Onion | C37: 1 | D37: =VLOOKUP(B37,Ingredients!$A$2:$G$229,5,FALSE) -> tablespoon | E37: =VLOOKUP(B37,Ingredients!$A$2:$G$229,6,FALSE)*C37 -> 0 | F37: =IFERROR(VLOOKUP(B37,Ingredients!$A$2:$H$229,7,FALSE),0)*C37 -> 17 | G37: =$G$33*C37 -> 0 | J37: =IFERROR(INDEX($A$2:$A$192, MATCH(0,INDEX(COUNTIF($J$1:J36, $A$2:$A$192)+(COUNTIF($A$2:$A$192, $A$2:$A$192)<>1),0,0), 0)), "") | K37: =IFERROR(INDEX(Ingredients!$A$2:$A$114, MATCH(0,INDEX(COUNTIF($K$1:K36, Ingredients!$A$2:$A$114)+(COUNTIF(Ingredients!$A$2:$A$114, Ingredients!$A$2:$A$114)<>1),0,0), 0)), "") -> Dried Mango
B38: Olive Oil | C38: 1 | D38: =VLOOKUP(B38,Ingredients!$A$2:$G$229,5,FALSE) -> tablespoon | E38: =VLOOKUP(B38,Ingredients!$A$2:$G$229,6,FALSE)*C38 -> 14 | F38: =IFERROR(VLOOKUP(B38,Ingredients!$A$2:$H$229,7,FALSE),0)*C38 -> 120 | G38: =$G$33*C38 -> 0 | J38: =IFERROR(INDEX($A$2:$A$192, MATCH(0,INDEX(COUNTIF($J$1:J37, $A$2:$A$192)+(COUNTIF($A$2:$A$192, $A$2:$A$192)<>1),0,0), 0)), "") | K38: =IFERROR(INDEX(Ingredients!$A$2:$A$114, MATCH(0,INDEX(COUNTIF($K$1:K37, Ingredients!$A$2:$A$114)+(COUNTIF(Ingredients!$A$2:$A$114, Ingredients!$A$2:$A$114)<>1),0,0), 0)), "") -> Nothing/ Zero
B39: Dehydrated Vegetables | C39: 0.5 | D39: =VLOOKUP(B39,Ingredients!$A$2:$G$229,5,FALSE) -> package | E39: =VLOOKUP(B39,Ingredients!$A$2:$G$229,6,FALSE)*C39 -> 0 | F39: =IFERROR(VLOOKUP(B39,Ingredients!$A$2:$H$229,7,FALSE),0)*C39 -> 70 | G39: =$G$33*C39 -> 0 | J39: =IFERROR(INDEX($A$2:$A$192, MATCH(0,INDEX(COUNTIF($J$1:J38, $A$2:$A$192)+(COUNTIF($A$2:$A$192, $A$2:$A$192)<>1),0,0), 0)), "") | K39: =IFERROR(INDEX(Ingredients!$A$2:$A$114, MATCH(0,INDEX(COUNTIF($K$1:K38, Ingredients!$A$2:$A$114)+(COUNTIF(Ingredients!$A$2:$A$114, Ingredients!$A$2:$A$114)<>1),0,0), 0)), "") -> Gummy Bears
J40: =IFERROR(INDEX($A$2:$A$192, MATCH(0,INDEX(COUNTIF($J$1:J39, $A$2:$A$192)+(COUNTIF($A$2:$A$192, $A$2:$A$192)<>1),0,0), 0)), "") | K40: =IFERROR(INDEX(Ingredients!$A$2:$A$114, MATCH(0,INDEX(COUNTIF($K$1:K39, Ingredients!$A$2:$A$114)+(COUNTIF(Ingredients!$A$2:$A$114, Ingredients!$A$2:$A$114)<>1),0,0), 0)), "") -> Dehydrated Chicken
A41: Tortilla and Peanut Butter Lunch | C41: 1 | D41: serving | E41: =SUM(E42:E43) -> 30 | F41: =SUM(F42:F43) -> 270 | G41: =SUM(SUMIF(Meals!C:C,A41,Meals!H:H),SUMIF(Meals!K:K,A41,Meals!P:P)) -> 0 | J41: =IFERROR(INDEX($A$2:$A$192, MATCH(0,INDEX(COUNTIF($J$1:J40, $A$2:$A$192)+(COUNTIF($A$2:$A$192, $A$2:$A$192)<>1),0,0), 0)), "") | K41: =IFERROR(INDEX(Ingredients!$A$2:$A$114, MATCH(0,INDEX(COUNTIF($K$1:K40, Ingredients!$A$2:$A$114)+(COUNTIF(Ingredients!$A$2:$A$114, Ingredients!$A$2:$A$114)<>1),0,0), 0)), "") -> Dehydrated Beef
B42: Tortilla (Wrap) | C42: 1 | D42: =VLOOKUP(B42,Ingredients!$A$2:$G$229,5,FALSE) -> piece | E42: =VLOOKUP(B42,Ingredients!$A$2:$G$229,6,FALSE)*C42 -> 0 | F42: =IFERROR(VLOOKUP(B42,Ingredients!$A$2:$H$229,7,FALSE),0)*C42 -> 90 | G42: =$G$41*C42 -> 0 | J42: =IFERROR(INDEX($A$2:$A$192, MATCH(0,INDEX(COUNTIF($J$1:J41, $A$2:$A$192)+(COUNTIF($A$2:$A$192, $A$2:$A$192)<>1),0,0), 0)), "") | K42: =IFERROR(INDEX(Ingredients!$A$2:$A$114, MATCH(0,INDEX(COUNTIF($K$1:K41, Ingredients!$A$2:$A$114)+(COUNTIF(Ingredients!$A$2:$A$114, Ingredients!$A$2:$A$114)<>1),0,0), 0)), "") -> Alpine Aire Guacamole and Chips
B43: Peanut Butter | C43: 2 | D43: =VLOOKUP(B43,Ingredients!$A$2:$G$229,5,FALSE) -> tablespoon | E43: =VLOOKUP(B43,Ingredients!$A$2:$G$229,6,FALSE)*C43 -> 30 | F43: =IFERROR(VLOOKUP(B43,Ingredients!$A$2:$H$229,7,FALSE),0)*C43 -> 180 | G43: =$G$41*C43 -> 0 | J43: =IFERROR(INDEX($A$2:$A$192, MATCH(0,INDEX(COUNTIF($J$1:J42, $A$2:$A$192)+(COUNTIF($A$2:$A$192, $A$2:$A$192)<>1),0,0), 0)), "") | K43: =IFERROR(INDEX(Ingredients!$A$2:$A$114, MATCH(0,INDEX(COUNTIF($K$1:K42, Ingredients!$A$2:$A$114)+(COUNTIF(Ingredients!$A$2:$A$114, Ingredients!$A$2:$A$114)<>1),0,0), 0)), "") -> Garlic Powder
J44: =IFERROR(INDEX($A$2:$A$192, MATCH(0,INDEX(COUNTIF($J$1:J43, $A$2:$A$192)+(COUNTIF($A$2:$A$192, $A$2:$A$192)<>1),0,0), 0)), "") | K44: =IFERROR(INDEX(Ingredients!$A$2:$A$114, MATCH(0,INDEX(COUNTIF($K$1:K43, Ingredients!$A$2:$A$114)+(COUNTIF(Ingredients!$A$2:$A$114, Ingredients!$A$2:$A$114)<>1),0,0), 0)), "") -> Protein Granola Bar
A45: Sausage Lunch | C45: 1 | D45: serving | E45: =SUM(E46) -> 200 | F45: =SUM(F46) -> 852 | G45: =SUM(SUMIF(Meals!C:C,A45,Meals!H:H),SUMIF(Meals!K:K,A45,Meals!P:P)) -> 24.5 | J45: =IFERROR(INDEX($A$2:$A$192, MATCH(0,INDEX(COUNTIF($J$1:J44, $A$2:$A$192)+(COUNTIF($A$2:$A$192, $A$2:$A$192)<>1),0,0), 0)), "") | K45: =IFERROR(INDEX(Ingredients!$A$2:$A$114, MATCH(0,INDEX(COUNTIF($K$1:K44, Ingredients!$A$2:$A$114)+(COUNTIF(Ingredients!$A$2:$A$114, Ingredients!$A$2:$A$114)<>1),0,0), 0)), "") -> Corn Chips (Fritos)
B46: Sausage | C46: 2 | D46: =VLOOKUP(B46,Ingredients!$A$2:$G$229,5,FALSE) -> piece | E46: =VLOOKUP(B46,Ingredients!$A$2:$G$229,6,FALSE)*C46 -> 200 | F46: =IFERROR(VLOOKUP(B46,Ingredients!$A$2:$H$229,7,FALSE),0)*C46 -> 852 | G46: =$G$45*C46 -> 49 | J46: =IFERROR(INDEX($A$2:$A$192, MATCH(0,INDEX(COUNTIF($J$1:J45, $A$2:$A$192)+(COUNTIF($A$2:$A$192, $A$2:$A$192)<>1),0,0), 0)), "") | K46: =IFERROR(INDEX(Ingredients!$A$2:$A$114, MATCH(0,INDEX(COUNTIF($K$1:K45, Ingredients!$A$2:$A$114)+(COUNTIF(Ingredients!$A$2:$A$114, Ingredients!$A$2:$A$114)<>1),0,0), 0)), "") -> Sun Dried Tomatos
A47: Tuna Lunch | C47: 1 | D47: serving | E47: =SUM(E48:E49) -> 125 | F47: =SUM(F48:F49) -> 370 | G47: =SUM(SUMIF(Meals!C:C,A47,Meals!H:H),SUMIF(Meals!K:K,A47,Meals!P:P)) -> 17.5 | J47: =IFERROR(INDEX($A$2:$A$192, MATCH(0,INDEX(COUNTIF($J$1:J46, $A$2:$A$192)+(COUNTIF($A$2:$A$192, $A$2:$A$192)<>1),0,0), 0)), "") | K47: =IFERROR(INDEX(Ingredients!$A$2:$A$114, MATCH(0,INDEX(COUNTIF($K$1:K46, Ingredients!$A$2:$A$114)+(COUNTIF(Ingredients!$A$2:$A$114, Ingredients!$A$2:$A$114)<>1),0,0), 0)), "") -> Bean Dip
B48: Foil Pack Tuna | C48: 1 | D48: =VLOOKUP(B48,Ingredients!$A$2:$G$229,5,FALSE) -> package | E48: =VLOOKUP(B48,Ingredients!$A$2:$G$229,6,FALSE)*C48 -> 85 | F48: =IFERROR(VLOOKUP(B48,Ingredients!$A$2:$H$229,7,FALSE),0)*C48 -> 90 | G48: =$G$47*C48 -> 17.5 | J48: =IFERROR(INDEX($A$2:$A$192, MATCH(0,INDEX(COUNTIF($J$1:J47, $A$2:$A$192)+(COUNTIF($A$2:$A$192, $A$2:$A$192)<>1),0,0), 0)), "") | K48: =IFERROR(INDEX(Ingredients!$A$2:$A$114, MATCH(0,INDEX(COUNTIF($K$1:K47, Ingredients!$A$2:$A$114)+(COUNTIF(Ingredients!$A$2:$A$114, Ingredients!$A$2:$A$114)<>1),0,0), 0)), "") -> Foil Packed Corned Beef
B49: Mayonnaise Packet | C49: 4 | D49: =VLOOKUP(B49,Ingredients!$A$2:$G$229,5,FALSE) -> packet | E49: =VLOOKUP(B49,Ingredients!$A$2:$G$229,6,FALSE)*C49 -> 40 | F49: =IFERROR(VLOOKUP(B49,Ingredients!$A$2:$H$229,7,FALSE),0)*C49 -> 280 | G49: =$G$47*C49 -> 70 | J49: =IFERROR(INDEX($A$2:$A$192, MATCH(0,INDEX(COUNTIF($J$1:J48, $A$2:$A$192)+(COUNTIF($A$2:$A$192, $A$2:$A$192)<>1),0,0), 0)), "") | K49: =IFERROR(INDEX(Ingredients!$A$2:$A$114, MATCH(0,INDEX(COUNTIF($K$1:K48, Ingredients!$A$2:$A$114)+(COUNTIF(Ingredients!$A$2:$A$114, Ingredients!$A$2:$A$114)<>1),0,0), 0)), "") -> Hersheys Almond Bar
A50: Chips and Dip | C50: 1 | D50: serving | E50: =SUM(E51:E52) -> 0 | F50: =SUM(F51:F52) -> 631 | G50: =SUM(SUMIF(Meals!C:C,A50,Meals!H:H),SUMIF(Meals!K:K,A50,Meals!P:P)) -> 0 | J50: =IFERROR(INDEX($A$2:$A$192, MATCH(0,INDEX(COUNTIF($J$1:J49, $A$2:$A$192)+(COUNTIF($A$2:$A$192, $A$2:$A$192)<>1),0,0), 0)), "") | K50: =IFERROR(INDEX(Ingredients!$A$2:$A$114, MATCH(0,INDEX(COUNTIF($K$1:K49, Ingredients!$A$2:$A$114)+(COUNTIF(Ingredients!$A$2:$A$114, Ingredients!$A$2:$A$114)<>1),0,0), 0)), "") -> Starbucks Via
B51: Tortilla (Chips) | C51: 2 | D51: =VLOOKUP(B51,Ingredients!$A$2:$G$229,5,FALSE) -> cup | E51: =VLOOKUP(B51,Ingredients!$A$2:$G$229,6,FALSE)*C51 -> 0 | F51: =IFERROR(VLOOKUP(B51,Ingredients!$A$2:$H$229,7,FALSE),0)*C51 -> 586 | G51: =$G$50*C51 -> 0 | J51: =IFERROR(INDEX($A$2:$A$192, MATCH(0,INDEX(COUNTIF($J$1:J50, $A$2:$A$192)+(COUNTIF($A$2:$A$192, $A$2:$A$192)<>1),0,0), 0)), "") | K51: =IFERROR(INDEX(Ingredients!$A$2:$A$114, MATCH(0,INDEX(COUNTIF($K$1:K50, Ingredients!$A$2:$A$114)+(COUNTIF(Ingredients!$A$2:$A$114, Ingredients!$A$2:$A$114)<>1),0,0), 0)), "") -> Taco Seasoning
B52: Dehydrated Hummus | C52: 2 | D52: =VLOOKUP(B52,Ingredients!$A$2:$G$229,5,FALSE) -> tablespoon | E52: =VLOOKUP(B52,Ingredients!$A$2:$G$229,6,FALSE)*C52 -> 0 | F52: =IFERROR(VLOOKUP(B52,Ingredients!$A$2:$H$229,7,FALSE),0)*C52 -> 45 | G52: =$G$50*C52 -> 0 | J52: =IFERROR(INDEX($A$2:$A$192, MATCH(0,INDEX(COUNTIF($J$1:J51, $A$2:$A$192)+(COUNTIF($A$2:$A$192, $A$2:$A$192)<>1),0,0), 0)), "") | K52: =IFERROR(INDEX(Ingredients!$A$2:$A$114, MATCH(0,INDEX(COUNTIF($K$1:K51, Ingredients!$A$2:$A$114)+(COUNTIF(Ingredients!$A$2:$A$114, Ingredients!$A$2:$A$114)<>1),0,0), 0)), "") -> General Spices (salt, pepper, etc)
J53: =IFERROR(INDEX($A$2:$A$192, MATCH(0,INDEX(COUNTIF($J$1:J52, $A$2:$A$192)+(COUNTIF($A$2:$A$192, $A$2:$A$192)<>1),0,0), 0)), "") | K53: =IFERROR(INDEX(Ingredients!$A$2:$A$114, MATCH(0,INDEX(COUNTIF($K$1:K52, Ingredients!$A$2:$A$114)+(COUNTIF(Ingredients!$A$2:$A$114, Ingredients!$A$2:$A$114)<>1),0,0), 0)), "") -> Dried Basil
A54: Kyle's Kind Healthy Grain Bar Breakfast | C54: 1 | D54: serving | E54: =SUM(E55:E57) -> 111.6 | F54: =SUM(F55:F57) -> 460 | G54: =SUM(SUMIF(Meals!C:C,A54,Meals!H:H),SUMIF(Meals!K:K,A54,Meals!P:P)) -> 28 | J54: =IFERROR(INDEX($A$2:$A$192, MATCH(0,INDEX(COUNTIF($J$1:J53, $A$2:$A$192)+(COUNTIF($A$2:$A$192, $A$2:$A$192)<>1),0,0), 0)), "") | K54: =IFERROR(INDEX(Ingredients!$A$2:$A$114, MATCH(0,INDEX(COUNTIF($K$1:K53, Ingredients!$A$2:$A$114)+(COUNTIF(Ingredients!$A$2:$A$114, Ingredients!$A$2:$A$114)<>1),0,0), 0)), "") -> Cliff Bar
B55: Kind Breakfast Bar | C55: 3 | D55: =VLOOKUP(B55,Ingredients!$A$2:$G$229,5,FALSE) -> bar | E55: =VLOOKUP(B55,Ingredients!$A$2:$G$229,6,FALSE)*C55 -> 105 | F55: =IFERROR(VLOOKUP(B55,Ingredients!$A$2:$H$229,7,FALSE),0)*C55 -> 450 | G55: =$G$54*C55 -> 84 | J55: =IFERROR(INDEX($A$2:$A$192, MATCH(0,INDEX(COUNTIF($J$1:J54, $A$2:$A$192)+(COUNTIF($A$2:$A$192, $A$2:$A$192)<>1),0,0), 0)), "") | K55: =IFERROR(INDEX(Ingredients!$A$2:$A$114, MATCH(0,INDEX(COUNTIF($K$1:K54, Ingredients!$A$2:$A$114)+(COUNTIF(Ingredients!$A$2:$A$114, Ingredients!$A$2:$A$114)<>1),0,0), 0)), "") -> Larabar
B56: Snickers Bar | C56: 0 | D56: =VLOOKUP(B56,Ingredients!$A$2:$G$229,5,FALSE) -> bar | E56: =VLOOKUP(B56,Ingredients!$A$2:$G$229,6,FALSE)*C56 -> 0 | F56: =IFERROR(VLOOKUP(B56,Ingredients!$A$2:$H$229,7,FALSE),0)*C56 -> 0 | G56: =$G$54*C56 -> 0
B57: Starbucks Via | C57: 2 | D57: =VLOOKUP(B57,Ingredients!$A$2:$G$229,5,FALSE) -> package | E57: =VLOOKUP(B57,Ingredients!$A$2:$G$229,6,FALSE)*C57 -> 6.6 | F57: =IFERROR(VLOOKUP(B57,Ingredients!$A$2:$H$229,7,FALSE),0)*C57 -> 10 | G57: =$G$54*C57 -> 56 | J57: =IFERROR(INDEX($A$2:$A$192, MATCH(0,INDEX(COUNTIF($J$1:J55, $A$2:$A$192)+(COUNTIF($A$2:$A$192, $A$2:$A$192)<>1),0,0), 0)), "") | K57: =IFERROR(INDEX(Ingredients!$A$2:$A$114, MATCH(0,INDEX(COUNTIF($K$1:K55, Ingredients!$A$2:$A$114)+(COUNTIF(Ingredients!$A$2:$A$114, Ingredients!$A$2:$A$114)<>1),0,0), 0)), "") -> Kind Bar
A58: Kyle's Kind Bar Breakfast | C58: 1 | D58: serving | E58: =SUM(E59:E60) -> 126.6 | F58: =SUM(F59:F60) -> 610 | G58: =SUM(SUMIF(Meals!C:C,A58,Meals!H:H),SUMIF(Meals!K:K,A58,Meals!P:P)) -> 10 | J58: =IFERROR(INDEX($A$2:$A$192, MATCH(0,INDEX(COUNTIF($J$1:J57, $A$2:$A$192)+(COUNTIF($A$2:$A$192, $A$2:$A$192)<>1),0,0), 0)), "") | K58: =IFERROR(INDEX(Ingredients!$A$2:$A$114, MATCH(0,INDEX(COUNTIF($K$1:K57, Ingredients!$A$2:$A$114)+(COUNTIF(Ingredients!$A$2:$A$114, Ingredients!$A$2:$A$114)<>1),0,0), 0)), "") -> Natures Path Sunrise
B59: Kind Bar | C59: 3 | D59: =VLOOKUP(B59,Ingredients!$A$2:$G$229,5,FALSE) -> bar | E59: =VLOOKUP(B59,Ingredients!$A$2:$G$229,6,FALSE)*C59 -> 120 | F59: =IFERROR(VLOOKUP(B59,Ingredients!$A$2:$H$229,7,FALSE),0)*C59 -> 600 | G59: =$G$58*C59 -> 30 | J59: =IFERROR(INDEX($A$2:$A$192, MATCH(0,INDEX(COUNTIF($J$1:J58, $A$2:$A$192)+(COUNTIF($A$2:$A$192, $A$2:$A$192)<>1),0,0), 0)), "") | K59: =IFERROR(INDEX(Ingredients!$A$2:$A$114, MATCH(0,INDEX(COUNTIF($K$1:K58, Ingredients!$A$2:$A$114)+(COUNTIF(Ingredients!$A$2:$A$114, Ingredients!$A$2:$A$114)<>1),0,0), 0)), "") -> Pop Tarts
B60: Starbucks Via | C60: 2 | D60: =VLOOKUP(B60,Ingredients!$A$2:$G$229,5,FALSE) -> package | E60: =VLOOKUP(B60,Ingredients!$A$2:$G$229,6,FALSE)*C60 -> 6.6 | F60: =IFERROR(VLOOKUP(B60,Ingredients!$A$2:$H$229,7,FALSE),0)*C60 -> 10 | G60: =$G$58*C60 -> 20 | J60: =IFERROR(INDEX($A$2:$A$192, MATCH(0,INDEX(COUNTIF($J$1:J59, $A$2:$A$192)+(COUNTIF($A$2:$A$192, $A$2:$A$192)<>1),0,0), 0)), "") | K60: =IFERROR(INDEX(Ingredients!$A$2:$A$114, MATCH(0,INDEX(COUNTIF($K$1:K59, Ingredients!$A$2:$A$114)+(COUNTIF(Ingredients!$A$2:$A$114, Ingredients!$A$2:$A$114)<>1),0,0), 0)), "") -> Gatorade
A61: Kyle's Laura Bar Breakfast | C61: 1 | D61: serving | E61: =SUM(E62:E63) -> 141.6 | F61: =SUM(F62:F63) -> 640 | G61: =SUM(SUMIF(Meals!C:C,A61,Meals!H:H),SUMIF(Meals!K:K,A61,Meals!P:P)) -> 9 | J61: =IFERROR(INDEX($A$2:$A$192, MATCH(0,INDEX(COUNTIF($J$1:J60, $A$2:$A$192)+(COUNTIF($A$2:$A$192, $A$2:$A$192)<>1),0,0), 0)), "") | K61: =IFERROR(INDEX(Ingredients!$A$2:$A$114, MATCH(0,INDEX(COUNTIF($K$1:K60, Ingredients!$A$2:$A$114)+(COUNTIF(Ingredients!$A$2:$A$114, Ingredients!$A$2:$A$114)<>1),0,0), 0)), "") -> Carnation Breakfast Drink
B62: Larabar | C62: 3 | D62: =VLOOKUP(B62,Ingredients!$A$2:$G$229,5,FALSE) -> bar | E62: =VLOOKUP(B62,Ingredients!$A$2:$G$229,6,FALSE)*C62 -> 135 | F62: =IFERROR(VLOOKUP(B62,Ingredients!$A$2:$H$229,7,FALSE),0)*C62 -> 630 | G62: =$G$61*C62 -> 27 | J62: =IFERROR(INDEX($A$2:$A$192, MATCH(0,INDEX(COUNTIF($J$1:J61, $A$2:$A$192)+(COUNTIF($A$2:$A$192, $A$2:$A$192)<>1),0,0), 0)), "") | K62: =IFERROR(INDEX(Ingredients!$A$2:$A$114, MATCH(0,INDEX(COUNTIF($K$1:K61, Ingredients!$A$2:$A$114)+(COUNTIF(Ingredients!$A$2:$A$114, Ingredients!$A$2:$A$114)<>1),0,0), 0)), "") -> Baby Food Pouch
B63: Starbucks Via | C63: 2 | D63: =VLOOKUP(B63,Ingredients!$A$2:$G$229,5,FALSE) -> package | E63: =VLOOKUP(B63,Ingredients!$A$2:$G$229,6,FALSE)*C63 -> 6.6 | F63: =IFERROR(VLOOKUP(B63,Ingredients!$A$2:$H$229,7,FALSE),0)*C63 -> 10 | G63: =$G$61*C63 -> 18 | J63: =IFERROR(INDEX($A$2:$A$192, MATCH(0,INDEX(COUNTIF($J$1:J62, $A$2:$A$192)+(COUNTIF($A$2:$A$192, $A$2:$A$192)<>1),0,0), 0)), "") | K63: =IFERROR(INDEX(Ingredients!$A$2:$A$114, MATCH(0,INDEX(COUNTIF($K$1:K62, Ingredients!$A$2:$A$114)+(COUNTIF(Ingredients!$A$2:$A$114, Ingredients!$A$2:$A$114)<>1),0,0), 0)), "") -> Kind Breakfast Bar
A64: Kyle's Snickers Bar & Almond Bar | C64: 1 | D64: serving | E64: =SUM(E65:E67) -> 184 | F64: =SUM(F65:F67) -> 950 | G64: =SUM(SUMIF(Meals!C:C,A64,Meals!H:H),SUMIF(Meals!K:K,A64,Meals!P:P)) -> 47 | J64: =IFERROR(INDEX($A$2:$A$192, MATCH(0,INDEX(COUNTIF($J$1:J63, $A$2:$A$192)+(COUNTIF($A$2:$A$192, $A$2:$A$192)<>1),0,0), 0)), "") | K64: =IFERROR(INDEX(Ingredients!$A$2:$A$114, MATCH(0,INDEX(COUNTIF($K$1:K63, Ingredients!$A$2:$A$114)+(COUNTIF(Ingredients!$A$2:$A$114, Ingredients!$A$2:$A$114)<>1),0,0), 0)), "") -> Mayonnaise Packet
B65: Snickers Bar | C65: 1 | D65: =VLOOKUP(B65,Ingredients!$A$2:$G$229,5,FALSE) -> bar | E65: =VLOOKUP(B65,Ingredients!$A$2:$G$229,6,FALSE)*C65 -> 52 | F65: =IFERROR(VLOOKUP(B65,Ingredients!$A$2:$H$229,7,FALSE),0)*C65 -> 250 | G65: =$G$64*C65 -> 47 | J65: =IFERROR(INDEX($A$2:$A$192, MATCH(0,INDEX(COUNTIF($J$1:J64, $A$2:$A$192)+(COUNTIF($A$2:$A$192, $A$2:$A$192)<>1),0,0), 0)), "") | K65: =IFERROR(INDEX(Ingredients!$A$2:$A$114, MATCH(0,INDEX(COUNTIF($K$1:K64, Ingredients!$A$2:$A$114)+(COUNTIF(Ingredients!$A$2:$A$114, Ingredients!$A$2:$A$114)<>1),0,0), 0)), "") -> ProBar Base/Core Bar
B66: Reese Peanut Butter Cups | C66: 1 | D66: =VLOOKUP(B66,Ingredients!$A$2:$G$229,5,FALSE) -> Package of 3 cups | E66: =VLOOKUP(B66,Ingredients!$A$2:$G$229,6,FALSE)*C66 -> 46 | F66: =IFERROR(VLOOKUP(B66,Ingredients!$A$2:$H$229,7,FALSE),0)*C66 -> 240 | G66: =$G$64*C66 -> 47 | J66: =IFERROR(INDEX($A$2:$A$192, MATCH(0,INDEX(COUNTIF($J$1:J65, $A$2:$A$192)+(COUNTIF($A$2:$A$192, $A$2:$A$192)<>1),0,0), 0)), "") | K66: =IFERROR(INDEX(Ingredients!$A$2:$A$114, MATCH(0,INDEX(COUNTIF($K$1:K65, Ingredients!$A$2:$A$114)+(COUNTIF(Ingredients!$A$2:$A$114, Ingredients!$A$2:$A$114)<>1),0,0), 0)), "") -> Reese Peanut Butter Cups
B67: Hersheys Almond Bar | C67: 2 | D67: =VLOOKUP(B67,Ingredients!$A$2:$G$229,5,FALSE) -> piece | E67: =VLOOKUP(B67,Ingredients!$A$2:$G$229,6,FALSE)*C67 -> 86 | F67: =IFERROR(VLOOKUP(B67,Ingredients!$A$2:$H$229,7,FALSE),0)*C67 -> 460 | G67: =$G$64*C67 -> 94 | J67: =IFERROR(INDEX($A$2:$A$192, MATCH(0,INDEX(COUNTIF($J$1:J66, $A$2:$A$192)+(COUNTIF($A$2:$A$192, $A$2:$A$192)<>1),0,0), 0)), "") | K67: =IFERROR(INDEX(Ingredients!$A$2:$A$114, MATCH(0,INDEX(COUNTIF($K$1:K66, Ingredients!$A$2:$A$114)+(COUNTIF(Ingredients!$A$2:$A$114, Ingredients!$A$2:$A$114)<>1),0,0), 0)), "") -> O Henry Bar
J68: =IFERROR(INDEX($A$2:$A$192, MATCH(0,INDEX(COUNTIF($J$1:J67, $A$2:$A$192)+(COUNTIF($A$2:$A$192, $A$2:$A$192)<>1),0,0), 0)), "") | K68: =IFERROR(INDEX(Ingredients!$A$2:$A$114, MATCH(0,INDEX(COUNTIF($K$1:K67, Ingredients!$A$2:$A$114)+(COUNTIF(Ingredients!$A$2:$A$114, Ingredients!$A$2:$A$114)<>1),0,0), 0)), "") -> Hersheys Cookies'n'Cream Bar
A69: Beef Jerky Snack | C69: 1 | D69: serving | E69: =SUM(E70:E71) -> 100 | F69: =SUM(F70:F71) -> 250 | G69: =SUM(SUMIF(Meals!C:C,A69,Meals!H:H),SUMIF(Meals!K:K,A69,Meals!P:P)) -> 41.8 | J69: =IFERROR(INDEX($A$2:$A$192, MATCH(0,INDEX(COUNTIF($J$1:J68, $A$2:$A$192)+(COUNTIF($A$2:$A$192, $A$2:$A$192)<>1),0,0), 0)), "") | K69: =IFERROR(INDEX(Ingredients!$A$2:$A$114, MATCH(0,INDEX(COUNTIF($K$1:K68, Ingredients!$A$2:$A$114)+(COUNTIF(Ingredients!$A$2:$A$114, Ingredients!$A$2:$A$114)<>1),0,0), 0)), "") -> OTHER CONSUMABLES
B70: Beef Jerky | C70: 5 | D70: =VLOOKUP(B70,Ingredients!$A$2:$G$229,5,FALSE) -> 3 pieces | E70: =VLOOKUP(B70,Ingredients!$A$2:$G$229,6,FALSE)*C70 -> 100 | F70: =IFERROR(VLOOKUP(B70,Ingredients!$A$2:$H$229,7,FALSE),0)*C70 -> 250 | G70: =$G$69*C70 -> 209 | J70: =IFERROR(INDEX($A$2:$A$192, MATCH(0,INDEX(COUNTIF($J$1:J69, $A$2:$A$192)+(COUNTIF($A$2:$A$192, $A$2:$A$192)<>1),0,0), 0)), "") | K70: =IFERROR(INDEX(Ingredients!$A$2:$A$114, MATCH(0,INDEX(COUNTIF($K$1:K69, Ingredients!$A$2:$A$114)+(COUNTIF(Ingredients!$A$2:$A$114, Ingredients!$A$2:$A$114)<>1),0,0), 0)), "") -> Sunscreen
J71: =IFERROR(INDEX($A$2:$A$192, MATCH(0,INDEX(COUNTIF($J$1:J70, $A$2:$A$192)+(COUNTIF($A$2:$A$192, $A$2:$A$192)<>1),0,0), 0)), "") | K71: =IFERROR(INDEX(Ingredients!$A$2:$A$114, MATCH(0,INDEX(COUNTIF($K$1:K70, Ingredients!$A$2:$A$114)+(COUNTIF(Ingredients!$A$2:$A$114, Ingredients!$A$2:$A$114)<>1),0,0), 0)), "") -> Lip balm
A72: Gummy Bears Snack | C72: 1 | D72: serving | E72: =SUM(E73:E74) -> 125 | F72: =SUM(F73:F74) -> 450 | G72: =SUM(SUMIF(Meals!C:C,A72,Meals!H:H),SUMIF(Meals!K:K,A72,Meals!P:P)) -> 4.5 | J72: =IFERROR(INDEX($A$2:$A$192, MATCH(0,INDEX(COUNTIF($J$1:J71, $A$2:$A$192)+(COUNTIF($A$2:$A$192, $A$2:$A$192)<>1),0,0), 0)), "") | K72: =IFERROR(INDEX(Ingredients!$A$2:$A$114, MATCH(0,INDEX(COUNTIF($K$1:K71, Ingredients!$A$2:$A$114)+(COUNTIF(Ingredients!$A$2:$A$114, Ingredients!$A$2:$A$114)<>1),0,0), 0)), "") -> Baby wipes
B73: Gummy Bears | C73: 50 | D73: =VLOOKUP(B73,Ingredients!$A$2:$G$229,5,FALSE) -> piece | E73: =VLOOKUP(B73,Ingredients!$A$2:$G$229,6,FALSE)*C73 -> 125 | F73: =IFERROR(VLOOKUP(B73,Ingredients!$A$2:$H$229,7,FALSE),0)*C73 -> 450 | G73: =$G$72*C73 -> 225 | J73: =IFERROR(INDEX($A$2:$A$192, MATCH(0,INDEX(COUNTIF($J$1:J72, $A$2:$A$192)+(COUNTIF($A$2:$A$192, $A$2:$A$192)<>1),0,0), 0)), "") | K73: =IFERROR(INDEX(Ingredients!$A$2:$A$114, MATCH(0,INDEX(COUNTIF($K$1:K72, Ingredients!$A$2:$A$114)+(COUNTIF(Ingredients!$A$2:$A$114, Ingredients!$A$2:$A$114)<>1),0,0), 0)), "") -> Bug spray
J74: =IFERROR(INDEX($A$2:$A$192, MATCH(0,INDEX(COUNTIF($J$1:J73, $A$2:$A$192)+(COUNTIF($A$2:$A$192, $A$2:$A$192)<>1),0,0), 0)), "") | K74: =IFERROR(INDEX(Ingredients!$A$2:$A$114, MATCH(0,INDEX(COUNTIF($K$1:K73, Ingredients!$A$2:$A$114)+(COUNTIF(Ingredients!$A$2:$A$114, Ingredients!$A$2:$A$114)<>1),0,0), 0)), "") -> Hand sanitizer
A75: Cheese and Salmon Mac n Cheeze | C75: 1 | D75: serving | E75: =SUM(E76:E80) -> 184 | F75: =SUM(F76:F80) -> 601.3 | G75: =SUM(SUMIF(Meals!C:C,A75,Meals!H:H),SUMIF(Meals!K:K,A75,Meals!P:P)) -> 9 | J75: =IFERROR(INDEX($A$2:$A$192, MATCH(0,INDEX(COUNTIF($J$1:J74, $A$2:$A$192)+(COUNTIF($A$2:$A$192, $A$2:$A$192)<>1),0,0), 0)), "") | K75: =IFERROR(INDEX(Ingredients!$A$2:$A$114, MATCH(0,INDEX(COUNTIF($K$1:K74, Ingredients!$A$2:$A$114)+(COUNTIF(Ingredients!$A$2:$A$114, Ingredients!$A$2:$A$114)<>1),0,0), 0)), "")
B76: Rice Vermicelli Noodles | C76: 1 | D76: =VLOOKUP(B76,Ingredients!$A$2:$G$229,5,FALSE) -> Brick of noodles (1/5 of package) | E76: =VLOOKUP(B76,Ingredients!$A$2:$G$229,6,FALSE)*C76 -> 45 | F76: =IFERROR(VLOOKUP(B76,Ingredients!$A$2:$H$229,7,FALSE),0)*C76 -> 168 | G76: =$G$75*C76 -> 9 | J76: =IFERROR(INDEX($A$2:$A$192, MATCH(0,INDEX(COUNTIF($J$1:J75, $A$2:$A$192)+(COUNTIF($A$2:$A$192, $A$2:$A$192)<>1),0,0), 0)), "") | K76: =IFERROR(INDEX(Ingredients!$A$2:$A$114, MATCH(0,INDEX(COUNTIF($K$1:K75, Ingredients!$A$2:$A$114)+(COUNTIF(Ingredients!$A$2:$A$114, Ingredients!$A$2:$A$114)<>1),0,0), 0)), "")
B77: Whole Milk Powder | C77: 1 | D77: =VLOOKUP(B77,Ingredients!$A$2:$G$229,5,FALSE) -> tablespoon | E77: =VLOOKUP(B77,Ingredients!$A$2:$G$229,6,FALSE)*C77 -> 10 | F77: =IFERROR(VLOOKUP(B77,Ingredients!$A$2:$H$229,7,FALSE),0)*C77 -> 53.3 | G77: =$G$75*C77 -> 9 | J77: =IFERROR(INDEX($A$2:$A$192, MATCH(0,INDEX(COUNTIF($J$1:J76, $A$2:$A$192)+(COUNTIF($A$2:$A$192, $A$2:$A$192)<>1),0,0), 0)), "") | K77: =IFERROR(INDEX(Ingredients!$A$2:$A$114, MATCH(0,INDEX(COUNTIF($K$1:K76, Ingredients!$A$2:$A$114)+(COUNTIF(Ingredients!$A$2:$A$114, Ingredients!$A$2:$A$114)<>1),0,0), 0)), "")
B78: Foil Pack Salmon | C78: 1 | D78: =VLOOKUP(B78,Ingredients!$A$2:$G$229,5,FALSE) -> package | E78: =VLOOKUP(B78,Ingredients!$A$2:$G$229,6,FALSE)*C78 -> 100 | F78: =IFERROR(VLOOKUP(B78,Ingredients!$A$2:$H$229,7,FALSE),0)*C78 -> 200 | G78: =$G$75*C78 -> 9 | J78: =IFERROR(INDEX($A$2:$A$192, MATCH(0,INDEX(COUNTIF($J$1:J77, $A$2:$A$192)+(COUNTIF($A$2:$A$192, $A$2:$A$192)<>1),0,0), 0)), "") | K78: =IFERROR(INDEX(Ingredients!$A$2:$A$114, MATCH(0,INDEX(COUNTIF($K$1:K77, Ingredients!$A$2:$A$114)+(COUNTIF(Ingredients!$A$2:$A$114, Ingredients!$A$2:$A$114)<>1),0,0), 0)), "")
B79: Olive Oil | C79: 1 | D79: =VLOOKUP(B79,Ingredients!$A$2:$G$229,5,FALSE) -> tablespoon | E79: =VLOOKUP(B79,Ingredients!$A$2:$G$229,6,FALSE)*C79 -> 14 | F79: =IFERROR(VLOOKUP(B79,Ingredients!$A$2:$H$229,7,FALSE),0)*C79 -> 120 | G79: =$G$75*C79 -> 9 | J79: =IFERROR(INDEX($A$2:$A$192, MATCH(0,INDEX(COUNTIF($J$1:J78, $A$2:$A$192)+(COUNTIF($A$2:$A$192, $A$2:$A$192)<>1),0,0), 0)), "") | K79: =IFERROR(INDEX(Ingredients!$A$2:$A$114, MATCH(0,INDEX(COUNTIF($K$1:K78, Ingredients!$A$2:$A$114)+(COUNTIF(Ingredients!$A$2:$A$114, Ingredients!$A$2:$A$114)<>1),0,0), 0)), "")
B80: Parmasan Cheese Flakes | C80: 1 | D80: =VLOOKUP(B80,Ingredients!$A$2:$G$229,5,FALSE) -> tablespoon | E80: =VLOOKUP(B80,Ingredients!$A$2:$G$229,6,FALSE)*C80 -> 15 | F80: =IFERROR(VLOOKUP(B80,Ingredients!$A$2:$H$229,7,FALSE),0)*C80 -> 60 | G80: =$G$75*C80 -> 9 | J80: =IFERROR(INDEX($A$2:$A$192, MATCH(0,INDEX(COUNTIF($J$1:J79, $A$2:$A$192)+(COUNTIF($A$2:$A$192, $A$2:$A$192)<>1),0,0), 0)), "") | K80: =IFERROR(INDEX(Ingredients!$A$2:$A$114, MATCH(0,INDEX(COUNTIF($K$1:K79, Ingredients!$A$2:$A$114)+(COUNTIF(Ingredients!$A$2:$A$114, Ingredients!$A$2:$A$114)<>1),0,0), 0)), "")
A81: Cheese and Ramen Pasta | C81: 1 | D81: serving | E81: =SUM(E82:E86) -> 129 | F81: =SUM(F82:F86) -> 690 | G81: =SUM(SUMIF(Meals!C:C,A81,Meals!H:H),SUMIF(Meals!K:K,A81,Meals!P:P)) -> 0 | J81: =IFERROR(INDEX($A$2:$A$192, MATCH(0,INDEX(COUNTIF($J$1:J80, $A$2:$A$192)+(COUNTIF($A$2:$A$192, $A$2:$A$192)<>1),0,0), 0)), "") | K81: =IFERROR(INDEX(Ingredients!$A$2:$A$114, MATCH(0,INDEX(COUNTIF($K$1:K80, Ingredients!$A$2:$A$114)+(COUNTIF(Ingredients!$A$2:$A$114, Ingredients!$A$2:$A$114)<>1),0,0), 0)), "")
B82: Rice Ramen Noodle and Miso | C82: 1 | D82: =VLOOKUP(B82,Ingredients!$A$2:$G$229,5,FALSE) -> package (cup) | E82: =VLOOKUP(B82,Ingredients!$A$2:$G$229,6,FALSE)*C82 -> 0 | F82: =IFERROR(VLOOKUP(B82,Ingredients!$A$2:$H$229,7,FALSE),0)*C82 -> 280 | G82: =$G$81*C82 -> 0 | J82: =IFERROR(INDEX($A$2:$A$192, MATCH(0,INDEX(COUNTIF($J$1:J81, $A$2:$A$192)+(COUNTIF($A$2:$A$192, $A$2:$A$192)<>1),0,0), 0)), "") | K82: =IFERROR(INDEX(Ingredients!$A$2:$A$114, MATCH(0,INDEX(COUNTIF($K$1:K81, Ingredients!$A$2:$A$114)+(COUNTIF(Ingredients!$A$2:$A$114, Ingredients!$A$2:$A$114)<>1),0,0), 0)), "")
B83: Chicken Broth | C83: 1 | D83: =VLOOKUP(B83,Ingredients!$A$2:$G$229,5,FALSE) -> cube | E83: =VLOOKUP(B83,Ingredients!$A$2:$G$229,6,FALSE)*C83 -> 0 | F83: =IFERROR(VLOOKUP(B83,Ingredients!$A$2:$H$229,7,FALSE),0)*C83 -> 30 | G83: =$G$81*C83 -> 0 | J83: =IFERROR(INDEX($A$2:$A$192, MATCH(0,INDEX(COUNTIF($J$1:J82, $A$2:$A$192)+(COUNTIF($A$2:$A$192, $A$2:$A$192)<>1),0,0), 0)), "") | K83: =IFERROR(INDEX(Ingredients!$A$2:$A$114, MATCH(0,INDEX(COUNTIF($K$1:K82, Ingredients!$A$2:$A$114)+(COUNTIF(Ingredients!$A$2:$A$114, Ingredients!$A$2:$A$114)<>1),0,0), 0)), "")
B84: Olive Oil | C84: 1 | D84: =VLOOKUP(B84,Ingredients!$A$2:$G$229,5,FALSE) -> tablespoon | E84: =VLOOKUP(B84,Ingredients!$A$2:$G$229,6,FALSE)*C84 -> 14 | F84: =IFERROR(VLOOKUP(B84,Ingredients!$A$2:$H$229,7,FALSE),0)*C84 -> 120 | G84: =$G$81*C84 -> 0 | J84: =IFERROR(INDEX($A$2:$A$192, MATCH(0,INDEX(COUNTIF($J$1:J83, $A$2:$A$192)+(COUNTIF($A$2:$A$192, $A$2:$A$192)<>1),0,0), 0)), "") | K84: =IFERROR(INDEX(Ingredients!$A$2:$A$114, MATCH(0,INDEX(COUNTIF($K$1:K83, Ingredients!$A$2:$A$114)+(COUNTIF(Ingredients!$A$2:$A$114, Ingredients!$A$2:$A$114)<>1),0,0), 0)), "")
B85: Foil Pack Salmon | C85: 1 | D85: =VLOOKUP(B85,Ingredients!$A$2:$G$229,5,FALSE) -> package | E85: =VLOOKUP(B85,Ingredients!$A$2:$G$229,6,FALSE)*C85 -> 100 | F85: =IFERROR(VLOOKUP(B85,Ingredients!$A$2:$H$229,7,FALSE),0)*C85 -> 200 | G85: =$G$81*C85 -> 0 | J85: =IFERROR(INDEX($A$2:$A$192, MATCH(0,INDEX(COUNTIF($J$1:J84, $A$2:$A$192)+(COUNTIF($A$2:$A$192, $A$2:$A$192)<>1),0,0), 0)), "") | K85: =IFERROR(INDEX(Ingredients!$A$2:$A$114, MATCH(0,INDEX(COUNTIF($K$1:K84, Ingredients!$A$2:$A$114)+(COUNTIF(Ingredients!$A$2:$A$114, Ingredients!$A$2:$A$114)<>1),0,0), 0)), "")
B86: Parmasan Cheese Flakes | C86: 1 | D86: =VLOOKUP(B86,Ingredients!$A$2:$G$229,5,FALSE) -> tablespoon | E86: =VLOOKUP(B86,Ingredients!$A$2:$G$229,6,FALSE)*C86 -> 15 | F86: =IFERROR(VLOOKUP(B86,Ingredients!$A$2:$H$229,7,FALSE),0)*C86 -> 60 | G86: =$G$81*C86 -> 0 | J86: =IFERROR(INDEX($A$2:$A$192, MATCH(0,INDEX(COUNTIF($J$1:J85, $A$2:$A$192)+(COUNTIF($A$2:$A$192, $A$2:$A$192)<>1),0,0), 0)), "") | K86: =IFERROR(INDEX(Ingredients!$A$2:$A$114, MATCH(0,INDEX(COUNTIF($K$1:K85, Ingredients!$A$2:$A$114)+(COUNTIF(Ingredients!$A$2:$A$114, Ingredients!$A$2:$A$114)<>1),0,0), 0)), "")
A87: Nothing | C87: 1 | D87: serving | E87: =SUM(E88:E89) -> 0 | F87: =SUM(F88:F89) -> 0 | G87: =SUM(SUMIF(Meals!C:C,A87,Meals!H:H),SUMIF(Meals!K:K,A87,Meals!P:P)) -> 0 | J87: =IFERROR(INDEX($A$2:$A$192, MATCH(0,INDEX(COUNTIF($J$1:J86, $A$2:$A$192)+(COUNTIF($A$2:$A$192, $A$2:$A$192)<>1),0,0), 0)), "") | K87: =IFERROR(INDEX(Ingredients!$A$2:$A$114, MATCH(0,INDEX(COUNTIF($K$1:K86, Ingredients!$A$2:$A$114)+(COUNTIF(Ingredients!$A$2:$A$114, Ingredients!$A$2:$A$114)<>1),0,0), 0)), "")
B88: Nothing/ Zero | C88: 0 | D88: =VLOOKUP(B88,Ingredients!$A$2:$G$229,5,FALSE) -> piece | E88: =VLOOKUP(B88,Ingredients!$A$2:$G$229,6,FALSE)*C88 -> 0 | F88: =IFERROR(VLOOKUP(B88,Ingredients!$A$2:$H$229,7,FALSE),0)*C88 -> 0 | G88: =$G$87*C88 -> 0 | J88: =IFERROR(INDEX($A$2:$A$192, MATCH(0,INDEX(COUNTIF($J$1:J87, $A$2:$A$192)+(COUNTIF($A$2:$A$192, $A$2:$A$192)<>1),0,0), 0)), "") | K88: =IFERROR(INDEX(Ingredients!$A$2:$A$114, MATCH(0,INDEX(COUNTIF($K$1:K87, Ingredients!$A$2:$A$114)+(COUNTIF(Ingredients!$A$2:$A$114, Ingredients!$A$2:$A$114)<>1),0,0), 0)), "")
J89: =IFERROR(INDEX($A$2:$A$192, MATCH(0,INDEX(COUNTIF($J$1:J88, $A$2:$A$192)+(COUNTIF($A$2:$A$192, $A$2:$A$192)<>1),0,0), 0)), "") | K89: =IFERROR(INDEX(Ingredients!$A$2:$A$114, MATCH(0,INDEX(COUNTIF($K$1:K88, Ingredients!$A$2:$A$114)+(COUNTIF(Ingredients!$A$2:$A$114, Ingredients!$A$2:$A$114)<>1),0,0), 0)), "")
A90: Beans and Rice | C90: 1 | D90: serving | E90: =SUM(E91:E95) -> 183 | F90: =SUM(F91:F95) -> 783 | G90: =SUM(SUMIF(Meals!C:C,A90,Meals!H:H),SUMIF(Meals!K:K,A90,Meals!P:P)) -> 35
B91: Bean Dip | C91: 1 | D91: =VLOOKUP(B91,Ingredients!$A$2:$G$229,5,FALSE) -> 1/2 package (g) | E91: =VLOOKUP(B91,Ingredients!$A$2:$G$229,6,FALSE)*C91 -> 71 | F91: =IFERROR(VLOOKUP(B91,Ingredients!$A$2:$H$229,7,FALSE),0)*C91 -> 310 | G91: =$G$90*C91 -> 35 | H91: =H92+E91 -> 123
B92: Instant Rice | C92: 0.5 | D92: =VLOOKUP(B92,Ingredients!$A$2:$G$229,5,FALSE) -> cup | E92: =VLOOKUP(B92,Ingredients!$A$2:$G$229,6,FALSE)*C92 -> 45 | F92: =IFERROR(VLOOKUP(B92,Ingredients!$A$2:$H$229,7,FALSE),0)*C92 -> 160 | G92: =$G$90*C92 -> 17.5 | H92: 52
B93: Aged Cheddar Cheese | C93: 1 | D93: =VLOOKUP(B93,Ingredients!$A$2:$G$229,5,FALSE) -> piece | E93: =VLOOKUP(B93,Ingredients!$A$2:$G$229,6,FALSE)*C93 -> 30 | F93: =IFERROR(VLOOKUP(B93,Ingredients!$A$2:$H$229,7,FALSE),0)*C93 -> 120 | G93: =$G$90*C93 -> 35
B94: Corn Chips (Fritos) | C94: =30/50 -> 0.6 | D94: =VLOOKUP(B94,Ingredients!$A$2:$G$229,5,FALSE) -> 57 chips (1/7 of bag) | E94: =VLOOKUP(B94,Ingredients!$A$2:$G$229,6,FALSE)*C94 -> 30 | F94: =IFERROR(VLOOKUP(B94,Ingredients!$A$2:$H$229,7,FALSE),0)*C94 -> 168 | G94: =$G$90*C94 -> 21
B95: Taco Seasoning | C95: 1 | D95: =VLOOKUP(B95,Ingredients!$A$2:$G$229,5,FALSE) -> 1/5 package | E95: =VLOOKUP(B95,Ingredients!$A$2:$G$229,6,FALSE)*C95 -> 7 | F95: =IFERROR(VLOOKUP(B95,Ingredients!$A$2:$H$229,7,FALSE),0)*C95 -> 25 | G95: =$G$90*C95 -> 35 | H95: 7
A97: Baby Food Pouch | C97: 1 | D97: serving | E97: =SUM(E98:E99) -> 150 | F97: =SUM(F98:F99) -> 100 | G97: =SUM(SUMIF(Meals!C:C,A97,Meals!H:H),SUMIF(Meals!K:K,A97,Meals!P:P)) -> 51.5
B98: Baby Food Pouch | C98: 1 | D98: =VLOOKUP(B98,Ingredients!$A$2:$G$229,5,FALSE) -> Package | E98: =VLOOKUP(B98,Ingredients!$A$2:$G$229,6,FALSE)*C98 -> 150 | F98: =IFERROR(VLOOKUP(B98,Ingredients!$A$2:$H$229,7,FALSE),0)*C98 -> 100 | G98: =$G$97*C98 -> 51.5
A100: Natasha Pop Tart Breakfast | C100: 1 | D100: serving | E100: =SUM(E101:E102) -> 100 | F100: =SUM(F101:F102) -> 400 | G100: =SUM(SUMIF(Meals!C:C,A100,Meals!H:H),SUMIF(Meals!K:K,A100,Meals!P:P)) -> 16
B101: Pop Tarts | C101: 2 | D101: =VLOOKUP(B101,Ingredients!$A$2:$G$229,5,FALSE) -> Pastry (1/2 foil package) | E101: =VLOOKUP(B101,Ingredients!$A$2:$G$229,6,FALSE)*C101 -> 100 | F101: =IFERROR(VLOOKUP(B101,Ingredients!$A$2:$H$229,7,FALSE),0)*C101 -> 400 | G101: =$G$100*C101 -> 32
A103: Pesto Noodle | C103: 1 | D103: serving | E103: =SUM(E104:E109) -> 171.6 | F103: =SUM(F104:F109) -> 768.1 | G103: =SUM(SUMIF(Meals!C:C,A103,Meals!H:H),SUMIF(Meals!K:K,A103,Meals!P:P)) -> 35
...

Sheet Meals
B1: Natasha Meals | J1: Kyle Meals
A2: Day | B2: Meal | C2: Meal Name | D2: Servings | E2: Weight (g) | F2: Calories | G2: Calories/g | H2: Number of Occurences | J2: Meal | K2: Meal Name | L2: Servings | M2: Weight (g) | N2: Calories | O2: Calories/g | P2: Number of Occurences | R2: =SUM(P3,P31,P59,P87,P115) -> 47
A3: A | E3: =SUM(E4:E30) -> 849.33 | F3: =SUM(F4:F30) -> 3461.73 | G3: =IFERROR(F3/E3,"") -> 4.0758362 | H3: =COUNTIF(Meal_Itinerary!C:C,Meals!A3) -> 16 | M3: =SUM(M4:M30) -> 928.27143 | N3: =SUM(N4:N30) -> 3645.9571 | O3: =IFERROR(N3/M3,"") -> 3.9276843 | P3: =COUNTIF(Meal_Itinerary!E:E,Meals!A3) -> 10
B4: Breakfast | C4: Natasha Pop Tart Breakfast | D4: 1 | E4: =IFERROR(VLOOKUP(C4,Recipes!$A$2:$F$208,5,FALSE)*D4,"") -> 100 | F4: =IFERROR(VLOOKUP(C4,Recipes!$A$2:$F$208,6,FALSE)*D4,"") -> 400 | G4: =IFERROR(F4/E4,"") -> 4 | H4: =$H$3*D4 -> 16 | J4: Breakfast | K4: Kyle's Kind Healthy Grain Bar Breakfast | L4: 1 | M4: =IFERROR(VLOOKUP(K4,Recipes!$A$2:$F$208,5,FALSE)*L4,"") -> 111.6 | N4: =IFERROR(VLOOKUP(K4,Recipes!$A$2:$F$208,6,FALSE)*L4,"") -> 460 | O4: =IFERROR(N4/M4,"") -> 4.1218638 | P4: =$P$3*L4 -> 10
B5: Lunch | C5: Baby Food Pouch | D5: 0.5 | E5: =IFERROR(VLOOKUP(C5,Recipes!$A$2:$F$208,5,FALSE)*D5,"") -> 75 | F5: =IFERROR(VLOOKUP(C5,Recipes!$A$2:$F$208,6,FALSE)*D5,"") -> 50 | G5: =IFERROR(F5/E5,"") -> 0.66666667 | H5: =$H$3*D5 -> 8 | J5: Snack | K5: Kyle's Snickers Bar & Almond Bar | L5: 1 | M5: =IFERROR(VLOOKUP(K5,Recipes!$A$2:$F$208,5,FALSE)*L5,"") -> 184 | N5: =IFERROR(VLOOKUP(K5,Recipes!$A$2:$F$208,6,FALSE)*L5,"") -> 950 | O5: =IFERROR(N5/M5,"") -> 5.1630435 | P5: =$P$3*L5 -> 10
B6: Lunch | C6: Sausage Lunch | D6: 0.5 | E6: =IFERROR(VLOOKUP(C6,Recipes!$A$2:$F$208,5,FALSE)*D6,"") -> 100 | F6: =IFERROR(VLOOKUP(C6,Recipes!$A$2:$F$208,6,FALSE)*D6,"") -> 426 | G6: =IFERROR(F6/E6,"") -> 4.26 | H6: =$H$3*D6 -> 8 | J6: Lunch | K6: Tuna Lunch | L6: 0.5 | M6: =IFERROR(VLOOKUP(K6,Recipes!$A$2:$F$208,5,FALSE)*L6,"") -> 62.5 | N6: =IFERROR(VLOOKUP(K6,Recipes!$A$2:$F$208,6,FALSE)*L6,"") -> 185 | O6: =IFERROR(N6/M6,"") -> 2.96 | P6: =$P$3*L6 -> 5
B7: Snack | C7: ProBar | D7: 0 | E7: =IFERROR(VLOOKUP(C7,Recipes!$A$2:$F$208,5,FALSE)*D7,"") -> 0 | F7: =IFERROR(VLOOKUP(C7,Recipes!$A$2:$F$208,6,FALSE)*D7,"") -> 0 | G7: =IFERROR(F7/E7,"") | H7: =$H$3*D7 -> 0 | J7: Lunch | K7: Baby Food Pouch | L7: 1 | M7: =IFERROR(VLOOKUP(K7,Recipes!$A$2:$F$208,5,FALSE)*L7,"") -> 150 | N7: =IFERROR(VLOOKUP(K7,Recipes!$A$2:$F$208,6,FALSE)*L7,"") -> 100 | O7: =IFERROR(N7/M7,"") -> 0.66666667 | P7: =$P$3*L7 -> 10
B8: Snack | C8: Cliff Bar | D8: 1.5 | E8: =IFERROR(VLOOKUP(C8,Recipes!$A$2:$F$208,5,FALSE)*D8,"") -> 102 | F8: =IFERROR(VLOOKUP(C8,Recipes!$A$2:$F$208,6,FALSE)*D8,"") -> 375 | G8: =IFERROR(F8/E8,"") -> 3.6764706 | H8: =$H$3*D8 -> 24 | J8: Lunch | K8: Corn Chips (Handful) | L8: 3 | M8: =IFERROR(VLOOKUP(K8,Recipes!$A$2:$F$208,5,FALSE)*L8,"") -> 150 | N8: =IFERROR(VLOOKUP(K8,Recipes!$A$2:$F$208,6,FALSE)*L8,"") -> 840 | O8: =IFERROR(N8/M8,"") -> 5.6 | P8: =$P$3*L8 -> 30
B9: Snack | C9: Kind Bar | D9: 1.5 | E9: =IFERROR(VLOOKUP(C9,Recipes!$A$2:$F$208,5,FALSE)*D9,"") -> 60 | F9: =IFERROR(VLOOKUP(C9,Recipes!$A$2:$F$208,6,FALSE)*D9,"") -> 300 | G9: =IFERROR(F9/E9,"") -> 5 | H9: =$H$3*D9 -> 24 | J9: Snack | K9: Gatorade (1.5 L) | L9: 1 | M9: =IFERROR(VLOOKUP(K9,Recipes!$A$2:$F$208,5,FALSE)*L9,"") -> 98.571429 | N9: =IFERROR(VLOOKUP(K9,Recipes!$A$2:$F$208,6,FALSE)*L9,"") -> 342.85714 | O9: =IFERROR(N9/M9,"") -> 3.4782609 | P9: =$P$3*L9 -> 10
B10: Snack | C10: Snickers Bar | D10: 1 | E10: =IFERROR(VLOOKUP(C10,Recipes!$A$2:$F$208,5,FALSE)*D10,"") -> 52 | F10: =IFERROR(VLOOKUP(C10,Recipes!$A$2:$F$208,6,FALSE)*D10,"") -> 250 | G10: =IFERROR(F10/E10,"") -> 4.8076923 | H10: =$H$3*D10 -> 16 | J10: Dinner | K10: Pesto Noodle | L10: 1 | M10: =IFERROR(VLOOKUP(K10,Recipes!$A$2:$F$208,5,FALSE)*L10,"") -> 171.6 | N10: =IFERROR(VLOOKUP(K10,Recipes!$A$2:$F$208,6,FALSE)*L10,"") -> 768.1 | O10: =IFERROR(N10/M10,"") -> 4.4761072 | P10: =$P$3*L10 -> 10
B11: Lunch | C11: Gatorade (1.5 L) | D11: 0.35 | E11: =IFERROR(VLOOKUP(C11,Recipes!$A$2:$F$208,5,FALSE)*D11,"") -> 34.5 | F11: =IFERROR(VLOOKUP(C11,Recipes!$A$2:$F$208,6,FALSE)*D11,"") -> 120 | G11: =IFERROR(F11/E11,"") -> 3.4782609 | H11: =$H$3*D11 -> 5.6 | M11: =IFERROR(VLOOKUP(K11,Recipes!$A$2:$F$208,5,FALSE)*L11,"") | N11: =IFERROR(VLOOKUP(K11,Recipes!$A$2:$F$208,6,FALSE)*L11,"") | O11: =IFERROR(N11/M11,"") | P11: =$P$3*L11 -> 0
B12: Lunch | C12: Peanut Butter (Spoonful) | D12: 4 | E12: =IFERROR(VLOOKUP(C12,Recipes!$A$2:$F$208,5,FALSE)*D12,"") -> 60 | F12: =IFERROR(VLOOKUP(C12,Recipes!$A$2:$F$208,6,FALSE)*D12,"") -> 360 | G12: =IFERROR(F12/E12,"") -> 6 | H12: =$H$3*D12 -> 64 | M12: =IFERROR(VLOOKUP(K12,Recipes!$A$2:$F$208,5,FALSE)*L12,"") | N12: =IFERROR(VLOOKUP(K12,Recipes!$A$2:$F$208,6,FALSE)*L12,"") | O12: =IFERROR(N12/M12,"") | P12: =$P$3*L12 -> 0
B13: Dinner | C13: Beans and Rice | D13: 1 | E13: =IFERROR(VLOOKUP(C13,Recipes!$A$2:$F$208,5,FALSE)*D13,"") -> 183 | F13: =IFERROR(VLOOKUP(C13,Recipes!$A$2:$F$208,6,FALSE)*D13,"") -> 783 | G13: =IFERROR(F13/E13,"") -> 4.2786885 | H13: =$H$3*D13 -> 16 | M13: =IFERROR(VLOOKUP(K13,Recipes!$A$2:$F$208,5,FALSE)*L13,"") | N13: =IFERROR(VLOOKUP(K13,Recipes!$A$2:$F$208,6,FALSE)*L13,"") | O13: =IFERROR(N13/M13,"") | P13: =$P$3*L13 -> 0
B14: Snack | C14: OHenry Bar | D14: 0.91 | E14: =IFERROR(VLOOKUP(C14,Recipes!$A$2:$F$208,5,FALSE)*D14,"") -> 51.87 | F14: =IFERROR(VLOOKUP(C14,Recipes!$A$2:$F$208,6,FALSE)*D14,"") -> 239.33 | G14: =IFERROR(F14/E14,"") -> 4.6140351 | H14: =$H$3*D14 -> 14.56 | M14: =IFERROR(VLOOKUP(K14,Recipes!$A$2:$F$208,5,FALSE)*L14,"") | N14: =IFERROR(VLOOKUP(K14,Recipes!$A$2:$F$208,6,FALSE)*L14,"") | O14: =IFERROR(N14/M14,"") | P14: =$P$3*L14 -> 0
B15: Snack | C15: Cookies'n'Cream Bar | D15: 0.72 | E15: =IFERROR(VLOOKUP(C15,Recipes!$A$2:$F$208,5,FALSE)*D15,"") -> 30.96 | F15: =IFERROR(VLOOKUP(C15,Recipes!$A$2:$F$208,6,FALSE)*D15,"") -> 158.4 | G15: =IFERROR(F15/E15,"") -> 5.1162791 | H15: =$H$3*D15 -> 11.52 | M15: =IFERROR(VLOOKUP(K15,Recipes!$A$2:$F$208,5,FALSE)*L15,"") | N15: =IFERROR(VLOOKUP(K15,Recipes!$A$2:$F$208,6,FALSE)*L15,"") | O15: =IFERROR(N15/M15,"") | P15: =$P$3*L15 -> 0
E16: =IFERROR(VLOOKUP(C16,Recipes!$A$2:$F$208,5,FALSE)*D16,"") | F16: =IFERROR(VLOOKUP(C16,Recipes!$A$2:$F$208,6,FALSE)*D16,"") | G16: =IFERROR(F16/E16,"") | H16: =$H$3*D16 -> 0 | M16: =IFERROR(VLOOKUP(K16,Recipes!$A$2:$F$208,5,FALSE)*L16,"") | N16: =IFERROR(VLOOKUP(K16,Recipes!$A$2:$F$208,6,FALSE)*L16,"") | O16: =IFERROR(N16/M16,"") | P16: =$P$3*L16 -> 0
E17: =IFERROR(VLOOKUP(C17,Recipes!$A$2:$F$208,5,FALSE)*D17,"") | F17: =IFERROR(VLOOKUP(C17,Recipes!$A$2:$F$208,6,FALSE)*D17,"") | G17: =IFERROR(F17/E17,"") | H17: =$H$3*D17 -> 0 | M17: =IFERROR(VLOOKUP(K17,Recipes!$A$2:$F$208,5,FALSE)*L17,"") | N17: =IFERROR(VLOOKUP(K17,Recipes!$A$2:$F$208,6,FALSE)*L17,"") | O17: =IFERROR(N17/M17,"") | P17: =$P$3*L17 -> 0
E18: =IFERROR(VLOOKUP(C18,Recipes!$A$2:$F$208,5,FALSE)*D18,"") | F18: =IFERROR(VLOOKUP(C18,Recipes!$A$2:$F$208,6,FALSE)*D18,"") | G18: =IFERROR(F18/E18,"") | H18: =$H$3*D18 -> 0 | M18: =IFERROR(VLOOKUP(K18,Recipes!$A$2:$F$208,5,FALSE)*L18,"") | N18: =IFERROR(VLOOKUP(K18,Recipes!$A$2:$F$208,6,FALSE)*L18,"") | O18: =IFERROR(N18/M18,"") | P18: =$P$3*L18 -> 0
E19: =IFERROR(VLOOKUP(C19,Recipes!$A$2:$F$208,5,FALSE)*D19,"") | F19: =IFERROR(VLOOKUP(C19,Recipes!$A$2:$F$208,6,FALSE)*D19,"") | G19: =IFERROR(F19/E19,"") | H19: =$H$3*D19 -> 0 | M19: =IFERROR(VLOOKUP(K19,Recipes!$A$2:$F$208,5,FALSE)*L19,"") | N19: =IFERROR(VLOOKUP(K19,Recipes!$A$2:$F$208,6,FALSE)*L19,"") | O19: =IFERROR(N19/M19,"") | P19: =$P$3*L19 -> 0
E20: =IFERROR(VLOOKUP(C20,Recipes!$A$2:$F$208,5,FALSE)*D20,"") | F20: =IFERROR(VLOOKUP(C20,Recipes!$A$2:$F$208,6,FALSE)*D20,"") | G20: =IFERROR(F20/E20,"") | H20: =$H$3*D20 -> 0 | M20: =IFERROR(VLOOKUP(K20,Recipes!$A$2:$F$208,5,FALSE)*L20,"") | N20: =IFERROR(VLOOKUP(K20,Recipes!$A$2:$F$208,6,FALSE)*L20,"") | O20: =IFERROR(N20/M20,"") | P20: =$P$3*L20 -> 0
E21: =IFERROR(VLOOKUP(C21,Recipes!$A$2:$F$208,5,FALSE)*D21,"") | F21: =IFERROR(VLOOKUP(C21,Recipes!$A$2:$F$208,6,FALSE)*D21,"") | G21: =IFERROR(F21/E21,"") | H21: =$H$3*D21 -> 0 | M21: =IFERROR(VLOOKUP(K21,Recipes!$A$2:$F$208,5,FALSE)*L21,"") | N21: =IFERROR(VLOOKUP(K21,Recipes!$A$2:$F$208,6,FALSE)*L21,"") | O21: =IFERROR(N21/M21,"") | P21: =$P$3*L21 -> 0
E22: =IFERROR(VLOOKUP(C22,Recipes!$A$2:$F$208,5,FALSE)*D22,"") | F22: =IFERROR(VLOOKUP(C22,Recipes!$A$2:$F$208,6,FALSE)*D22,"") | G22: =IFERROR(F22/E22,"") | H22: =$H$3*D22 -> 0 | M22: =IFERROR(VLOOKUP(K22,Recipes!$A$2:$F$208,5,FALSE)*L22,"") | N22: =IFERROR(VLOOKUP(K22,Recipes!$A$2:$F$208,6,FALSE)*L22,"") | O22: =IFERROR(N22/M22,"") | P22: =$P$3*L22 -> 0
E23: =IFERROR(VLOOKUP(C23,Recipes!$A$2:$F$208,5,FALSE)*D23,"") | F23: =IFERROR(VLOOKUP(C23,Recipes!$A$2:$F$208,6,FALSE)*D23,"") | G23: =IFERROR(F23/E23,"") | H23: =$H$3*D23 -> 0 | M23: =IFERROR(VLOOKUP(K23,Recipes!$A$2:$F$208,5,FALSE)*L23,"") | N23: =IFERROR(VLOOKUP(K23,Recipes!$A$2:$F$208,6,FALSE)*L23,"") | O23: =IFERROR(N23/M23,"") | P23: =$P$3*L23 -> 0
E24: =IFERROR(VLOOKUP(C24,Recipes!$A$2:$F$208,5,FALSE)*D24,"") | F24: =IFERROR(VLOOKUP(C24,Recipes!$A$2:$F$208,6,FALSE)*D24,"") | G24: =IFERROR(F24/E24,"") | H24: =$H$3*D24 -> 0 | M24: =IFERROR(VLOOKUP(K24,Recipes!$A$2:$F$208,5,FALSE)*L24,"") | N24: =IFERROR(VLOOKUP(K24,Recipes!$A$2:$F$208,6,FALSE)*L24,"") | O24: =IFERROR(N24/M24,"") | P24: =$P$3*L24 -> 0
E25: =IFERROR(VLOOKUP(C25,Recipes!$A$2:$F$208,5,FALSE)*D25,"") | F25: =IFERROR(VLOOKUP(C25,Recipes!$A$2:$F$208,6,FALSE)*D25,"") | G25: =IFERROR(F25/E25,"") | H25: =$H$3*D25 -> 0 | M25: =IFERROR(VLOOKUP(K25,Recipes!$A$2:$F$208,5,FALSE)*L25,"") | N25: =IFERROR(VLOOKUP(K25,Recipes!$A$2:$F$208,6,FALSE)*L25,"") | O25: =IFERROR(N25/M25,"") | P25: =$P$3*L25 -> 0
E26: =IFERROR(VLOOKUP(C26,Recipes!$A$2:$F$208,5,FALSE)*D26,"") | F26: =IFERROR(VLOOKUP(C26,Recipes!$A$2:$F$208,6,FALSE)*D26,"") | G26: =IFERROR(F26/E26,"") | H26: =$H$3*D26 -> 0 | M26: =IFERROR(VLOOKUP(K26,Recipes!$A$2:$F$208,5,FALSE)*L26,"") | N26: =IFERROR(VLOOKUP(K26,Recipes!$A$2:$F$208,6,FALSE)*L26,"") | O26: =IFERROR(N26/M26,"") | P26: =$P$3*L26 -> 0
E27: =IFERROR(VLOOKUP(C27,Recipes!$A$2:$F$208,5,FALSE)*D27,"") | F27: =IFERROR(VLOOKUP(C27,Recipes!$A$2:$F$208,6,FALSE)*D27,"") | G27: =IFERROR(F27/E27,"") | H27: =$H$3*D27 -> 0 | M27: =IFERROR(VLOOKUP(K27,Recipes!$A$2:$F$208,5,FALSE)*L27,"") | N27: =IFERROR(VLOOKUP(K27,Recipes!$A$2:$F$208,6,FALSE)*L27,"") | O27: =IFERROR(N27/M27,"") | P27: =$P$3*L27 -> 0
... E30: =IFERROR(VLOOKUP(C30,Recipes!$A$2:$F$208,5,FALSE)*D30,"") | F30: =IFERROR(VLOOKUP(C30,Recipes!$A$2:$F$208,6,FALSE)*D30,"") | G30: =IFERROR(F30/E30,"") | H30: =$H$3*D30 -> 0 | M30: =IFERROR(VLOOKUP(K30,Recipes!$A$2:$F$208,5,FALSE)*L30,"") | N30: =IFERROR(VLOOKUP(K30,Recipes!$A$2:$F$208,6,FALSE)*L30,"") | O30: =IFERROR(N30/M30,"") | P30: =$P$3*L30 -> 0
A31: B | E31: =SUM(E32:E58) -> 900.43 | F31: =SUM(F32:F58) -> 3595.73 | G31: =IFERROR(F31/E31,"") -> 3.9933476 | H31: =COUNTIF(Meal_Itinerary!C:C,Meals!A31) -> 16 | M31: =SUM(M32:M58) -> 867.17143 | N31: =SUM(N32:N58) -> 3635.8571 | O31: =IFERROR(N31/M31,"") -> 4.1927778 | P31: =COUNTIF(Meal_Itinerary!E:E,Meals!A31) -> 10
B32: Breakfast | C32: Instant Carnation Mix | D32: 1 | E32: =IFERROR(VLOOKUP(C32,Recipes!$A$2:$F$208,5,FALSE)*D32,"") -> 70 | F32: =IFERROR(VLOOKUP(C32,Recipes!$A$2:$F$208,6,FALSE)*D32,"") -> 309.9 | G32: =IFERROR(F32/E32,"") -> 4.4271429 | H32: =$H$31* D32 -> 16 | J32: Breakfast | K32: Kyle's Kind Bar Breakfast | L32: 1 | M32: =IFERROR(VLOOKUP(K32,Recipes!$A$2:$F$208,5,FALSE)*L32,"") -> 126.6 | N32: =IFERROR(VLOOKUP(K32,Recipes!$A$2:$F$208,6,FALSE)*L32,"") -> 610 | O32: =IFERROR(N32/M32,"") -> 4.8183254 | P32: =$P$31*L32 -> 10
B33: Lunch | C33: Baby Food Pouch | D33: 0.5 | E33: =IFERROR(VLOOKUP(C33,Recipes!$A$2:$F$208,5,FALSE)*D33,"") -> 75 | F33: =IFERROR(VLOOKUP(C33,Recipes!$A$2:$F$208,6,FALSE)*D33,"") -> 50 | G33: =IFERROR(F33/E33,"") -> 0.66666667 | H33: =$H$31* D33 -> 8 | J33: Snack | K33: Kyle's Snickers Bar & Almond Bar | L33: 1 | M33: =IFERROR(VLOOKUP(K33,Recipes!$A$2:$F$208,5,FALSE)*L33,"") -> 184 | N33: =IFERROR(VLOOKUP(K33,Recipes!$A$2:$F$208,6,FALSE)*L33,"") -> 950 | O33: =IFERROR(N33/M33,"") -> 5.1630435 | P33: =$P$31*L33 -> 10
B34: Lunch | C34: Tuna Lunch | D34: 0.5 | E34: =IFERROR(VLOOKUP(C34,Recipes!$A$2:$F$208,5,FALSE)*D34,"") -> 62.5 | F34: =IFERROR(VLOOKUP(C34,Recipes!$A$2:$F$208,6,FALSE)*D34,"") -> 185 | G34: =IFERROR(F34/E34,"") -> 2.96 | H34: =$H$31* D34 -> 8 | J34: Lunch | K34: Beef Jerky Snack | L34: 2 | M34: =IFERROR(VLOOKUP(K34,Recipes!$A$2:$F$208,5,FALSE)*L34,"") -> 200 | N34: =IFERROR(VLOOKUP(K34,Recipes!$A$2:$F$208,6,FALSE)*L34,"") -> 500 | O34: =IFERROR(N34/M34,"") -> 2.5 | P34: =$P$31*L34 -> 20
B35: Lunch | C35: Corn Chips (Handful) | D35: 1 | E35: =IFERROR(VLOOKUP(C35,Recipes!$A$2:$F$208,5,FALSE)*D35,"") -> 50 | F35: =IFERROR(VLOOKUP(C35,Recipes!$A$2:$F$208,6,FALSE)*D35,"") -> 280 | G35: =IFERROR(F35/E35,"") -> 5.6 | H35: =$H$31* D35 -> 16 | J35: Lunch | K35: Peanut Butter (Spoonful) | L35: 5 | M35: =IFERROR(VLOOKUP(K35,Recipes!$A$2:$F$208,5,FALSE)*L35,"") -> 75 | N35: =IFERROR(VLOOKUP(K35,Recipes!$A$2:$F$208,6,FALSE)*L35,"") -> 450 | O35: =IFERROR(N35/M35,"") -> 6 | P35: =$P$31*L35 -> 50
B36: Lunch | C36: Beef Jerky Snack | D36: 0.8 | E36: =IFERROR(VLOOKUP(C36,Recipes!$A$2:$F$208,5,FALSE)*D36,"") -> 80 | F36: =IFERROR(VLOOKUP(C36,Recipes!$A$2:$F$208,6,FALSE)*D36,"") -> 200 | G36: =IFERROR(F36/E36,"") -> 2.5 | H36: =$H$31* D36 -> 12.8 | J36: Dinner | K36: Beans and Rice | L36: 1 | M36: =IFERROR(VLOOKUP(K36,Recipes!$A$2:$F$208,5,FALSE)*L36,"") -> 183 | N36: =IFERROR(VLOOKUP(K36,Recipes!$A$2:$F$208,6,FALSE)*L36,"") -> 783 | O36: =IFERROR(N36/M36,"") -> 4.2786885 | P36: =$P$31*L36 -> 10
B37: Snack | C37: ProBar | D37: 0 | E37: =IFERROR(VLOOKUP(C37,Recipes!$A$2:$F$208,5,FALSE)*D37,"") -> 0 | F37: =IFERROR(VLOOKUP(C37,Recipes!$A$2:$F$208,6,FALSE)*D37,"") -> 0 | G37: =IFERROR(F37/E37,"") | H37: =$H$31* D37 -> 0 | J37: Snack | K37: Gatorade (1.5 L) | L37: 1 | M37: =IFERROR(VLOOKUP(K37,Recipes!$A$2:$F$208,5,FALSE)*L37,"") -> 98.571429 | N37: =IFERROR(VLOOKUP(K37,Recipes!$A$2:$F$208,6,FALSE)*L37,"") -> 342.85714 | O37: =IFERROR(N37/M37,"") -> 3.4782609 | P37: =$P$31*L37 -> 10
B38: Snack | C38: Cliff Bar | D38: 1.5 | E38: =IFERROR(VLOOKUP(C38,Recipes!$A$2:$F$208,5,FALSE)*D38,"") -> 102 | F38: =IFERROR(VLOOKUP(C38,Recipes!$A$2:$F$208,6,FALSE)*D38,"") -> 375 | G38: =IFERROR(F38/E38,"") -> 3.6764706 | H38: =$H$31* D38 -> 24 | M38: =IFERROR(VLOOKUP(K38,Recipes!$A$2:$F$208,5,FALSE)*L38,"") | N38: =IFERROR(VLOOKUP(K38,Recipes!$A$2:$F$208,6,FALSE)*L38,"") | O38: =IFERROR(N38/M38,"") | P38: =$P$31*L38 -> 0
B39: Snack | C39: Kind Bar | D39: 1.5 | E39: =IFERROR(VLOOKUP(C39,Recipes!$A$2:$F$208,5,FALSE)*D39,"") -> 60 | F39: =IFERROR(VLOOKUP(C39,Recipes!$A$2:$F$208,6,FALSE)*D39,"") -> 300 | G39: =IFERROR(F39/E39,"") -> 5 | H39: =$H$31* D39 -> 24 | M39: =IFERROR(VLOOKUP(K39,Recipes!$A$2:$F$208,5,FALSE)*L39,"") | N39: =IFERROR(VLOOKUP(K39,Recipes!$A$2:$F$208,6,FALSE)*L39,"") | O39: =IFERROR(N39/M39,"") | P39: =$P$31*L39 -> 0
B40: Snack | C40: Snickers Bar | D40: 1 | E40: =IFERROR(VLOOKUP(C40,Recipes!$A$2:$F$208,5,FALSE)*D40,"") -> 52 | F40: =IFERROR(VLOOKUP(C40,Recipes!$A$2:$F$208,6,FALSE)*D40,"") -> 250 | G40: =IFERROR(F40/E40,"") -> 4.8076923 | H40: =$H$31* D40 -> 16 | M40: =IFERROR(VLOOKUP(K40,Recipes!$A$2:$F$208,5,FALSE)*L40,"") | N40: =IFERROR(VLOOKUP(K40,Recipes!$A$2:$F$208,6,FALSE)*L40,"") | O40: =IFERROR(N40/M40,"") | P40: =$P$31*L40 -> 0
B41: Lunch | C41: Gatorade (1.5 L) | D41: 0.35 | E41: =IFERROR(VLOOKUP(C41,Recipes!$A$2:$F$208,5,FALSE)*D41,"") -> 34.5 | F41: =IFERROR(VLOOKUP(C41,Recipes!$A$2:$F$208,6,FALSE)*D41,"") -> 120 | G41: =IFERROR(F41/E41,"") -> 3.4782609 | H41: =$H$31* D41 -> 5.6 | M41: =IFERROR(VLOOKUP(K41,Recipes!$A$2:$F$208,5,FALSE)*L41,"") | N41: =IFERROR(VLOOKUP(K41,Recipes!$A$2:$F$208,6,FALSE)*L41,"") | O41: =IFERROR(N41/M41,"") | P41: =$P$31*L41 -> 0
B42: Lunch | C42: Peanut Butter (Spoonful) | D42: 4 | E42: =IFERROR(VLOOKUP(C42,Recipes!$A$2:$F$208,5,FALSE)*D42,"") -> 60 | F42: =IFERROR(VLOOKUP(C42,Recipes!$A$2:$F$208,6,FALSE)*D42,"") -> 360 | G42: =IFERROR(F42/E42,"") -> 6 | H42: =$H$31* D42 -> 64 | M42: =IFERROR(VLOOKUP(K42,Recipes!$A$2:$F$208,5,FALSE)*L42,"") | N42: =IFERROR(VLOOKUP(K42,Recipes!$A$2:$F$208,6,FALSE)*L42,"") | O42: =IFERROR(N42/M42,"") | P42: =$P$31*L42 -> 0
B43: Dinner | C43: Pesto Noodle | D43: 1 | E43: =IFERROR(VLOOKUP(C43,Recipes!$A$2:$F$208,5,FALSE)*D43,"") -> 171.6 | F43: =IFERROR(VLOOKUP(C43,Recipes!$A$2:$F$208,6,FALSE)*D43,"") -> 768.1 | G43: =IFERROR(F43/E43,"") -> 4.4761072 | H43: =$H$31* D43 -> 16 | M43: =IFERROR(VLOOKUP(K43,Recipes!$A$2:$F$208,5,FALSE)*L43,"") | N43: =IFERROR(VLOOKUP(K43,Recipes!$A$2:$F$208,6,FALSE)*L43,"") | O43: =IFERROR(N43/M43,"") | P43: =$P$31*L43 -> 0
B44: Snack | C44: OHenry Bar | D44: 0.91 | E44: =IFERROR(VLOOKUP(C44,Recipes!$A$2:$F$208,5,FALSE)*D44,"") -> 51.87 | F44: =IFERROR(VLOOKUP(C44,Recipes!$A$2:$F$208,6,FALSE)*D44,"") -> 239.33 | G44: =IFERROR(F44/E44,"") -> 4.6140351 | H44: =$H$31* D44 -> 14.56 | M44: =IFERROR(VLOOKUP(K44,Recipes!$A$2:$F$208,5,FALSE)*L44,"") | N44: =IFERROR(VLOOKUP(K44,Recipes!$A$2:$F$208,6,FALSE)*L44,"") | O44: =IFERROR(N44/M44,"") | P44: =$P$31*L44 -> 0
B45: Snack | C45: Cookies'n'Cream Bar | D45: 0.72 | E45: =IFERROR(VLOOKUP(C45,Recipes!$A$2:$F$208,5,FALSE)*D45,"") -> 30.96 | F45: =IFERROR(VLOOKUP(C45,Recipes!$A$2:$F$208,6,FALSE)*D45,"") -> 158.4 | G45: =IFERROR(F45/E45,"") -> 5.1162791 | H45: =$H$31* D45 -> 11.52 | M45: =IFERROR(VLOOKUP(K45,Recipes!$A$2:$F$208,5,FALSE)*L45,"") | N45: =IFERROR(VLOOKUP(K45,Recipes!$A$2:$F$208,6,FALSE)*L45,"") | O45: =IFERROR(N45/M45,"") | P45: =$P$31*L45 -> 0
E46: =IFERROR(VLOOKUP(C46,Recipes!$A$2:$F$208,5,FALSE)*D46,"") | F46: =IFERROR(VLOOKUP(C46,Recipes!$A$2:$F$208,6,FALSE)*D46,"") | G46: =IFERROR(F46/E46,"") | H46: =$H$31* D46 -> 0 | M46: =IFERROR(VLOOKUP(K46,Recipes!$A$2:$F$208,5,FALSE)*L46,"") | N46: =IFERROR(VLOOKUP(K46,Recipes!$A$2:$F$208,6,FALSE)*L46,"") | O46: =IFERROR(N46/M46,"") | P46: =$P$31*L46 -> 0
E47: =IFERROR(VLOOKUP(C47,Recipes!$A$2:$F$208,5,FALSE)*D47,"") | F47: =IFERROR(VLOOKUP(C47,Recipes!$A$2:$F$208,6,FALSE)*D47,"") | G47: =IFERROR(F47/E47,"") | H47: =$H$31* D47 -> 0 | M47: =IFERROR(VLOOKUP(K47,Recipes!$A$2:$F$208,5,FALSE)*L47,"") | N47: =IFERROR(VLOOKUP(K47,Recipes!$A$2:$F$208,6,FALSE)*L47,"") | O47: =IFERROR(N47/M47,"") | P47: =$P$31*L47 -> 0
E48: =IFERROR(VLOOKUP(C48,Recipes!$A$2:$F$208,5,FALSE)*D48,"") | F48: =IFERROR(VLOOKUP(C48,Recipes!$A$2:$F$208,6,FALSE)*D48,"") | G48: =IFERROR(F48/E48,"") | H48: =$H$31* D48 -> 0 | M48: =IFERROR(VLOOKUP(K48,Recipes!$A$2:$F$208,5,FALSE)*L48,"") | N48: =IFERROR(VLOOKUP(K48,Recipes!$A$2:$F$208,6,FALSE)*L48,"") | O48: =IFERROR(N48/M48,"") | P48: =$P$31*L48 -> 0
E49: =IFERROR(VLOOKUP(C49,Recipes!$A$2:$F$208,5,FALSE)*D49,"") | F49: =IFERROR(VLOOKUP(C49,Recipes!$A$2:$F$208,6,FALSE)*D49,"") | G49: =IFERROR(F49/E49,"") | H49: =$H$31* D49 -> 0 | M49: =IFERROR(VLOOKUP(K49,Recipes!$A$2:$F$208,5,FALSE)*L49,"") | N49: =IFERROR(VLOOKUP(K49,Recipes!$A$2:$F$208,6,FALSE)*L49,"") | O49: =IFERROR(N49/M49,"") | P49: =$P$31*L49 -> 0
E50: =IFERROR(VLOOKUP(C50,Recipes!$A$2:$F$208,5,FALSE)*D50,"") | F50: =IFERROR(VLOOKUP(C50,Recipes!$A$2:$F$208,6,FALSE)*D50,"") | G50: =IFERROR(F50/E50,"") | H50: =$H$31* D50 -> 0 | M50: =IFERROR(VLOOKUP(K50,Recipes!$A$2:$F$208,5,FALSE)*L50,"") | N50: =IFERROR(VLOOKUP(K50,Recipes!$A$2:$F$208,6,FALSE)*L50,"") | O50: =IFERROR(N50/M50,"") | P50: =$P$31*L50 -> 0
E51: =IFERROR(VLOOKUP(C51,Recipes!$A$2:$F$208,5,FALSE)*D51,"") | F51: =IFERROR(VLOOKUP(C51,Recipes!$A$2:$F$208,6,FALSE)*D51,"") | G51: =IFERROR(F51/E51,"") | H51: =$H$31* D51 -> 0 | M51: =IFERROR(VLOOKUP(K51,Recipes!$A$2:$F$208,5,FALSE)*L51,"") | N51: =IFERROR(VLOOKUP(K51,Recipes!$A$2:$F$208,6,FALSE)*L51,"") | O51: =IFERROR(N51/M51,"") | P51: =$P$31*L51 -> 0
E52: =IFERROR(VLOOKUP(C52,Recipes!$A$2:$F$208,5,FALSE)*D52,"") | F52: =IFERROR(VLOOKUP(C52,Recipes!$A$2:$F$208,6,FALSE)*D52,"") | G52: =IFERROR(F52/E52,"") | H52: =$H$31* D52 -> 0 | M52: =IFERROR(VLOOKUP(K52,Recipes!$A$2:$F$208,5,FALSE)*L52,"") | N52: =IFERROR(VLOOKUP(K52,Recipes!$A$2:$F$208,6,FALSE)*L52,"") | O52: =IFERROR(N52/M52,"") | P52: =$P$31*L52 -> 0
E53: =IFERROR(VLOOKUP(C53,Recipes!$A$2:$F$208,5,FALSE)*D53,"") | F53: =IFERROR(VLOOKUP(C53,Recipes!$A$2:$F$208,6,FALSE)*D53,"") | G53: =IFERROR(F53/E53,"") | H53: =$H$31* D53 -> 0 | M53: =IFERROR(VLOOKUP(K53,Recipes!$A$2:$F$208,5,FALSE)*L53,"") | N53: =IFERROR(VLOOKUP(K53,Recipes!$A$2:$F$208,6,FALSE)*L53,"") | O53: =IFERROR(N53/M53,"") | P53: =$P$31*L53 -> 0
E54: =IFERROR(VLOOKUP(C54,Recipes!$A$2:$F$208,5,FALSE)*D54,"") | F54: =IFERROR(VLOOKUP(C54,Recipes!$A$2:$F$208,6,FALSE)*D54,"") | G54: =IFERROR(F54/E54,"") | H54: =$H$31* D54 -> 0 | M54: =IFERROR(VLOOKUP(K54,Recipes!$A$2:$F$208,5,FALSE)*L54,"") | N54: =IFERROR(VLOOKUP(K54,Recipes!$A$2:$F$208,6,FALSE)*L54,"") | O54: =IFERROR(N54/M54,"") | P54: =$P$31*L54 -> 0
E55: =IFERROR(VLOOKUP(C55,Recipes!$A$2:$F$208,5,FALSE)*D55,"") | F55: =IFERROR(VLOOKUP(C55,Recipes!$A$2:$F$208,6,FALSE)*D55,"") | G55: =IFERROR(F55/E55,"") | H55: =$H$31* D55 -> 0 | M55: =IFERROR(VLOOKUP(K55,Recipes!$A$2:$F$208,5,FALSE)*L55,"") | N55: =IFERROR(VLOOKUP(K55,Recipes!$A$2:$F$208,6,FALSE)*L55,"") | O55: =IFERROR(N55/M55,"") | P55: =$P$31*L55 -> 0
E56: =IFERROR(VLOOKUP(C56,Recipes!$A$2:$F$208,5,FALSE)*D56,"") | F56: =IFERROR(VLOOKUP(C56,Recipes!$A$2:$F$208,6,FALSE)*D56,"") | G56: =IFERROR(F56/E56,"") | H56: =$H$31* D56 -> 0 | M56: =IFERROR(VLOOKUP(K56,Recipes!$A$2:$F$208,5,FALSE)*L56,"") | N56: =IFERROR(VLOOKUP(K56,Recipes!$A$2:$F$208,6,FALSE)*L56,"") | O56: =IFERROR(N56/M56,"") | P56: =$P$31*L56 -> 0
E57: =IFERROR(VLOOKUP(C57,Recipes!$A$2:$F$208,5,FALSE)*D57,"") | F57: =IFERROR(VLOOKUP(C57,Recipes!$A$2:$F$208,6,FALSE)*D57,"") | G57: =IFERROR(F57/E57,"") | H57: =$H$31* D57 -> 0 | M57: =IFERROR(VLOOKUP(K57,Recipes!$A$2:$F$208,5,FALSE)*L57,"") | N57: =IFERROR(VLOOKUP(K57,Recipes!$A$2:$F$208,6,FALSE)*L57,"") | O57: =IFERROR(N57/M57,"") | P57: =$P$31*L57 -> 0
E58: =IFERROR(VLOOKUP(C58,Recipes!$A$2:$F$208,5,FALSE)*D58,"") | F58: =IFERROR(VLOOKUP(C58,Recipes!$A$2:$F$208,6,FALSE)*D58,"") | G58: =IFERROR(F58/E58,"") | H58: =$H$31* D58 -> 0 | M58: =IFERROR(VLOOKUP(K58,Recipes!$A$2:$F$208,5,FALSE)*L58,"") | N58: =IFERROR(VLOOKUP(K58,Recipes!$A$2:$F$208,6,FALSE)*L58,"") | O58: =IFERROR(N58/M58,"") | P58: =$P$31*L58 -> 0
A59: C | E59: =SUM(E60:E86) -> 831.23 | F59: =SUM(F60:F86) -> 3460.45 | G59: =IFERROR(F59/E59,"") -> 4.1630475 | H59: =COUNTIF(Meal_Itinerary!C:C,Meals!A59) -> 15 | M59: =SUM(M60:M86) -> 808.17143 | N59: =SUM(N60:N86) -> 3520.1571 | O59: =IFERROR(N59/M59,"") -> 4.355706 | P59: =COUNTIF(Meal_Itinerary!E:E,Meals!A59) -> 9
B60: Breakfast | C60: ProBar | D60: 1 | E60: =IFERROR(VLOOKUP(C60,Recipes!$A$2:$F$208,5,FALSE)*D60,"") -> 70 | F60: =IFERROR(VLOOKUP(C60,Recipes!$A$2:$F$208,6,FALSE)*D60,"") -> 290 | G60: =IFERROR(F60/E60,"") -> 4.1428571 | H60: =$H$59*D60 -> 15 | J60: Breakfast | K60: Kyle's Laura Bar Breakfast | L60: 1 | M60: =IFERROR(VLOOKUP(K60,Recipes!$A$2:$F$208,5,FALSE)*L60,"") -> 141.6 | N60: =IFERROR(VLOOKUP(K60,Recipes!$A$2:$F$208,6,FALSE)*L60,"") -> 640 | O60: =IFERROR(N60/M60,"") -> 4.519774 | P60: =$P$59*L60 -> 9
B61: Lunch | C61: Baby Food Pouch | D61: 0.5 | E61: =IFERROR(VLOOKUP(C61,Recipes!$A$2:$F$208,5,FALSE)*D61,"") -> 75 | F61: =IFERROR(VLOOKUP(C61,Recipes!$A$2:$F$208,6,FALSE)*D61,"") -> 50 | G61: =IFERROR(F61/E61,"") -> 0.66666667 | H61: =$H$59*D61 -> 7.5 | J61: Snack | K61: Kyle's Snickers Bar & Almond Bar | L61: 1 | M61: =IFERROR(VLOOKUP(K61,Recipes!$A$2:$F$208,5,FALSE)*L61,"") -> 184 | N61: =IFERROR(VLOOKUP(K61,Recipes!$A$2:$F$208,6,FALSE)*L61,"") -> 950 | O61: =IFERROR(N61/M61,"") -> 5.1630435 | P61: =$P$59*L61 -> 9
B62: Lunch | C62: Sausage Lunch | D62: 0.5 | E62: =IFERROR(VLOOKUP(C62,Recipes!$A$2:$F$208,5,FALSE)*D62,"") -> 100 | F62: =IFERROR(VLOOKUP(C62,Recipes!$A$2:$F$208,6,FALSE)*D62,"") -> 426 | G62: =IFERROR(F62/E62,"") -> 4.26 | H62: =$H$59*D62 -> 7.5 | J62: Lunch | K62: Sausage Lunch | L62: 0.5 | M62: =IFERROR(VLOOKUP(K62,Recipes!$A$2:$F$208,5,FALSE)*L62,"") -> 100 | N62: =IFERROR(VLOOKUP(K62,Recipes!$A$2:$F$208,6,FALSE)*L62,"") -> 426 | O62: =IFERROR(N62/M62,"") -> 4.26 | P62: =$P$59*L62 -> 4.5
B63: Snack | C63: ProBar | D63: 0 | E63: =IFERROR(VLOOKUP(C63,Recipes!$A$2:$F$208,5,FALSE)*D63,"") -> 0 | F63: =IFERROR(VLOOKUP(C63,Recipes!$A$2:$F$208,6,FALSE)*D63,"") -> 0 | G63: =IFERROR(F63/E63,"") | H63: =$H$59*D63 -> 0 | J63: Snack | K63: Corn Chips (Handful) | L63: 2 | M63: =IFERROR(VLOOKUP(K63,Recipes!$A$2:$F$208,5,FALSE)*L63,"") -> 100 | N63: =IFERROR(VLOOKUP(K63,Recipes!$A$2:$F$208,6,FALSE)*L63,"") -> 560 | O63: =IFERROR(N63/M63,"") -> 5.6 | P63: =$P$59*L63 -> 18
B64: Snack | C64: Cliff Bar | D64: 1.5 | E64: =IFERROR(VLOOKUP(C64,Recipes!$A$2:$F$208,5,FALSE)*D64,"") -> 102 | F64: =IFERROR(VLOOKUP(C64,Recipes!$A$2:$F$208,6,FALSE)*D64,"") -> 375 | G64: =IFERROR(F64/E64,"") -> 3.6764706 | H64: =$H$59*D64 -> 22.5 | J64: Dinner | K64: Cheese and Salmon Mac n Cheeze | L64: 1 | M64: =IFERROR(VLOOKUP(K64,Recipes!$A$2:$F$208,5,FALSE)*L64,"") -> 184 | N64: =IFERROR(VLOOKUP(K64,Recipes!$A$2:$F$208,6,FALSE)*L64,"") -> 601.3 | O64: =IFERROR(N64/M64,"") -> 3.2679348 | P64: =$P$59*L64 -> 9
B65: Snack | C65: Kind Bar | D65: 1.5 | E65: =IFERROR(VLOOKUP(C65,Recipes!$A$2:$F$208,5,FALSE)*D65,"") -> 60 | F65: =IFERROR(VLOOKUP(C65,Recipes!$A$2:$F$208,6,FALSE)*D65,"") -> 300 | G65: =IFERROR(F65/E65,"") -> 5 | H65: =$H$59*D65 -> 22.5 | J65: Snack | K65: Gatorade (1.5 L) | L65: 1 | M65: =IFERROR(VLOOKUP(K65,Recipes!$A$2:$F$208,5,FALSE)*L65,"") -> 98.571429 | N65: =IFERROR(VLOOKUP(K65,Recipes!$A$2:$F$208,6,FALSE)*L65,"") -> 342.85714 | O65: =IFERROR(N65/M65,"") -> 3.4782609 | P65: =$P$59*L65 -> 9
B66: Snack | C66: Snickers Bar | D66: 1 | E66: =IFERROR(VLOOKUP(C66,Recipes!$A$2:$F$208,5,FALSE)*D66,"") -> 52 | F66: =IFERROR(VLOOKUP(C66,Recipes!$A$2:$F$208,6,FALSE)*D66,"") -> 250 | G66: =IFERROR(F66/E66,"") -> 4.8076923 | H66: =$H$59*D66 -> 15 | M66: =IFERROR(VLOOKUP(K66,Recipes!$A$2:$F$208,5,FALSE)*L66,"") | N66: =IFERROR(VLOOKUP(K66,Recipes!$A$2:$F$208,6,FALSE)*L66,"") | O66: =IFERROR(N66/M66,"") | P66: =$P$59*L66 -> 0
B67: Lunch | C67: Gatorade (1.5 L) | D67: 0.35 | E67: =IFERROR(VLOOKUP(C67,Recipes!$A$2:$F$208,5,FALSE)*D67,"") -> 34.5 | F67: =IFERROR(VLOOKUP(C67,Recipes!$A$2:$F$208,6,FALSE)*D67,"") -> 120 | G67: =IFERROR(F67/E67,"") -> 3.4782609 | H67: =$H$59*D67 -> 5.25 | M67: =IFERROR(VLOOKUP(K67,Recipes!$A$2:$F$208,5,FALSE)*L67,"") | N67: =IFERROR(VLOOKUP(K67,Recipes!$A$2:$F$208,6,FALSE)*L67,"") | O67: =IFERROR(N67/M67,"") | P67: =$P$59*L67 -> 0
B68: Lunch | C68: Peanut Butter (Spoonful) | D68: 4 | E68: =IFERROR(VLOOKUP(C68,Recipes!$A$2:$F$208,5,FALSE)*D68,"") -> 60 | F68: =IFERROR(VLOOKUP(C68,Recipes!$A$2:$F$208,6,FALSE)*D68,"") -> 360 | G68: =IFERROR(F68/E68,"") -> 6 | H68: =$H$59*D68 -> 60 | M68: =IFERROR(VLOOKUP(K68,Recipes!$A$2:$F$208,5,FALSE)*L68,"") | N68: =IFERROR(VLOOKUP(K68,Recipes!$A$2:$F$208,6,FALSE)*L68,"") | O68: =IFERROR(N68/M68,"") | P68: =$P$59*L68 -> 0
B69: Snack | C69: Gummy Bears Snack | D69: 0.3 | E69: =IFERROR(VLOOKUP(C69,Recipes!$A$2:$F$208,5,FALSE)*D69,"") -> 37.5 | F69: =IFERROR(VLOOKUP(C69,Recipes!$A$2:$F$208,6,FALSE)*D69,"") -> 135 | G69: =IFERROR(F69/E69,"") -> 3.6 | H69: =$H$59*D69 -> 4.5 | M69: =IFERROR(VLOOKUP(K69,Recipes!$A$2:$F$208,5,FALSE)*L69,"") | N69: =IFERROR(VLOOKUP(K69,Recipes!$A$2:$F$208,6,FALSE)*L69,"") | O69: =IFERROR(N69/M69,"") | P69: =$P$59*L69 -> 0
B70: Dinner | C70: Peanut Noodles | D70: 1 | E70: =IFERROR(VLOOKUP(C70,Recipes!$A$2:$F$208,5,FALSE)*D70,"") -> 157.4 | F70: =IFERROR(VLOOKUP(C70,Recipes!$A$2:$F$208,6,FALSE)*D70,"") -> 756.72 | G70: =IFERROR(F70/E70,"") -> 4.8076239 | H70: =$H$59*D70 -> 15 | M70: =IFERROR(VLOOKUP(K70,Recipes!$A$2:$F$208,5,FALSE)*L70,"") | N70: =IFERROR(VLOOKUP(K70,Recipes!$A$2:$F$208,6,FALSE)*L70,"") | O70: =IFERROR(N70/M70,"") | P70: =$P$59*L70 -> 0
B71: Snack | C71: OHenry Bar | D71: 0.91 | E71: =IFERROR(VLOOKUP(C71,Recipes!$A$2:$F$208,5,FALSE)*D71,"") -> 51.87 | F71: =IFERROR(VLOOKUP(C71,Recipes!$A$2:$F$208,6,FALSE)*D71,"") -> 239.33 | G71: =IFERROR(F71/E71,"") -> 4.6140351 | H71: =$H$59*D71 -> 13.65 | M71: =IFERROR(VLOOKUP(K71,Recipes!$A$2:$F$208,5,FALSE)*L71,"") | N71: =IFERROR(VLOOKUP(K71,Recipes!$A$2:$F$208,6,FALSE)*L71,"") | O71: =IFERROR(N71/M71,"") | P71: =$P$59*L71 -> 0
B72: Snack | C72: Cookies'n'Cream Bar | D72: 0.72 | E72: =IFERROR(VLOOKUP(C72,Recipes!$A$2:$F$208,5,FALSE)*D72,"") -> 30.96 | F72: =IFERROR(VLOOKUP(C72,Recipes!$A$2:$F$208,6,FALSE)*D72,"") -> 158.4 | G72: =IFERROR(F72/E72,"") -> 5.1162791 | H72: =$H$59*D72 -> 10.8 | M72: =IFERROR(VLOOKUP(K72,Recipes!$A$2:$F$208,5,FALSE)*L72,"") | N72: =IFERROR(VLOOKUP(K72,Recipes!$A$2:$F$208,6,FALSE)*L72,"") | O72: =IFERROR(N72/M72,"") | P72: =$P$59*L72 -> 0
E73: =IFERROR(VLOOKUP(C73,Recipes!$A$2:$F$208,5,FALSE)*D73,"") | F73: =IFERROR(VLOOKUP(C73,Recipes!$A$2:$F$208,6,FALSE)*D73,"") | G73: =IFERROR(F73/E73,"") | H73: =$H$59*D73 -> 0 | M73: =IFERROR(VLOOKUP(K73,Recipes!$A$2:$F$208,5,FALSE)*L73,"") | N73: =IFERROR(VLOOKUP(K73,Recipes!$A$2:$F$208,6,FALSE)*L73,"") | O73: =IFERROR(N73/M73,"") | P73: =$P$59*L73 -> 0
E74: =IFERROR(VLOOKUP(C74,Recipes!$A$2:$F$208,5,FALSE)*D74,"") | F74: =IFERROR(VLOOKUP(C74,Recipes!$A$2:$F$208,6,FALSE)*D74,"") | G74: =IFERROR(F74/E74,"") | H74: =$H$59*D74 -> 0 | M74: =IFERROR(VLOOKUP(K74,Recipes!$A$2:$F$208,5,FALSE)*L74,"") | N74: =IFERROR(VLOOKUP(K74,Recipes!$A$2:$F$208,6,FALSE)*L74,"") | O74: =IFERROR(N74/M74,"") | P74: =$P$59*L74 -> 0
E75: =IFERROR(VLOOKUP(C75,Recipes!$A$2:$F$208,5,FALSE)*D75,"") | F75: =IFERROR(VLOOKUP(C75,Recipes!$A$2:$F$208,6,FALSE)*D75,"") | G75: =IFERROR(F75/E75,"") | H75: =$H$59*D75 -> 0 | M75: =IFERROR(VLOOKUP(K75,Recipes!$A$2:$F$208,5,FALSE)*L75,"") | N75: =IFERROR(VLOOKUP(K75,Recipes!$A$2:$F$208,6,FALSE)*L75,"") | O75: =IFERROR(N75/M75,"") | P75: =$P$59*L75 -> 0
E76: =IFERROR(VLOOKUP(C76,Recipes!$A$2:$F$208,5,FALSE)*D76,"") | F76: =IFERROR(VLOOKUP(C76,Recipes!$A$2:$F$208,6,FALSE)*D76,"") | G76: =IFERROR(F76/E76,"") | H76: =$H$59*D76 -> 0 | M76: =IFERROR(VLOOKUP(K76,Recipes!$A$2:$F$208,5,FALSE)*L76,"") | N76: =IFERROR(VLOOKUP(K76,Recipes!$A$2:$F$208,6,FALSE)*L76,"") | O76: =IFERROR(N76/M76,"") | P76: =$P$59*L76 -> 0
E77: =IFERROR(VLOOKUP(C77,Recipes!$A$2:$F$208,5,FALSE)*D77,"") | F77: =IFERROR(VLOOKUP(C77,Recipes!$A$2:$F$208,6,FALSE)*D77,"") | G77: =IFERROR(F77/E77,"") | H77: =$H$59*D77 -> 0 | M77: =IFERROR(VLOOKUP(K77,Recipes!$A$2:$F$208,5,FALSE)*L77,"") | N77: =IFERROR(VLOOKUP(K77,Recipes!$A$2:$F$208,6,FALSE)*L77,"") | O77: =IFERROR(N77/M77,"") | P77: =$P$59*L77 -> 0
E78: =IFERROR(VLOOKUP(C78,Recipes!$A$2:$F$208,5,FALSE)*D78,"") | F78: =IFERROR(VLOOKUP(C78,Recipes!$A$2:$F$208,6,FALSE)*D78,"") | G78: =IFERROR(F78/E78,"") | H78: =$H$59*D78 -> 0 | M78: =IFERROR(VLOOKUP(K78,Recipes!$A$2:$F$208,5,FALSE)*L78,"") | N78: =IFERROR(VLOOKUP(K78,Recipes!$A$2:$F$208,6,FALSE)*L78,"") | O78: =IFERROR(N78/M78,"") | P78: =$P$59*L78 -> 0
E79: =IFERROR(VLOOKUP(C79,Recipes!$A$2:$F$208,5,FALSE)*D79,"") | F79: =IFERROR(VLOOKUP(C79,Recipes!$A$2:$F$208,6,FALSE)*D79,"") | G79: =IFERROR(F79/E79,"") | H79: =$H$59*D79 -> 0 | M79: =IFERROR(VLOOKUP(K79,Recipes!$A$2:$F$208,5,FALSE)*L79,"") | N79: =IFERROR(VLOOKUP(K79,Recipes!$A$2:$F$208,6,FALSE)*L79,"") | O79: =IFERROR(N79/M79,"") | P79: =$P$59*L79 -> 0
E80: =IFERROR(VLOOKUP(C80,Recipes!$A$2:$F$208,5,FALSE)*D80,"") | F80: =IFERROR(VLOOKUP(C80,Recipes!$A$2:$F$208,6,FALSE)*D80,"") | G80: =IFERROR(F80/E80,"") | H80: =$H$59*D80 -> 0 | M80: =IFERROR(VLOOKUP(K80,Recipes!$A$2:$F$208,5,FALSE)*L80,"") | N80: =IFERROR(VLOOKUP(K80,Recipes!$A$2:$F$208,6,FALSE)*L80,"") | O80: =IFERROR(N80/M80,"") | P80: =$P$59*L80 -> 0
E81: =IFERROR(VLOOKUP(C81,Recipes!$A$2:$F$208,5,FALSE)*D81,"") | F81: =IFERROR(VLOOKUP(C81,Recipes!$A$2:$F$208,6,FALSE)*D81,"") | G81: =IFERROR(F81/E81,"") | H81: =$H$59*D81 -> 0 | M81: =IFERROR(VLOOKUP(K81,Recipes!$A$2:$F$208,5,FALSE)*L81,"") | N81: =IFERROR(VLOOKUP(K81,Recipes!$A$2:$F$208,6,FALSE)*L81,"") | O81: =IFERROR(N81/M81,"") | P81: =$P$59*L81 -> 0
E82: =IFERROR(VLOOKUP(C82,Recipes!$A$2:$F$208,5,FALSE)*D82,"") | F82: =IFERROR(VLOOKUP(C82,Recipes!$A$2:$F$208,6,FALSE)*D82,"") | G82: =IFERROR(F82/E82,"") | H82: =$H$59*D82 -> 0 | M82: =IFERROR(VLOOKUP(K82,Recipes!$A$2:$F$208,5,FALSE)*L82,"") | N82: =IFERROR(VLOOKUP(K82,Recipes!$A$2:$F$208,6,FALSE)*L82,"") | O82: =IFERROR(N82/M82,"") | P82: =$P$59*L82 -> 0
E83: =IFERROR(VLOOKUP(C83,Recipes!$A$2:$F$208,5,FALSE)*D83,"") | F83: =IFERROR(VLOOKUP(C83,Recipes!$A$2:$F$208,6,FALSE)*D83,"") | G83: =IFERROR(F83/E83,"") | H83: =$H$59*D83 -> 0 | M83: =IFERROR(VLOOKUP(K83,Recipes!$A$2:$F$208,5,FALSE)*L83,"") | N83: =IFERROR(VLOOKUP(K83,Recipes!$A$2:$F$208,6,FALSE)*L83,"") | O83: =IFERROR(N83/M83,"") | P83: =$P$59*L83 -> 0
E84: =IFERROR(VLOOKUP(C84,Recipes!$A$2:$F$208,5,FALSE)*D84,"") | F84: =IFERROR(VLOOKUP(C84,Recipes!$A$2:$F$208,6,FALSE)*D84,"") | G84: =IFERROR(F84/E84,"") | H84: =$H$59*D84 -> 0 | M84: =IFERROR(VLOOKUP(K84,Recipes!$A$2:$F$208,5,FALSE)*L84,"") | N84: =IFERROR(VLOOKUP(K84,Recipes!$A$2:$F$208,6,FALSE)*L84,"") | O84: =IFERROR(N84/M84,"") | P84: =$P$59*L84 -> 0
... E86: =IFERROR(VLOOKUP(C86,Recipes!$A$2:$F$208,5,FALSE)*D86,"") | F86: =IFERROR(VLOOKUP(C86,Recipes!$A$2:$F$208,6,FALSE)*D86,"") | G86: =IFERROR(F86/E86,"") | H86: =$H$59*D86 -> 0 | M86: =IFERROR(VLOOKUP(K86,Recipes!$A$2:$F$208,5,FALSE)*L86,"") | N86: =IFERROR(VLOOKUP(K86,Recipes!$A$2:$F$208,6,FALSE)*L86,"") | O86: =IFERROR(N86/M86,"") | P86: =$P$59*L86 -> 0
A87: D | E87: =SUM(E88:E114) -> 0 | F87: =SUM(F88:F114) -> 0 | G87: =IFERROR(F87/E87,"") | H87: =COUNTIF(Meal_Itinerary!C:C,Meals!A87) -> 0 | M87: =SUM(M88:M114) -> 915.77143 | N87: =SUM(N88:N114) -> 3606.9571 | O87: =IFERROR(N87/M87,"") -> 3.938709 | P87: =COUNTIF(Meal_Itinerary!E:E,Meals!A87) -> 9
E88: =IFERROR(VLOOKUP(C88,Recipes!$A$2:$F$208,5,FALSE)*D88,"") | F88: =IFERROR(VLOOKUP(C88,Recipes!$A$2:$F$208,6,FALSE)*D88,"") | G88: =IFERROR(F88/E88,"") | H88: =$H$87*D88 -> 0 | J88: Breakfast | K88: Kyle's Kind Healthy Grain Bar Breakfast | L88: 1 | M88: =IFERROR(VLOOKUP(K88,Recipes!$A$2:$F$208,5,FALSE)*L88,"") -> 111.6 | N88: =IFERROR(VLOOKUP(K88,Recipes!$A$2:$F$208,6,FALSE)*L88,"") -> 460 | O88: =IFERROR(N88/M88,"") -> 4.1218638 | P88: =$P$87*L88 -> 9
E89: =IFERROR(VLOOKUP(C89,Recipes!$A$2:$F$208,5,FALSE)*D89,"") | F89: =IFERROR(VLOOKUP(C89,Recipes!$A$2:$F$208,6,FALSE)*D89,"") | G89: =IFERROR(F89/E89,"") | H89: =$H$87*D89 -> 0 | J89: Snack | K89: Kyle's Snickers Bar & Almond Bar | L89: 1 | M89: =IFERROR(VLOOKUP(K89,Recipes!$A$2:$F$208,5,FALSE)*L89,"") -> 184 | N89: =IFERROR(VLOOKUP(K89,Recipes!$A$2:$F$208,6,FALSE)*L89,"") -> 950 | O89: =IFERROR(N89/M89,"") -> 5.1630435 | P89: =$P$87*L89 -> 9
E90: =IFERROR(VLOOKUP(C90,Recipes!$A$2:$F$208,5,FALSE)*D90,"") | F90: =IFERROR(VLOOKUP(C90,Recipes!$A$2:$F$208,6,FALSE)*D90,"") | G90: =IFERROR(F90/E90,"") | H90: =$H$87*D90 -> 0 | J90: Lunch | K90: Sausage Lunch | L90: 0.5 | M90: =IFERROR(VLOOKUP(K90,Recipes!$A$2:$F$208,5,FALSE)*L90,"") -> 100 | N90: =IFERROR(VLOOKUP(K90,Recipes!$A$2:$F$208,6,FALSE)*L90,"") -> 426 | O90: =IFERROR(N90/M90,"") -> 4.26 | P90: =$P$87*L90 -> 4.5
E91: =IFERROR(VLOOKUP(C91,Recipes!$A$2:$F$208,5,FALSE)*D91,"") | F91: =IFERROR(VLOOKUP(C91,Recipes!$A$2:$F$208,6,FALSE)*D91,"") | G91: =IFERROR(F91/E91,"") | H91: =$H$87*D91 -> 0 | J91: Lunch | K91: Baby Food Pouch | L91: 1 | M91: =IFERROR(VLOOKUP(K91,Recipes!$A$2:$F$208,5,FALSE)*L91,"") -> 150 | N91: =IFERROR(VLOOKUP(K91,Recipes!$A$2:$F$208,6,FALSE)*L91,"") -> 100 | O91: =IFERROR(N91/M91,"") -> 0.66666667 | P91: =$P$87*L91 -> 9
E92: =IFERROR(VLOOKUP(C92,Recipes!$A$2:$F$208,5,FALSE)*D92,"") | F92: =IFERROR(VLOOKUP(C92,Recipes!$A$2:$F$208,6,FALSE)*D92,"") | G92: =IFERROR(F92/E92,"") | H92: =$H$87*D92 -> 0 | J92: Lunch | K92: Corn Chips (Handful) | L92: 2 | M92: =IFERROR(VLOOKUP(K92,Recipes!$A$2:$F$208,5,FALSE)*L92,"") -> 100 | N92: =IFERROR(VLOOKUP(K92,Recipes!$A$2:$F$208,6,FALSE)*L92,"") -> 560 | O92: =IFERROR(N92/M92,"") -> 5.6 | P92: =$P$87*L92 -> 18
E93: =IFERROR(VLOOKUP(C93,Recipes!$A$2:$F$208,5,FALSE)*D93,"") | F93: =IFERROR(VLOOKUP(C93,Recipes!$A$2:$F$208,6,FALSE)*D93,"") | G93: =IFERROR(F93/E93,"") | H93: =$H$87*D93 -> 0 | J93: Snack | K93: Gatorade (1.5 L) | L93: 1 | M93: =IFERROR(VLOOKUP(K93,Recipes!$A$2:$F$208,5,FALSE)*L93,"") -> 98.571429 | N93: =IFERROR(VLOOKUP(K93,Recipes!$A$2:$F$208,6,FALSE)*L93,"") -> 342.85714 | O93: =IFERROR(N93/M93,"") -> 3.4782609 | P93: =$P$87*L93 -> 9
E94: =IFERROR(VLOOKUP(C94,Recipes!$A$2:$F$208,5,FALSE)*D94,"") | F94: =IFERROR(VLOOKUP(C94,Recipes!$A$2:$F$208,6,FALSE)*D94,"") | G94: =IFERROR(F94/E94,"") | H94: =$H$87*D94 -> 0 | J94: Dinner | K94: Pesto Noodle | L94: 1 | M94: =IFERROR(VLOOKUP(K94,Recipes!$A$2:$F$208,5,FALSE)*L94,"") -> 171.6 | N94: =IFERROR(VLOOKUP(K94,Recipes!$A$2:$F$208,6,FALSE)*L94,"") -> 768.1 | O94: =IFERROR(N94/M94,"") -> 4.4761072 | P94: =$P$87*L94 -> 9
E95: =IFERROR(VLOOKUP(C95,Recipes!$A$2:$F$208,5,FALSE)*D95,"") | F95: =IFERROR(VLOOKUP(C95,Recipes!$A$2:$F$208,6,FALSE)*D95,"") | G95: =IFERROR(F95/E95,"") | H95: =$H$87*D95 -> 0 | M95: =IFERROR(VLOOKUP(K95,Recipes!$A$2:$F$208,5,FALSE)*L95,"") | N95: =IFERROR(VLOOKUP(K95,Recipes!$A$2:$F$208,6,FALSE)*L95,"") | O95: =IFERROR(N95/M95,"") | P95: =$P$87*L95 -> 0
E96: =IFERROR(VLOOKUP(C96,Recipes!$A$2:$F$208,5,FALSE)*D96,"") | F96: =IFERROR(VLOOKUP(C96,Recipes!$A$2:$F$208,6,FALSE)*D96,"") | G96: =IFERROR(F96/E96,"") | H96: =$H$87*D96 -> 0 | M96: =IFERROR(VLOOKUP(K96,Recipes!$A$2:$F$208,5,FALSE)*L96,"") | N96: =IFERROR(VLOOKUP(K96,Recipes!$A$2:$F$208,6,FALSE)*L96,"") | O96: =IFERROR(N96/M96,"") | P96: =$P$87*L96 -> 0
E97: =IFERROR(VLOOKUP(C97,Recipes!$A$2:$F$208,5,FALSE)*D97,"") | F97: =IFERROR(VLOOKUP(C97,Recipes!$A$2:$F$208,6,FALSE)*D97,"") | G97: =IFERROR(F97/E97,"") | H97: =$H$87*D97 -> 0 | M97: =IFERROR(VLOOKUP(K97,Recipes!$A$2:$F$208,5,FALSE)*L97,"") | N97: =IFERROR(VLOOKUP(K97,Recipes!$A$2:$F$208,6,FALSE)*L97,"") | O97: =IFERROR(N97/M97,"") | P97: =$P$87*L97 -> 0
E98: =IFERROR(VLOOKUP(C98,Recipes!$A$2:$F$208,5,FALSE)*D98,"") | F98: =IFERROR(VLOOKUP(C98,Recipes!$A$2:$F$208,6,FALSE)*D98,"") | G98: =IFERROR(F98/E98,"") | H98: =$H$87*D98 -> 0 | M98: =IFERROR(VLOOKUP(K98,Recipes!$A$2:$F$208,5,FALSE)*L98,"") | N98: =IFERROR(VLOOKUP(K98,Recipes!$A$2:$F$208,6,FALSE)*L98,"") | O98: =IFERROR(N98/M98,"") | P98: =$P$87*L98 -> 0
E99: =IFERROR(VLOOKUP(C99,Recipes!$A$2:$F$208,5,FALSE)*D99,"") | F99: =IFERROR(VLOOKUP(C99,Recipes!$A$2:$F$208,6,FALSE)*D99,"") | G99: =IFERROR(F99/E99,"") | H99: =$H$87*D99 -> 0 | M99: =IFERROR(VLOOKUP(K99,Recipes!$A$2:$F$208,5,FALSE)*L99,"") | N99: =IFERROR(VLOOKUP(K99,Recipes!$A$2:$F$208,6,FALSE)*L99,"") | O99: =IFERROR(N99/M99,"") | P99: =$P$87*L99 -> 0
E100: =IFERROR(VLOOKUP(C100,Recipes!$A$2:$F$208,5,FALSE)*D100,"") | F100: =IFERROR(VLOOKUP(C100,Recipes!$A$2:$F$208,6,FALSE)*D100,"") | G100: =IFERROR(F100/E100,"") | H100: =$H$87*D100 -> 0 | M100: =IFERROR(VLOOKUP(K100,Recipes!$A$2:$F$208,5,FALSE)*L100,"") | N100: =IFERROR(VLOOKUP(K100,Recipes!$A$2:$F$208,6,FALSE)*L100,"") | O100: =IFERROR(N100/M100,"") | P100: =$P$87*L100 -> 0
E101: =IFERROR(VLOOKUP(C101,Recipes!$A$2:$F$208,5,FALSE)*D101,"") | F101: =IFERROR(VLOOKUP(C101,Recipes!$A$2:$F$208,6,FALSE)*D101,"") | G101: =IFERROR(F101/E101,"") | H101: =$H$87*D101 -> 0 | M101: =IFERROR(VLOOKUP(K101,Recipes!$A$2:$F$208,5,FALSE)*L101,"") | N101: =IFERROR(VLOOKUP(K101,Recipes!$A$2:$F$208,6,FALSE)*L101,"") | O101: =IFERROR(N101/M101,"") | P101: =$P$87*L101 -> 0
E102: =IFERROR(VLOOKUP(C102,Recipes!$A$2:$F$208,5,FALSE)*D102,"") | F102: =IFERROR(VLOOKUP(C102,Recipes!$A$2:$F$208,6,FALSE)*D102,"") | G102: =IFERROR(F102/E102,"") | H102: =$H$87*D102 -> 0 | M102: =IFERROR(VLOOKUP(K102,Recipes!$A$2:$F$208,5,FALSE)*L102,"") | N102: =IFERROR(VLOOKUP(K102,Recipes!$A$2:$F$208,6,FALSE)*L102,"") | O102: =IFERROR(N102/M102,"") | P102: =$P$87*L102 -> 0
E103: =IFERROR(VLOOKUP(C103,Recipes!$A$2:$F$208,5,FALSE)*D103,"") | F103: =IFERROR(VLOOKUP(C103,Recipes!$A$2:$F$208,6,FALSE)*D103,"") | G103: =IFERROR(F103/E103,"") | H103: =$H$87*D103 -> 0 | M103: =IFERROR(VLOOKUP(K103,Recipes!$A$2:$F$208,5,FALSE)*L103,"") | N103: =IFERROR(VLOOKUP(K103,Recipes!$A$2:$F$208,6,FALSE)*L103,"") | O103: =IFERROR(N103/M103,"") | P103: =$P$87*L103 -> 0
...

Sheet Meal_Itinerary
B1: Include in List | C1: DO NOT TOUCH - AUTO FILLED | G1: EDIT HERE
C2: Natasha Meal Plan | D2: Natasha Meal Calories | E2: Kyle Meal Plan | F2: Kyle Meal Calories | G2: Natasha Meal Plan | H2: Kyle Meal Plan
A3: Day 1 | B3: 1 | C3: =IF(B3=1,G3,"") -> A | D3: =VLOOKUP(C3,Meals!$A$3:$H$142,6,FALSE) -> 3461.73 | E3: =IF(B3=1,H3,"") -> A | F3: =VLOOKUP(E3,Meals!$A$3:$N$142,14,FALSE) -> 3645.9571 | G3: A | H3: A
A4: Day 2 | B4: 1 | C4: =IF(B4=1,G4,"") -> B | D4: =VLOOKUP(C4,Meals!$A$3:$H$142,6,FALSE) -> 3595.73 | E4: =IF(B4=1,H4,"") -> B | F4: =VLOOKUP(E4,Meals!$A$3:$N$142,14,FALSE) -> 3635.8571 | G4: B | H4: B
A5: Day 3 | B5: 1 | C5: =IF(B5=1,G5,"") -> C | D5: =VLOOKUP(C5,Meals!$A$3:$H$142,6,FALSE) -> 3460.45 | E5: =IF(B5=1,H5,"") -> C | F5: =VLOOKUP(E5,Meals!$A$3:$N$142,14,FALSE) -> 3520.1571 | G5: C | H5: C
A6: Day 4 | B6: 1 | C6: =IF(B6=1,G6,"") -> A | D6: =VLOOKUP(C6,Meals!$A$3:$H$142,6,FALSE) -> 3461.73 | E6: =IF(B6=1,H6,"") -> D | F6: =VLOOKUP(E6,Meals!$A$3:$N$142,14,FALSE) -> 3606.9571 | G6: A | H6: D
A7: Day 5 | B7: 1 | C7: =IF(B7=1,G7,"") -> B | D7: =VLOOKUP(C7,Meals!$A$3:$H$142,6,FALSE) -> 3595.73 | E7: =IF(B7=1,H7,"") -> E | F7: =VLOOKUP(E7,Meals!$A$3:$N$142,14,FALSE) -> 3520.8571 | G7: B | H7: E
A8: Day 6 | B8: 1 | C8: =IF(B8=1,G8,"") -> C | D8: =VLOOKUP(C8,Meals!$A$3:$H$142,6,FALSE) -> 3460.45 | E8: =IF(B8=1,H8,"") -> A | F8: =VLOOKUP(E8,Meals!$A$3:$N$142,14,FALSE) -> 3645.9571 | G8: C | H8: A
A9: Day 7 | B9: 1 | C9: =IF(B9=1,G9,"") -> A | D9: =VLOOKUP(C9,Meals!$A$3:$H$142,6,FALSE) -> 3461.73 | E9: =IF(B9=1,H9,"") -> B | F9: =VLOOKUP(E9,Meals!$A$3:$N$142,14,FALSE) -> 3635.8571 | G9: A | H9: B | I9: Coleman
A10: Day 8 | B10: 1 | C10: =IF(B10=1,G10,"") -> B | D10: =VLOOKUP(C10,Meals!$A$3:$H$142,6,FALSE) -> 3595.73 | E10: =IF(B10=1,H10,"") -> C | F10: =VLOOKUP(E10,Meals!$A$3:$N$142,14,FALSE) -> 3520.1571 | G10: B | H10: C
A11: Day 9 | B11: 1 | C11: =IF(B11=1,G11,"") -> C | D11: =VLOOKUP(C11,Meals!$A$3:$H$142,6,FALSE) -> 3460.45 | E11: =IF(B11=1,H11,"") -> D | F11: =VLOOKUP(E11,Meals!$A$3:$N$142,14,FALSE) -> 3606.9571 | G11: C | H11: D
A12: Day 10 | B12: 1 | C12: =IF(B12=1,G12,"") -> A | D12: =VLOOKUP(C12,Meals!$A$3:$H$142,6,FALSE) -> 3461.73 | E12: =IF(B12=1,H12,"") -> E | F12: =VLOOKUP(E12,Meals!$A$3:$N$142,14,FALSE) -> 3520.8571 | G12: A | H12: E
A13: Day 11 | B13: 1 | C13: =IF(B13=1,G13,"") -> B | D13: =VLOOKUP(C13,Meals!$A$3:$H$142,6,FALSE) -> 3595.73 | E13: =IF(B13=1,H13,"") -> A | F13: =VLOOKUP(E13,Meals!$A$3:$N$142,14,FALSE) -> 3645.9571 | G13: B | H13: A
A14: Day 12 | B14: 1 | C14: =IF(B14=1,G14,"") -> C | D14: =VLOOKUP(C14,Meals!$A$3:$H$142,6,FALSE) -> 3460.45 | E14: =IF(B14=1,H14,"") -> B | F14: =VLOOKUP(E14,Meals!$A$3:$N$142,14,FALSE) -> 3635.8571 | G14: C | H14: B
A15: Day 13 | B15: 1 | C15: =IF(B15=1,G15,"") -> A | D15: =VLOOKUP(C15,Meals!$A$3:$H$142,6,FALSE) -> 3461.73 | E15: =IF(B15=1,H15,"") -> C | F15: =VLOOKUP(E15,Meals!$A$3:$N$142,14,FALSE) -> 3520.1571 | G15: A | H15: C
A16: Day 14 | B16: 1 | C16: =IF(B16=1,G16,"") -> B | D16: =VLOOKUP(C16,Meals!$A$3:$H$142,6,FALSE) -> 3595.73 | E16: =IF(B16=1,H16,"") -> D | F16: =VLOOKUP(E16,Meals!$A$3:$N$142,14,FALSE) -> 3606.9571 | G16: B | H16: D
A17: Day 15 | B17: 1 | C17: =IF(B17=1,G17,"") -> C | D17: =VLOOKUP(C17,Meals!$A$3:$H$142,6,FALSE) -> 3460.45 | E17: =IF(B17=1,H17,"") -> E | F17: =VLOOKUP(E17,Meals!$A$3:$N$142,14,FALSE) -> 3520.8571 | G17: C | H17: E
A18: Day 16 | B18: 1 | C18: =IF(B18=1,G18,"") -> A | D18: =VLOOKUP(C18,Meals!$A$3:$H$142,6,FALSE) -> 3461.73 | E18: =IF(B18=1,H18,"") -> A | F18: =VLOOKUP(E18,Meals!$A$3:$N$142,14,FALSE) -> 3645.9571 | G18: A | H18: A | I18: Peter Lougheed
A19: Day 17 | B19: 1 | C19: =IF(B19=1,G19,"") -> B | D19: =VLOOKUP(C19,Meals!$A$3:$H$142,6,FALSE) -> 3595.73 | E19: =IF(B19=1,H19,"") -> B | F19: =VLOOKUP(E19,Meals!$A$3:$N$142,14,FALSE) -> 3635.8571 | G19: B | H19: B
A20: Day 18 | B20: 1 | C20: =IF(B20=1,G20,"") -> C | D20: =VLOOKUP(C20,Meals!$A$3:$H$142,6,FALSE) -> 3460.45 | E20: =IF(B20=1,H20,"") -> C | F20: =VLOOKUP(E20,Meals!$A$3:$N$142,14,FALSE) -> 3520.1571 | G20: C | H20: C
A21: Day 19 | B21: 1 | C21: =IF(B21=1,G21,"") -> A | D21: =VLOOKUP(C21,Meals!$A$3:$H$142,6,FALSE) -> 3461.73 | E21: =IF(B21=1,H21,"") -> D | F21: =VLOOKUP(E21,Meals!$A$3:$N$142,14,FALSE) -> 3606.9571 | G21: A | H21: D
A22: Day 20 | B22: 1 | C22: =IF(B22=1,G22,"") -> B | D22: =VLOOKUP(C22,Meals!$A$3:$H$142,6,FALSE) -> 3595.73 | E22: =IF(B22=1,H22,"") -> E | F22: =VLOOKUP(E22,Meals!$A$3:$N$142,14,FALSE) -> 3520.8571 | G22: B | H22: E
A23: Day 21 | B23: 1 | C23: =IF(B23=1,G23,"") -> C | D23: =VLOOKUP(C23,Meals!$A$3:$H$142,6,FALSE) -> 3460.45 | E23: =IF(B23=1,H23,"") -> A | F23: =VLOOKUP(E23,Meals!$A$3:$N$142,14,FALSE) -> 3645.9571 | G23: C | H23: A | I23: Banff
A24: Day 22 | B24: 1 | C24: =IF(B24=1,G24,"") -> A | D24: =VLOOKUP(C24,Meals!$A$3:$H$142,6,FALSE) -> 3461.73 | E24: =IF(B24=1,H24,"") -> B | F24: =VLOOKUP(E24,Meals!$A$3:$N$142,14,FALSE) -> 3635.8571 | G24: A | H24: B
A25: Day 23 | B25: 1 | C25: =IF(B25=1,G25,"") -> B | D25: =VLOOKUP(C25,Meals!$A$3:$H$142,6,FALSE) -> 3595.73 | E25: =IF(B25=1,H25,"") -> C | F25: =VLOOKUP(E25,Meals!$A$3:$N$142,14,FALSE) -> 3520.1571 | G25: B | H25: C
A26: Day 24 | B26: 1 | C26: =IF(B26=1,G26,"") -> C | D26: =VLOOKUP(C26,Meals!$A$3:$H$142,6,FALSE) -> 3460.45 | E26: =IF(B26=1,H26,"") -> D | F26: =VLOOKUP(E26,Meals!$A$3:$N$142,14,FALSE) -> 3606.9571 | G26: C | H26: D
A27: Day 25 | B27: 1 | C27: =IF(B27=1,G27,"") -> A | D27: =VLOOKUP(C27,Meals!$A$3:$H$142,6,FALSE) -> 3461.73 | E27: =IF(B27=1,H27,"") -> E | F27: =VLOOKUP(E27,Meals!$A$3:$N$142,14,FALSE) -> 3520.8571 | G27: A | H27: E
A28: Day 26 | B28: 1 | C28: =IF(B28=1,G28,"") -> B | D28: =VLOOKUP(C28,Meals!$A$3:$H$142,6,FALSE) -> 3595.73 | E28: =IF(B28=1,H28,"") -> A | F28: =VLOOKUP(E28,Meals!$A$3:$N$142,14,FALSE) -> 3645.9571 | G28: B | H28: A | I28: Field
A29: Day 27 | B29: 1 | C29: =IF(B29=1,G29,"") -> C | D29: =VLOOKUP(C29,Meals!$A$3:$H$142,6,FALSE) -> 3460.45 | E29: =IF(B29=1,H29,"") -> B | F29: =VLOOKUP(E29,Meals!$A$3:$N$142,14,FALSE) -> 3635.8571 | G29: C | H29: B
A30: Day 28 | B30: 1 | C30: =IF(B30=1,G30,"") -> A | D30: =VLOOKUP(C30,Meals!$A$3:$H$142,6,FALSE) -> 3461.73 | E30: =IF(B30=1,H30,"") -> C | F30: =VLOOKUP(E30,Meals!$A$3:$N$142,14,FALSE) -> 3520.1571 | G30: A | H30: C
A31: Day 29 | B31: 1 | C31: =IF(B31=1,G31,"") -> B | D31: =VLOOKUP(C31,Meals!$A$3:$H$142,6,FALSE) -> 3595.73 | E31: =IF(B31=1,H31,"") -> D | F31: =VLOOKUP(E31,Meals!$A$3:$N$142,14,FALSE) -> 3606.9571 | G31: B | H31: D
A32: Day 30 | B32: 1 | C32: =IF(B32=1,G32,"") -> C | D32: =VLOOKUP(C32,Meals!$A$3:$H$142,6,FALSE) -> 3460.45 | E32: =IF(B32=1,H32,"") -> E | F32: =VLOOKUP(E32,Meals!$A$3:$N$142,14,FALSE) -> 3520.8571 | G32: C | H32: E | I32: The Crossing
A33: Day 31 | B33: 1 | C33: =IF(B33=1,G33,"") -> A | D33: =VLOOKUP(C33,Meals!$A$3:$H$142,6,FALSE) -> 3461.73 | E33: =IF(B33=1,H33,"") -> A | F33: =VLOOKUP(E33,Meals!$A$3:$N$142,14,FALSE) -> 3645.9571 | G33: A | H33: A
A34: Day 32 | B34: 1 | C34: =IF(B34=1,G34,"") -> B | D34: =VLOOKUP(C34,Meals!$A$3:$H$142,6,FALSE) -> 3595.73 | E34: =IF(B34=1,H34,"") -> B | F34: =VLOOKUP(E34,Meals!$A$3:$N$142,14,FALSE) -> 3635.8571 | G34: B | H34: B
A35: Day 33 | B35: 1 | C35: =IF(B35=1,G35,"") -> C | D35: =VLOOKUP(C35,Meals!$A$3:$H$142,6,FALSE) -> 3460.45 | E35: =IF(B35=1,H35,"") -> C | F35: =VLOOKUP(E35,Meals!$A$3:$N$142,14,FALSE) -> 3520.1571 | G35: C | H35: C
A36: Day 34 | B36: 1 | C36: =IF(B36=1,G36,"") -> A | D36: =VLOOKUP(C36,Meals!$A$3:$H$142,6,FALSE) -> 3461.73 | E36: =IF(B36=1,H36,"") -> D | F36: =VLOOKUP(E36,Meals!$A$3:$N$142,14,FALSE) -> 3606.9571 | G36: A | H36: D
A37: Day 35 | B37: 1 | C37: =IF(B37=1,G37,"") -> B | D37: =VLOOKUP(C37,Meals!$A$3:$H$142,6,FALSE) -> 3595.73 | E37: =IF(B37=1,H37,"") -> E | F37: =VLOOKUP(E37,Meals!$A$3:$N$142,14,FALSE) -> 3520.8571 | G37: B | H37: E
A38: Day 36 | B38: 1 | C38: =IF(B38=1,G38,"") -> C | D38: =VLOOKUP(C38,Meals!$A$3:$H$142,6,FALSE) -> 3460.45 | E38: =IF(B38=1,H38,"") -> A | F38: =VLOOKUP(E38,Meals!$A$3:$N$142,14,FALSE) -> 3645.9571 | G38: C | H38: A
A39: Day 37 | B39: 1 | C39: =IF(B39=1,G39,"") -> A | D39: =VLOOKUP(C39,Meals!$A$3:$H$142,6,FALSE) -> 3461.73 | E39: =IF(B39=1,H39,"") -> B | F39: =VLOOKUP(E39,Meals!$A$3:$N$142,14,FALSE) -> 3635.8571 | G39: A | H39: B | I39: Jasper
A40: Day 38 | B40: 1 | C40: =IF(B40=1,G40,"") -> B | D40: =VLOOKUP(C40,Meals!$A$3:$H$142,6,FALSE) -> 3595.73 | E40: =IF(B40=1,H40,"") -> C | F40: =VLOOKUP(E40,Meals!$A$3:$N$142,14,FALSE) -> 3520.1571 | G40: B | H40: C
A41: Day 39 | B41: 1 | C41: =IF(B41=1,G41,"") -> C | D41: =VLOOKUP(C41,Meals!$A$3:$H$142,6,FALSE) -> 3460.45 | E41: =IF(B41=1,H41,"") -> D | F41: =VLOOKUP(E41,Meals!$A$3:$N$142,14,FALSE) -> 3606.9571 | G41: C | H41: D
A42: Day 40 | B42: 1 | C42: =IF(B42=1,G42,"") -> A | D42: =VLOOKUP(C42,Meals!$A$3:$H$142,6,FALSE) -> 3461.73 | E42: =IF(B42=1,H42,"") -> E | F42: =VLOOKUP(E42,Meals!$A$3:$N$142,14,FALSE) -> 3520.8571 | G42: A | H42: E
A43: Day 41 | B43: 1 | C43: =IF(B43=1,G43,"") -> B | D43: =VLOOKUP(C43,Meals!$A$3:$H$142,6,FALSE) -> 3595.73 | E43: =IF(B43=1,H43,"") -> A | F43: =VLOOKUP(E43,Meals!$A$3:$N$142,14,FALSE) -> 3645.9571 | G43: B | H43: A
A44: Day 42 | B44: 1 | C44: =IF(B44=1,G44,"") -> C | D44: =VLOOKUP(C44,Meals!$A$3:$H$142,6,FALSE) -> 3460.45 | E44: =IF(B44=1,H44,"") -> B | F44: =VLOOKUP(E44,Meals!$A$3:$N$142,14,FALSE) -> 3635.8571 | G44: C | H44: B
A45: Day 43 | B45: 1 | C45: =IF(B45=1,G45,"") -> A | D45: =VLOOKUP(C45,Meals!$A$3:$H$142,6,FALSE) -> 3461.73 | E45: =IF(B45=1,H45,"") -> C | F45: =VLOOKUP(E45,Meals!$A$3:$N$142,14,FALSE) -> 3520.1571 | G45: A | H45: C
A46: Day 44 | B46: 1 | C46: =IF(B46=1,G46,"") -> B | D46: =VLOOKUP(C46,Meals!$A$3:$H$142,6,FALSE) -> 3595.73 | E46: =IF(B46=1,H46,"") -> D | F46: =VLOOKUP(E46,Meals!$A$3:$N$142,14,FALSE) -> 3606.9571 | G46: B | H46: D
A47: Day 45 | B47: 1 | C47: =IF(B47=1,G47,"") -> C | D47: =VLOOKUP(C47,Meals!$A$3:$H$142,6,FALSE) -> 3460.45 | E47: =IF(B47=1,H47,"") -> E | F47: =VLOOKUP(E47,Meals!$A$3:$N$142,14,FALSE) -> 3520.8571 | G47: C | H47: E
A48: Day 46 | B48: 1 | C48: =IF(B48=1,G48,"") -> A | D48: =VLOOKUP(C48,Meals!$A$3:$H$142,6,FALSE) -> 3461.73 | E48: =IF(B48=1,H48,"") -> A | F48: =VLOOKUP(E48,Meals!$A$3:$N$142,14,FALSE) -> 3645.9571 | G48: A | H48: A
A49: Day 47 | B49: 1 | C49: =IF(B49=1,G49,"") -> B | D49: =VLOOKUP(C49,Meals!$A$3:$H$142,6,FALSE) -> 3595.73 | E49: =IF(B49=1,H49,"") -> B | F49: =VLOOKUP(E49,Meals!$A$3:$N$142,14,FALSE) -> 3635.8571 | G49: B | H49: B
A50: Day 48 | B50: 0 | C50: =IF(B50=1,G50,"") | D50: =VLOOKUP(C50,Meals!$A$3:$H$142,6,FALSE) -> #N/A | E50: =IF(B50=1,H50,"") | F50: =VLOOKUP(E50,Meals!$A$3:$N$142,14,FALSE) -> #N/A | G50: C | H50: C
A51: Day 49 | B51: 0 | C51: =IF(B51=1,G51,"") | D51: =VLOOKUP(C51,Meals!$A$3:$H$142,6,FALSE) -> #N/A | E51: =IF(B51=1,H51,"") | F51: =VLOOKUP(E51,Meals!$A$3:$N$142,14,FALSE) -> #N/A | G51: A | H51: D
... A57: Day 55 | B57: 0 | C57: =IF(B57=1,G57,"") | D57: =VLOOKUP(C57,Meals!$A$3:$H$142,6,FALSE) -> #N/A | E57: =IF(B57=1,H57,"") | F57: =VLOOKUP(E57,Meals!$A$3:$N$142,14,FALSE) -> #N/A | G57: A | H57: E
A58: Day 56 | B58: 0 | D58: =VLOOKUP(C58,Meals!$A$3:$H$142,6,FALSE) -> #N/A | F58: =VLOOKUP(E58,Meals!$A$3:$N$142,14,FALSE) -> #N/A
A59: Day 57 | B59: 0 | D59: =VLOOKUP(C59,Meals!$A$3:$H$142,6,FALSE) -> #N/A | F59: =VLOOKUP(E59,Meals!$A$3:$N$142,14,FALSE) -> #N/A

Sheet Price Comparison
A1: Item | B1: Buy? | C1: Lookup | D1: Notes | E1: Store | F1: Status | G1: Cost | H1: Package | I1: Package Units | J1: Cost/Size | K1: Units | L1: Amount Required | M1: Amount Required Units | N1: Packages to Purchase | O1: Total Cost
A2: Foil Pack Tuna | C2: =CONCATENATE(A2,"-",B2) -> Foil Pack Tuna- | D2: Get light tuna, not white tuna | E2: Costco | F2: Not online. Unsure if available in person. | G2: N/A | H2: N/A | I2: N/A | J2: =ROUND(G2/H2,3) -> #VALUE! | K2: =_xlfn.CONCAT("$/",I2) -> $/N/A | L2: =VLOOKUP(A2,Ingredients!$A$2:$M$77,3,FALSE) -> 90 | N2: =L2/J2 -> #VALUE!
A3: Foil Pack Tuna | C3: =CONCATENATE(A3,"-",B3) -> Foil Pack Tuna- | D3: Get light tuna, not white tuna | E3: Superstore | F3: Not online. Unsure if available in person. | G3: N/A | H3: N/A | I3: N/A | J3: =ROUND(G3/H3,3) -> #VALUE! | K3: =_xlfn.CONCAT("$/",I3) -> $/N/A | N3: =L3/J3 -> #VALUE!
A4: Foil Pack Tuna | C4: =CONCATENATE(A4,"-",B4) -> Foil Pack Tuna- | D4: Get light tuna, not white tuna | E4: Choices | F4: Not online. Unsure if available in person. | J4: =ROUND(G4/H4,3) -> #DIV/0! | K4: =_xlfn.CONCAT("$/",I4) -> $/ | N4: =L4/J4 -> #DIV/0!
A5: Foil Pack Tuna | C5: =CONCATENATE(A5,"-",B5) -> Foil Pack Tuna- | D5: Get light tuna, not white tuna | E5: Walmart Grandview HWY | F5: In 2011 people reported that it was in stock | J5: =ROUND(G5/H5,3) -> #DIV/0! | K5: =_xlfn.CONCAT("$/",I5) -> $/
A6: Foil Pack Tuna | C6: =CONCATENATE(A6,"-",B6) -> Foil Pack Tuna- | D6: Get light tuna, not white tuna | E6: Safeway | F6: In 2015 some people reported in was stock Collingwood Safeway | G6: 2.29 | H6: 90 | I6: g | J6: =ROUND(G6/H6,3) -> 0.025 | K6: =_xlfn.CONCAT("$/",I6) -> $/g
A7: Foil Pack Tuna | C7: =CONCATENATE(A7,"-",B7) -> Foil Pack Tuna- | D7: Get light tuna, not white tuna | E7: IGA | F7: Online. | G7: 2.29 | H7: 100 | I7: g | J7: =ROUND(G7/H7,3) -> 0.023 | K7: =_xlfn.CONCAT("$/",I7) -> $/g
C8: =CONCATENATE(A8,"-",B8) -> - | J8: =ROUND(G8/H8,3) -> #DIV/0! | K8: =_xlfn.CONCAT("$/",I8) -> $/
A9: Foil Pack Salmon | C9: =CONCATENATE(A9,"-",B9) -> Foil Pack Salmon- | E9: Costco | F9: Available online. Expensive. | G9: N/A | H9: N/A | I9: N/A | J9: =ROUND(G9/H9,3) -> #VALUE! | K9: =_xlfn.CONCAT("$/",I9) -> $/N/A
A10: Foil Pack Salmon | B10: Y | C10: =CONCATENATE(A10,"-",B10) -> Foil Pack Salmon-Y | E10: MEC | F10: Available online. Available in person (usually) | G10: 12.5 | H10: 126 | I10: g | J10: =ROUND(G10/H10,3) -> 0.099 | K10: =_xlfn.CONCAT("$/",I10) -> $/g | Q10: =ISEVEN(CELL("row")) -> FALSE
A11: Foil Pack Salmon | C11: =CONCATENATE(A11,"-",B11) -> Foil Pack Salmon- | E11: Meinhardt Fine Foods | F11: Used to be available in store. Need to check again. | J11: =ROUND(G11/H11,3) -> #DIV/0! | K11: =_xlfn.CONCAT("$/",I11) -> $/
A12: Foil Pack Salmon | C12: =CONCATENATE(A12,"-",B12) -> Foil Pack Salmon- | E12: Choices | F12: Not online. Unsure if available in person.
C13: =CONCATENATE(A13,"-",B13) -> -
A14: Snickers Bar | C14: =CONCATENATE(A14,"-",B14) -> Snickers Bar- | E14: Superstore | G14: 1.18 | H14: 52 | I14: g | J14: =ROUND(G14/H14,3) -> 0.023 | K14: =_xlfn.CONCAT("$/",I14) -> $/g | N14: 100 | O14: =N14*G14 -> 118
A15: Snickers Bar | B15: Y | C15: =CONCATENATE(A15,"-",B15) -> Snickers Bar-Y | E15: Superstore | G15: 2.97 | H15: 208 | I15: g | J15: =ROUND(G15/H15,3) -> 0.014 | K15: =_xlfn.CONCAT("$/",I15) -> $/g | N15: =100/4 -> 25 | O15: =N15*G15 -> 74.25
A16: Snickers Bar | C16: =CONCATENATE(A16,"-",B16) -> Snickers Bar- | E16: Walmart Grandview HWY | G16: 3.98 | H16: 208 | I16: g | J16: =ROUND(G16/H16,3) -> 0.019 | K16: =_xlfn.CONCAT("$/",I16) -> $/g | N16: =100/4 -> 25 | O16: =N16*G16 -> 99.5
A17: Snickers Bar | C17: =CONCATENATE(A17,"-",B17) -> Snickers Bar- | E17: Amazon | G17: 89 | H17: =48*52 -> 2496 | I17: g | J17: =ROUND(G17/H17,3) -> 0.036 | K17: =_xlfn.CONCAT("$/",I17) -> $/g
A18: Snickers Bar | C18: =CONCATENATE(A18,"-",B18) -> Snickers Bar- | D18: 2 pack (48) | E18: Amazon | G18: 97 | H18: =2*48*52 -> 4992 | I18: g | J18: =ROUND(G18/H18,3) -> 0.019 | K18: =_xlfn.CONCAT("$/",I18) -> $/g
A19: Snickers Bar | C19: =CONCATENATE(A19,"-",B19) -> Snickers Bar- | D19: 4 pack (48) | E19: Amazon | G19: 118 | H19: =4*48*52 -> 9984 | I19: g | J19: =ROUND(G19/H19,3) -> 0.012 | K19: =_xlfn.CONCAT("$/",I19) -> $/g
A20: Snickers Bar | C20: =CONCATENATE(A20,"-",B20) -> Snickers Bar- | D20: 4x 6 packs | E20: Amazon | G20: 26 | H20: =6*4*52 -> 1248 | I20: g | J20: =ROUND(G20/H20,3) -> 0.021 | K20: =_xlfn.CONCAT("$/",I20) -> $/g
A21: Snickers Bar | C21: =CONCATENATE(A21,"-",B21) -> Snickers Bar- | D21: 48 pack | E21: Amazon | G21: 54 | H21: =48*52 -> 2496 | I21: g | J21: =ROUND(G21/H21,3) -> 0.022 | K21: =_xlfn.CONCAT("$/",I21) -> $/g
A22: Snickers Bar | C22: =CONCATENATE(A22,"-",B22) -> Snickers Bar- | E22: https://www.amazon.ca/Snickers-Chocolate-4-Pack-208g/dp/B00LAEGA3G/ref=sr_1_1?s=grocery&ie=UTF8&qid=1517863885&sr=1-1&keywords=snickers | G22: 3.98 | H22: =52*4 -> 208 | I22: g | J22: =ROUND(G22/H22,3) -> 0.019 | K22: =_xlfn.CONCAT("$/",I22) -> $/g
A23: Snickers Bar | C23: =CONCATENATE(A23,"-",B23) -> Snickers Bar- | E23: CandyFunHouse | G23: 61.5 | H23: =48*52 -> 2496 | I23: g | J23: =ROUND(G23/H23,3) -> 0.025 | K23: =_xlfn.CONCAT("$/",I23) -> $/g
A24: Snickers Bar | C24: =CONCATENATE(A24,"-",B24) -> Snickers Bar-
A25: Snickers Bar | C25: =CONCATENATE(A25,"-",B25) -> Snickers Bar-
A26: Snickers Bar | C26: =CONCATENATE(A26,"-",B26) -> Snickers Bar-
A27: Snickers Bar | C27: =CONCATENATE(A27,"-",B27) -> Snickers Bar-
C28: =CONCATENATE(A28,"-",B28) -> -
A29: Foil Pack Chicken | C29: =CONCATENATE(A29,"-",B29) -> Foil Pack Chicken-
C30: =CONCATENATE(A30,"-",B30) -> -
A31: Instant Rice | C31: =CONCATENATE(A31,"-",B31) -> Instant Rice - | E31: Superstore | F31: Presidents Choice Instant Rice | G31: 7.28 | H31: 2.6 | I31: kg | J31: =ROUND(G31/H31,3) -> 2.8 | K31: =_xlfn.CONCAT("$/",I31) -> $/kg
A32: Instant Rice | C32: =CONCATENATE(A32,"-",B32) -> Instant Rice - | E32: Superstore | F32: Minute Rice | G32: 7.78 | H32: 2.6 | I32: kg | J32: =ROUND(G32/H32,3) -> 2.992 | K32: =_xlfn.CONCAT("$/",I32) -> $/kg
A33: Instant Rice | C33: =CONCATENATE(A33,"-",B33) -> Instant Rice - | E33: Walmart Grandview HWY | F33: Great Value Instant Rice | G33: 4.47 | H33: 1.4 | I33: kg | J33: =ROUND(G33/H33,3) -> 3.193 | K33: =_xlfn.CONCAT("$/",I33) -> $/kg
C34: =CONCATENATE(A34,"-",B34) -> -
A35: Fritos | C35: =CONCATENATE(A35,"-",B35) -> Fritos- | E35: Superstore | G35: 3.78 | H35: 370 | I35: g | J35: =ROUND(G35/H35,3) -> 0.01 | K35: =_xlfn.CONCAT("$/",I35) -> $/g
A36: Fritos | C36: =CONCATENATE(A36,"-",B36) -> Fritos- | E36: Walmart Grandview HWY
C37: =CONCATENATE(A37,"-",B37) -> -
C38: =CONCATENATE(A38,"-",B38) -> -
A39: Rice Noodles | C39: =CONCATENATE(A39,"-",B39) -> Rice Noodles-
C40: =CONCATENATE(A40,"-",B40) -> -
A41: Instant Beans (whole or refried) | C41: =CONCATENATE(A41,"-",B41) -> Instant Beans (whole or refried)-
C42: =CONCATENATE(A42,"-",B42) -> -
A43: Instant Potato | C43: =CONCATENATE(A43,"-",B43) -> Instant Potato-
C44: =CONCATENATE(A44,"-",B44) -> -
A45: Cheese Powder | C45: =CONCATENATE(A45,"-",B45) -> Cheese Powder-
C46: =CONCATENATE(A46,"-",B46) -> -
A47: Dehydrated Whole Milk | C47: =CONCATENATE(A47,"-",B47) -> Dehydrated Whole Milk-
C48: =CONCATENATE(A48,"-",B48) -> -
A49: Rice Ramen Noodle and Miso | C49: =CONCATENATE(A49,"-",B49) -> Rice Ramen Noodle and Miso-
C50: =CONCATENATE(A50,"-",B50) -> -
A51: Parmasan Cheese Flakes | C51: =CONCATENATE(A51,"-",B51) -> Parmasan Cheese Flakes-
C52: =CONCATENATE(A52,"-",B52) -> -
A53: Sun Dried Tomatos | C53: =CONCATENATE(A53,"-",B53) -> Sun Dried Tomatos-
C54: =CONCATENATE(A54,"-",B54) -> -
A55: Garlic Powder | C55: =CONCATENATE(A55,"-",B55) -> Garlic Powder- | D55: Dehydrated garlic
C56: =CONCATENATE(A56,"-",B56) -> -
A57: basil | C57: =CONCATENATE(A57,"-",B57) -> basil-
C58: =CONCATENATE(A58,"-",B58) -> -
A59: Protein Granola Bar | C59: =CONCATENATE(A59,"-",B59) -> Protein Granola Bar- | D59: Or any breakfast bar
C60: =CONCATENATE(A60,"-",B60) -> -
A61: Almond Bar | C61: =CONCATENATE(A61,"-",B61) -> Almond Bar- | E61: https://www.amazon.ca/Hersheys-Milk-Chocolate-Almonds-172-Gram/dp/B01K6QIEK0/ref=sr_1_27?ie=UTF8&qid=1518308067&sr=8-27&keywords=hersheys | G61: 3.97 | H61: =43*4 -> 172 | I61: g | J61: =ROUND(G61/H61,3) -> 0.023 | K61: =CONCATENATE("$/",I61) -> $/g | N61: =L61/J61 -> 0
A62: Almond Bar | C62: =CONCATENATE(A62,"-",B62) -> Almond Bar- | E62: https://www.amazon.ca/Hersheys-Almond-Bar-Pack-6/dp/B01K6QDF4U/ref=pd_sim_325_36?_encoding=UTF8&psc=1&refRID=NBK3Q4ZK8E04FWAR0ETF | G62: 7.81 | H62: =6*43 -> 258 | I62: g | J62: =ROUND(G62/H62,3) -> 0.03 | K62: =CONCATENATE("$/",I62) -> $/g
A63: Almond Bar | C63: =CONCATENATE(A63,"-",B63) -> Almond Bar- | E63: Walmart | G63: 4.12 | H63: =43*4 -> 172 | I63: g | J63: =ROUND(G63/H63,3) -> 0.024 | K63: =CONCATENATE("$/",I63) -> $/g
A64: Almond Bar | C64: =CONCATENATE(A64,"-",B64) -> Almond Bar- | E64: Walmart | G64: 2.38 | H64: 100 | I64: g | J64: =ROUND(G64/H64,3) -> 0.024 | K64: =CONCATENATE("$/",I64) -> $/g
A65: Almond Bar | C65: =CONCATENATE(A65,"-",B65) -> Almond Bar- | D65: $10 off $99 | E65: CandyFunHouse | G65: 46 | H65: =36*43 -> 1548 | I65: g | J65: =ROUND(G65/H65,3) -> 0.03 | K65: =CONCATENATE("$/",I65) -> $/g
A66: Almond Bar | C66: =CONCATENATE(A66,"-",B66) -> Almond Bar- | E66: Safeway | G66: 4.29 | H66: =4*43 -> 172 | I66: g | J66: =ROUND(G66/H66,3) -> 0.025 | K66: =CONCATENATE("$/",I66) -> $/g
A67: Almond Bar | B67: Y | C67: =CONCATENATE(A67,"-",B67) -> Almond Bar-Y | E67: Superstore | G67: 0.88 | H67: 43 | I67: g | J67: =ROUND(G67/H67,3) -> 0.02 | K67: =CONCATENATE("$/",I67) -> $/g
C68: =CONCATENATE(A68,"-",B68) -> - | J68: =ROUND(G68/H68,3) -> #DIV/0! | K68: =CONCATENATE("$/",I68) -> $/
C69: =CONCATENATE(A69,"-",B69) -> - | J69: =ROUND(G69/H69,3) -> #DIV/0! | K69: =CONCATENATE("$/",I69) -> $/
C70: =CONCATENATE(A70,"-",B70) -> - | J70: =ROUND(G70/H70,3) -> #DIV/0! | K70: =CONCATENATE("$/",I70) -> $/
C71: =CONCATENATE(A71,"-",B71) -> - | J71: =ROUND(G71/H71,3) -> #DIV/0! | K71: =CONCATENATE("$/",I71) -> $/
C72: =CONCATENATE(A72,"-",B72) -> - | J72: =ROUND(G72/H72,3) -> #DIV/0! | K72: =CONCATENATE("$/",I72) -> $/
C73: =CONCATENATE(A73,"-",B73) -> - | J73: =ROUND(G73/H73,3) -> #DIV/0! | K73: =CONCATENATE("$/",I73) -> $/
C74: =CONCATENATE(A74,"-",B74) -> - | J74: =ROUND(G74/H74,3) -> #DIV/0! | K74: =CONCATENATE("$/",I74) -> $/
C75: =CONCATENATE(A75,"-",B75) -> - | J75: =ROUND(G75/H75,3) -> #DIV/0! | K75: =CONCATENATE("$/",I75) -> $/
C76: =CONCATENATE(A76,"-",B76) -> - | J76: =ROUND(G76/H76,3) -> #DIV/0! | K76: =CONCATENATE("$/",I76) -> $/
C77: =CONCATENATE(A77,"-",B77) -> - | J77: =ROUND(G77/H77,3) -> #DIV/0! | K77: =CONCATENATE("$/",I77) -> $/
C78: =CONCATENATE(A78,"-",B78) -> - | J78: =ROUND(G78/H78,3) -> #DIV/0! | K78: =CONCATENATE("$/",I78) -> $/
C79: =CONCATENATE(A79,"-",B79) -> - | J79: =ROUND(G79/H79,3) -> #DIV/0! | K79: =CONCATENATE("$/",I79) -> $/
... C86: =CONCATENATE(A86,"-",B86) -> - | J86: =ROUND(G86/H86,3) -> #DIV/0! | K86: =CONCATENATE("$/",I86) -> $/

Sheet JMT Shopping List Conversion
A1: Ingredients | B1: Serving Unit | C1: Calories | D1: Shopping List | E1: Typ. Units | G1: MERCHANT | H1: CONVERSIONS
A2: Instant Rice | B2: cup | C2: 320 | D2: 24 | E2: =D2 -> 24 | F2: =B2 -> cup | G2: Superstore/ No Frills | H2: Gummy Bear | I2: =C39/4 -> 2.25 | J2: grams/piece
A3: Foil Pack Tuna | B3: package | C3: 130 | D3: 24 | E3: =D3 -> 24 | F3: =B3 -> package | G3: http://www.amazon.com/gp/offer-listing/B00374QXAC/ref=dp_olp_new_mbc?ie=UTF8&condition=new | H3: Parmasean Cheese | I3: 5 | J3: grams/tsp
A4: Parmasan Cheese Flakes | B4: tablespoon | C4: 60 | D4: 102 | E4: =D4*I4*I3/1000 -> 1.53 | F4: kg | G4: Superstore/ No Frills | H4: Unit | I4: 3 | J4: tsp/tbspn
A5: Olive Oil | B5: tablespoon | C5: 120 | D5: 36 | E5: =D5*I5 -> 18 | F5: oz | G5: Superstore/ No Frills | H5: Unit | I5: 0.5 | J5: oz/tbspn
A6: Dehydrated Vegetables | B6: package | C6: 70 | D6: 16.5 | E6: =D6 -> 16.5 | F6: =B6 -> package | G6: MEC; Whole Foods; Online (Company I saw) | H6: Peanut Butter | I6: 14 | J6: g/tbspn
A7: Peanuts | B7: cup | C7: 828 | D7: 1.25 | E7: =D7 -> 1.25 | F7: =B7 -> cup | G7: Whole Foods | H7: Hummus Package | I7: 8 | J7: g/tbspn
A8: Instant Potato | B8: cup | C8: 200 | D8: 9 | E8: =D8 -> 9 | F8: =B8 -> cup | G8: Superstore/ No Frills/ Whole Foods if for Kyle
A9: Rice Noodles | B9: cup | C9: 140 | D9: 0
A10: Dehydrated Whole Milk | B10: tablespoon | C10: 40 | D10: 9 | E10: =D10 -> 9 | F10: =B10 -> tablespoon | G10: Bulk Barn (Still Have Some) | H10: **PLUS SOME FOR COFFEE/ DRINKS
A11: Cheese Powder | B11: tablespoon | D11: 0
A12: Foil Pack Chicken | B12: package | C12: 280 | D12: 0
A13: Curry Spice | B13: tablespoon | C13: 20 | D13: 0
A14: Chocolate Almonds | B14: cup | C14: 230 | D14: 1.25 | E14: =D14 -> 1.25 | F14: =B14 -> cup | G14: Whole Foods
A15: Chicken Broth | B15: cube | C15: 30 | D15: 3 | E15: =D15 -> 3 | F15: =B15 -> cube | G15: Superstore/ No Frills
A16: Dehydrated Onion | B16: tablespoon | C16: 17 | D16: 9 | E16: play loose with this one | G16: Superstore/ No Frills
A17: Foil Pack Salmon | B17: package | C17: 240 | D17: 12 | E17: =D17 -> 12 | F17: =B17 -> package | G17: MEC; or Amazon
A18: Tortilla (Wrap) | B18: piece | C18: 90 | D18: 32 | E18: =D18 -> 32 | F18: =B18 -> piece | G18: Greens
A19: Peanut Butter | B19: tablespoon | C19: 94 | D19: 64 | E19: =D19*I6/1000 -> 0.896 | F19: kg | G19: Superstore/ No Frills | H19: Get two or three 0.5 kg sized ones. Carry one. Ship the others.
A20: Dried cranberries | B20: tablespoon | C20: 7 | D20: 37 | E20: =D20 -> 37 | F20: =B20 -> tablespoon | G20: Whole Foods
A21: Chocolate Chips | B21: tablespoon | C21: 80 | D21: 50 | E21: =D21 -> 50 | F21: =B21 -> tablespoon | G21: Whole Foods
A22: Slice of Salami | B22: piece | C22: 77 | D22: 0
A23: Slice of Cheese | B23: piece | C23: 40 | D23: 0
A24: Oatmeal | B24: cup | C24: 339 | D24: 36 | E24: =D24 -> 36 | F24: =B24 -> cup | G24: Whole Foods/ Greens
A25: Banana Chips | B25: tablespoon | C25: 109 | D25: 23 | E25: =D25 -> 23 | F25: =B25 -> tablespoon | G25: Whole Foods
A26: Brown sugar | B26: tablespoon | C26: 52 | D26: 18 | E26: =D26 -> 18 | F26: =B26 -> tablespoon | G26: Superstore/ No Frills/ Home
A27: Tortilla (Chips) | B27: cup | C27: 293 | D27: 24 | E27: =D27 -> 24 | F27: =B27 -> cup | G27: Superstore/ No Frills
A28: Dehydrated Hummus | B28: tablespoon | C28: 22.5 | D28: 24 | E28: =D28*I7 -> 192 | F28: grams | G28: ?
A29: Snickers Bar | B29: piece | C29: 250 | D29: 48 | E29: =D29 -> 48 | F29: =B29 -> piece | G29: Superstore/ No Frills
A30: Cashews | B30: cup | C30: 754 | D30: 1.25 | E30: =D30 -> 1.25 | F30: =B30 -> cup | G30: Whole Foods
A31: Annies Rice Pasta and Mac and Cheese | B31: package | C31: 230 | D31: 0
A32: Bacon Bits | B32: tablespoon | C32: 35 | D32: 24 | E32: =D32 -> 24 | F32: =B32 -> tablespoon | G32: Superstore/ No Frills
A33: Beef Jerky | B33: piece | C33: 25 | D33: 220 | E33: =D33 -> 220 | F33: =B33 -> piece | G33: Superstore/ No Frills
A34: Couscous | B34: cup | C34: 540 | D34: 0
A35: Chicken Gravy | B35: 1/4 package | C35: 20 | D35: 0
A36: Rice Ramen Noodle and Miso | B36: package (cup) | C36: 280 | D36: 3 | E36: =D36 -> 3 | F36: =B36 -> package (cup) | G36: Greens/ Whole Foods
A37: Dried Mango | B37: piece | C37: 16 | D37: 5 | E37: =D37 -> 5 | F37: =B37 -> piece | G37: Whole Foods
A38: Nothing/ Zero | B38: piece | C38: 0 | D38: 0
A39: Gummy Bears | B39: piece | C39: 9 | D39: 1100 | E39: =D39*I2/1000 -> 2.475 | F39: kg | G39: Superstore/ No Frills (Bulk Section)
D40: 0
D41: 0
D42: 0
D43: 0
D44: 0
D45: 0
D46: 0
D47: 0
D48: 0
A52: THIS LIST IS NOT DYNAMIC. UPDATE THIS IF YOU UPDATE THE MEAL PLAN

Sheet JMT Shopping List 2015-06-15
A1: Ingredients | B1: Serving Unit | C1: Calories | D1: Shopping List | E1: Typ. Units | G1: MERCHANT | H1: Current Qty (Incl On Order) | I1: Qty To Order | J1: CONVERSIONS
A2: Instant Rice | B2: cup | C2: 320 | D2: 21 | E2: =D2 -> 21 | F2: =B2 -> cup | G2: Superstore/ No Frills | I2: =E2-H2 -> 21 | J2: Gummy Bear | K2: =C39/4 -> 2.25 | L2: grams/piece
A3: Foil Pack Tuna | B3: package | C3: 130 | D3: 23 | E3: =D3 -> 23 | F3: =B3 -> package | G3: http://www.amazon.com/gp/offer-listing/B00374QXAC/ref=dp_olp_new_mbc?ie=UTF8&condition=new | H3: 27 | I3: =E3-H3 -> -4 | J3: Parmasean Cheese | K3: 5 | L3: grams/tsp
A4: Parmasan Cheese Flakes | B4: tablespoon | C4: 60 | D4: 93 | E4: =D4*K4*K3/1000 -> 1.395 | F4: kg | G4: Superstore/ No Frills | I4: =E4-H4 -> 1.395 | J4: Unit | K4: 3 | L4: tsp/tbspn
A5: Olive Oil | B5: tablespoon | C5: 120 | D5: 33 | E5: =D5*K5 -> 16.5 | F5: oz | G5: Superstore/ No Frills | I5: =E5-H5 -> 16.5 | J5: Unit | K5: 0.5 | L5: oz/tbspn
A6: Dehydrated Vegetables | B6: package | C6: 70 | D6: 15 | E6: =D6 -> 15 | F6: =B6 -> package | G6: MEC; Whole Foods; Online (Company I saw) | H6: 12 | I6: =E6-H6 -> 3 | J6: Peanut Butter | K6: 14 | L6: g/tbspn
A7: Peanuts | B7: cup | C7: 828 | D7: 1.25 | E7: =D7 -> 1.25 | F7: =B7 -> cup | G7: Whole Foods | I7: =E7-H7 -> 1.25 | J7: Hummus Package | K7: 8 | L7: g/tbspn
A8: Instant Potato | B8: cup | C8: 200 | D8: 9 | E8: =D8 -> 9 | F8: =B8 -> cup | G8: Superstore/ No Frills/ Whole Foods if for Kyle | I8: =E8-H8 -> 9
A9: Rice Noodles | B9: cup | C9: 140 | D9: 0
A10: Dehydrated Whole Milk | B10: tablespoon | C10: 40 | D10: 9 | E10: =D10 -> 9 | F10: =B10 -> tablespoon | G10: Bulk Barn (Still Have Some) | H10: 10 | I10: =E10-H10 -> -1 | J10: **PLUS SOME FOR COFFEE/ DRINKS
A11: Cheese Powder | B11: tablespoon | D11: 0
A12: Foil Pack Chicken | B12: package | C12: 280 | D12: 0
A13: Curry Spice | B13: tablespoon | C13: 20 | D13: 0
A14: Chocolate Almonds | B14: cup | C14: 230 | D14: 1.25 | E14: =D14 -> 1.25 | F14: =B14 -> cup | G14: Whole Foods | I14: =E14-H14 -> 1.25
A15: Chicken Broth | B15: cube | C15: 30 | D15: 3 | E15: =D15 -> 3 | F15: =B15 -> cube | G15: Superstore/ No Frills | I15: =E15-H15 -> 3
A16: Dehydrated Onion | B16: tablespoon | C16: 17 | D16: 7 | E16: TBD | G16: Superstore/ No Frills | I16: =E16-H16 -> #VALUE!
A17: Foil Pack Salmon | B17: package | C17: 240 | D17: 10 | E17: =D17 -> 10 | F17: =B17 -> package | G17: MEC; or Amazon | H17: =2+8 -> 10 | I17: =E17-H17 -> 0
A18: Tortilla (Wrap) | B18: piece | C18: 90 | D18: 32 | E18: =D18 -> 32 | F18: =B18 -> piece | G18: Greens | I18: =E18-H18 -> 32
A19: Peanut Butter | B19: tablespoon | C19: 94 | D19: 64 | E19: =D19*K6/1000 -> 0.896 | F19: kg | G19: Superstore/ No Frills | I19: =E19-H19 -> 0.896 | J19: Get two or three 0.5 kg sized ones. Carry one. Ship the others.
A20: Dried cranberries | B20: tablespoon | C20: 7 | D20: 37 | E20: =D20 -> 37 | F20: =B20 -> tablespoon | G20: Whole Foods | I20: =E20-H20 -> 37
A21: Chocolate Chips | B21: tablespoon | C21: 80 | D21: 50 | E21: =D21 -> 50 | F21: =B21 -> tablespoon | G21: Whole Foods | I21: =E21-H21 -> 50
A22: Slice of Salami | B22: piece | C22: 77 | D22: 0
A23: Slice of Cheese | B23: piece | C23: 40 | D23: 0
A24: Oatmeal | B24: cup | C24: 339 | D24: 36 | E24: =D24 -> 36 | F24: =B24 -> cup | G24: Whole Foods/ Greens | I24: =E24-H24 -> 36
A25: Banana Chips | B25: tablespoon | C25: 109 | D25: 23 | E25: =D25 -> 23 | F25: =B25 -> tablespoon | G25: Whole Foods | I25: =E25-H25 -> 23
A26: Brown sugar | B26: tablespoon | C26: 52 | D26: 18 | E26: =D26 -> 18 | F26: =B26 -> tablespoon | G26: Superstore/ No Frills/ Home | I26: =E26-H26 -> 18
A27: Tortilla (Chips) | B27: cup | C27: 293 | D27: 24 | E27: =D27 -> 24 | F27: =B27 -> cup | G27: Superstore/ No Frills | I27: =E27-H27 -> 24
A28: Dehydrated Hummus | B28: tablespoon | C28: 22.5 | D28: 24 | E28: =D28*K7 -> 192 | F28: grams | G28: ? | I28: =E28-H28 -> 192
A29: Snickers Bar | B29: piece | C29: 250 | D29: 36 | E29: =D29 -> 36 | F29: =B29 -> piece | G29: Superstore/ No Frills | I29: =E29-H29 -> 36
A30: Cashews | B30: cup | C30: 754 | D30: 1.25 | E30: =D30 -> 1.25 | F30: =B30 -> cup | G30: Whole Foods | I30: =E30-H30 -> 1.25
A31: Annies Rice Pasta and Mac and Cheese | B31: package | C31: 230 | D31: 0
A32: Bacon Bits | B32: tablespoon | C32: 35 | D32: 23 | E32: =D32 -> 23 | F32: =B32 -> tablespoon | G32: Superstore/ No Frills | I32: =E32-H32 -> 23
A33: Beef Jerky | B33: piece | C33: 25 | D33: 220 | E33: =D33 -> 220 | F33: =B33 -> piece | G33: Superstore/ No Frills | I33: =E33-H33 -> 220
A34: Couscous | B34: cup | C34: 540 | D34: 0
A35: Chicken Gravy | B35: 1/4 package | C35: 20 | D35: 0
A36: Rice Ramen Noodle and Miso | B36: package (cup) | C36: 280 | D36: 3 | E36: =D36 -> 3 | F36: =B36 -> package (cup) | G36: Greens/ Whole Foods | H36: 4 | I36: =E36-H36 -> -1
A37: Dried Mango | B37: piece | C37: 16 | D37: 5 | E37: =D37 -> 5 | F37: =B37 -> piece | G37: Whole Foods | I37: =E37-H37 -> 5
A38: Nothing/ Zero | B38: piece | C38: 0 | D38: 0
A39: Gummy Bears | B39: piece | C39: 9 | D39: 1100 | E39: =D39*K2/1000 -> 2.475 | F39: kg | G39: Superstore/ No Frills (Bulk Section) | I39: =E39-H39 -> 2.475
A40: Dehydrated Chicken | B40: package (35 g) | C40: 90 | D40: 0
A41: Dehydrated Beef | B41: 1/2 package (28) | C41: 70 | D41: 0
A42: Alpine Aire Guacamole and Chips | B42: package | C42: 380 | D42: 24 | E42: =D42 -> 24 | H42: 24 | I42: =E42-H42 -> 0
A43: Garlic Powder | B43: tspn | C43: 0 | D43: 24 | E43: =D43 -> 24 | I43: =E43-H43 -> 24
D44: 0
D45: 0
D46: 0
D47: 0
D48: 0
A52: THIS LIST IS NOT DYNAMIC. UPDATE THIS IF YOU UPDATE THE MEAL PLAN

Sheet JMT Shopping List 2015-06-15.2
A1: Ingredients | B1: Serving Unit | C1: Calories | D1: Shopping List | E1: Typ. Units | G1: MERCHANT | H1: Current Qty (Incl On Order) | I1: Qty To Order | J1: CONVERSIONS
A2: Instant Rice | B2: cup | C2: 320 | D2: 24 | E2: =D2 -> 24 | F2: =B2 -> cup | G2: Superstore/ No Frills | H2: 2 | I2: =E2-H2 -> 22 | J2: Gummy Bear | K2: =C39/4 -> 2.25 | L2: grams/piece
A3: Foil Pack Tuna | B3: package | C3: 130 | D3: 23 | E3: =D3 -> 23 | F3: =B3 -> package | G3: http://www.amazon.com/gp/offer-listing/B00374QXAC/ref=dp_olp_new_mbc?ie=UTF8&condition=new | H3: 27 | I3: =E3-H3 -> -4 | J3: Parmasean Cheese | K3: 5 | L3: grams/tsp
A4: Parmasan Cheese Flakes | B4: tablespoon | C4: 60 | D4: 93 | E4: =D4*K4*K3/1000 -> 1.395 | F4: kg | G4: Superstore/ No Frills | H4: 0.072 | I4: =E4-H4 -> 1.323 | J4: Unit | K4: 3 | L4: tsp/tbspn
A5: Olive Oil | B5: tablespoon | C5: 120 | D5: 33 | E5: =D5*K5 -> 16.5 | F5: oz | G5: Superstore/ No Frills | H5: =33/3 -> 11 | I5: =E5-H5 -> 5.5 | J5: Unit | K5: 0.5 | L5: oz/tbspn
A6: Dehydrated Vegetables | B6: package | C6: 70 | D6: 16.5 | E6: =D6 -> 16.5 | F6: =B6 -> package | G6: MEC; Whole Foods; Online (Company I saw) | H6: 12 | I6: =E6-H6 -> 4.5 | J6: Peanut Butter | K6: 14 | L6: g/tbspn
A7: Peanuts | B7: cup | C7: 828 | D7: 1.25 | E7: =D7 -> 1.25 | F7: =B7 -> cup | G7: Whole Foods | H7: 0 | I7: =E7-H7 -> 1.25 | J7: Hummus Package | K7: 8 | L7: g/tbspn
A8: Instant Potato | B8: cup | C8: 200 | D8: 9 | E8: =D8 -> 9 | F8: =B8 -> cup | G8: Superstore/ No Frills/ Whole Foods if for Kyle | H8: 2 | I8: =E8-H8 -> 7
A9: Rice Noodles | B9: cup | C9: 140 | D9: 0
A10: Dehydrated Whole Milk | B10: tablespoon | C10: 40 | D10: 12 | E10: =D10 -> 12 | F10: =B10 -> tablespoon | G10: Bulk Barn (Still Have Some) | H10: 10 | I10: =E10-H10 -> 2 | J10: **PLUS SOME FOR COFFEE/ DRINKS
A11: Cheese Powder | B11: tablespoon | D11: 0
A12: Foil Pack Chicken | B12: package | C12: 280 | D12: 0
A13: Curry Spice | B13: tablespoon | C13: 20 | D13: 9 | I13: 2 package
A14: Chocolate Almonds | B14: cup | C14: 230 | D14: 1.25 | E14: =D14 -> 1.25 | F14: =B14 -> cup | G14: Whole Foods | H14: 2 | I14: =E14-H14 -> -0.75
A15: Chicken Broth | B15: cube | C15: 30 | D15: 9 | E15: =D15 -> 9 | F15: =B15 -> cube | G15: Superstore/ No Frills | H15: 2 | I15: =E15-H15 -> 7
A16: Dehydrated Onion | B16: tablespoon | C16: 17 | D16: 10 | E16: TBD | G16: Superstore/ No Frills | H16: 0 | I16: =E16-H16 -> #VALUE!
A17: Foil Pack Salmon | B17: package | C17: 240 | D17: 10 | E17: =D17 -> 10 | F17: =B17 -> package | G17: MEC; or Amazon | H17: =2+8 -> 10 | I17: =E17-H17 -> 0
A18: Tortilla (Wrap) | B18: piece | C18: 90 | D18: 32 | E18: =D18 -> 32 | F18: =B18 -> piece | G18: Greens | H18: 0 | I18: =E18-H18 -> 32
A19: Peanut Butter | B19: tablespoon | C19: 94 | D19: 64 | E19: =D19*K6/1000 -> 0.896 | F19: kg | G19: Superstore/ No Frills | H19: 0 | I19: =E19-H19 -> 0.896 | J19: Get two or three 0.5 kg sized ones. Carry one. Ship the others.
A20: Dried cranberries | B20: tablespoon | C20: 7 | D20: 37 | E20: =D20 -> 37 | F20: =B20 -> tablespoon | G20: Whole Foods | H20: 20 | I20: =E20-H20 -> 17
A21: Chocolate Chips | B21: tablespoon | C21: 80 | D21: 50 | E21: =D21 -> 50 | F21: =B21 -> tablespoon | G21: Whole Foods | H21: 12 | I21: =E21-H21 -> 38
A22: Slice of Salami | B22: piece | C22: 77 | D22: 0
A23: Slice of Cheese | B23: piece | C23: 40 | D23: 0
A24: Oatmeal | B24: cup | C24: 339 | D24: 36 | E24: =D24 -> 36 | F24: =B24 -> cup | G24: Whole Foods/ Greens | H24: 7 | I24: =E24-H24 -> 29
A25: Banana Chips | B25: tablespoon | C25: 109 | D25: 23 | E25: =D25 -> 23 | F25: =B25 -> tablespoon | G25: Whole Foods | H25: 3 | I25: =E25-H25 -> 20
A26: Brown sugar | B26: tablespoon | C26: 52 | D26: 18 | E26: =D26 -> 18 | F26: =B26 -> tablespoon | G26: Superstore/ No Frills/ Home | H26: 18 | I26: =E26-H26 -> 0
A27: Tortilla (Chips) | B27: cup | C27: 293 | D27: 24 | E27: =D27 -> 24 | F27: =B27 -> cup | G27: Superstore/ No Frills | H27: 0 | I27: =E27-H27 -> 24
A28: Dehydrated Hummus | B28: tablespoon | C28: 22.5 | D28: 24 | E28: =D28*K7 -> 192 | F28: grams | G28: ? | H28: 144 | I28: =E28-H28 -> 48
A29: Snickers Bar | B29: piece | C29: 250 | D29: 36 | E29: =D29 -> 36 | F29: =B29 -> piece | G29: Superstore/ No Frills | H29: 0 | I29: =E29-H29 -> 36
A30: Cashews | B30: cup | C30: 754 | D30: 1.25 | E30: =D30 -> 1.25 | F30: =B30 -> cup | G30: Whole Foods | H30: 1 | I30: =E30-H30 -> 0.25
A31: Annies Rice Pasta and Mac and Cheese | B31: package | C31: 230 | D31: 0
A32: Bacon Bits | B32: tablespoon | C32: 35 | D32: 23 | E32: =D32 -> 23 | F32: =B32 -> tablespoon | G32: Superstore/ No Frills | H32: 0 | I32: =E32-H32 -> 23
A33: Beef Jerky | B33: piece | C33: 25 | D33: 220 | E33: =D33 -> 220 | F33: =B33 -> piece | G33: Superstore/ No Frills | H33: 6 | I33: =E33-H33 -> 214
A34: Couscous | B34: cup | C34: 540 | D34: 0
A35: Chicken Gravy | B35: 1/4 package | C35: 20 | D35: 0
A36: Rice Ramen Noodle and Miso | B36: package (cup) | C36: 280 | D36: 3 | E36: =D36 -> 3 | F36: =B36 -> package (cup) | G36: Greens/ Whole Foods | H36: 4 | I36: =E36-H36 -> -1
A37: Dried Mango | B37: piece | C37: 16 | D37: 5 | E37: =D37 -> 5 | F37: =B37 -> piece | G37: Whole Foods | H37: 3 | I37: =E37-H37 -> 2
A38: Nothing/ Zero | B38: piece | C38: 0 | D38: 0
A39: Gummy Bears | B39: piece | C39: 9 | D39: 1100 | E39: =D39*K2/1000 -> 2.475 | F39: kg | G39: Superstore/ No Frills (Bulk Section) | H39: 0 | I39: =E39-H39 -> 2.475
A40: Dehydrated Chicken | B40: package (35 g) | C40: 90 | D40: 0
A41: Dehydrated Beef | B41: 1/2 package (28) | C41: 70 | D41: 6 | E41: =D41/2 -> 3 | F41: package | H41: 6 | I41: =E41-H41 -> -3
A42: Alpine Aire Guacamole and Chips | B42: package | C42: 380 | D42: 18 | E42: =D42 -> 18 | F42: package | H42: 24 | I42: =E42-H42 -> -6
A43: Garlic Powder | B43: tspn | C43: 0 | D43: 18 | E43: =D43 -> 18 | F43: tspn | H43: 18 | I43: =E43-H43 -> 0
D44: 0
D45: 0
D46: 0
D47: 0
D48: 0
A52: THIS LIST IS NOT DYNAMIC. UPDATE THIS IF YOU UPDATE THE MEAL PLAN

Sheet Mailing Estimates
A1: Leg | B1: Location | C1: Postal Code | D1: Days | E1: Est Volume Needed (L) | F1: Est Weight (lbs) | G1: Est Cost ($) | H1: Notes | J1: Est Vol/Day (L) | K1: 5
A2: 1 | B2: Waterton to Coleman | C2: n/a | D2: 7 | E2: =D2*$K$1 -> 35 | F2: =D2*$K$2 -> 28 | G2: 0 | H2: n/a - Bring food with us to the start | J2: Est Weight/day (lbs) | K2: 4
A3: 2 | B3: Coleman to Peter Lougheed | C3: T0K 0M0 | D3: 9 | E3: =D3*$K$1 -> 45 | F3: =D3*$K$2 -> 36 | G3: =32*2 -> 64 | H3: Assuming 2 XL boxes
A4: 3 | B4: Peter Lougheed to Banff | C4: T1W 1P1 | D4: 5 | E4: =D4*$K$1 -> 25 | F4: =D4*$K$2 -> 20 | G4: =33 -> 33 | H4: Assuming 1 XL box
A5: 4 | B5: Banff to Field | C5: T1L 1A0 | D5: 5 | E5: =D5*$K$1 -> 25 | F5: =D5*$K$2 -> 20 | G5: =33 -> 33 | H5: Assuming 1 XL box
A6: 5 | B6: Field to Crossing | C6: V0A 1G0 | D6: 4 | E6: =D6*$K$1 -> 20 | F6: =D6*$K$2 -> 16 | G6: 25 | H6: Assuming 1 XL box
A7: 6 | B7: Crossing to Jasper | C7: T0L 1E0 | D7: 7 | E7: =D7*$K$1 -> 35 | F7: =D7*$K$2 -> 28 | G7: =33+26 -> 59 | H7: Assuming 1 XL box and 1 L box
A8: 7 | B8: Jasper to Kakwa | C8: T0E 1E0 | D8: 10 | E8: =D8*$K$1 -> 50 | F8: =D8*$K$2 -> 40 | G8: =2*33 -> 66 | H8: Assuming 2 XL boxes
G9: =SUM(G2:G8) -> 280
